BEGIN:VCALENDAR
VERSION:2.0
CALSCALE:GREGORIAN
PRODID:adamgibbons/ics
METHOD:PUBLISH
X-PUBLISHED-TTL:PT1H
BEGIN:VEVENT
UID:857@keepkarlsruheboring.org
SUMMARY:KONZERT: Luicidal + Locomuerte
DTSTAMP:20260423T102322Z
DTSTART:20260312T180000Z
DTEND:20260312T180000Z
DESCRIPTION:Do\, 12.03.2026 KONZERT: Luicidal + Locomuerte Konzert präsenti
	ert von SAU e.V.\nEinlass: 19:00 Uhr | Beginn: 20:00 Uhr LUICIDAL spielt d
	ie ersten drei Alben der\nlegendären Punk-/Hardcore-/Metal-Band Suicidal T
	endencies aus Venice Beach.\nLuicidal kommt mit den Originalmitgliedern de
	r ST-Band nach Europa: Louiche\nMayorga\, Rocky George\, R.J. Herrera und 
	Sänger Mando Ochoa spielen die ersten\ndrei ST-Platten: Suicidal Tendencie
	s\, Join the Army und How Will I Laugh\nTomorrow. Das wird eine Nostalgier
	eise der Extraklasse für jeden Punkrocker\,\nHardcore- und Metal-Fan: S.T.
	!!! Support kommt von LOCOMUERTE LOCOMUERTE ist\neine Thrashpunk-Crossover
	-Chicano-Band aus Île-de-France\, die 2009 gegründet\nwurde und Einflüsse 
	von SUICIDAL TENDENCIES\, ANTHRAX\, AGNOSTIC FRONT und\nMOTÖRHEAD hat. Der
	 Gesang auf Spanisch mit einem ultragroovigen Latin Flow\nverleiht LOCOMUE
	RTE einen einzigartigen\, unwiderstehlichen und süchtig machenden\nSound.
URL:https://keepkarlsruheboring.org/event/konzert-luicidal-locomuerte
GEO:49.0056;8.42925
LOCATION:Alte Hackerei - Alter Schlachthof 11A 76131 Karlsruhe
STATUS:CONFIRMED
CATEGORIES:karlsrunruhe,test
X-ALT-DESC;FMTTYPE=text/html:Do, 12.03.2026<br>KONZERT: Luicidal + Locomuer
	te<br>Konzert präsentiert von SAU e.V.<br>Einlass: 19:00 Uhr | Beginn: 20:
	00 Uhr<br><br><br>LUICIDAL spielt die ersten drei Alben der legendären Pun
	k-/Hardcore-/Metal-Band Suicidal Tendencies aus Venice Beach.<br><br>Luici
	dal kommt mit den Originalmitgliedern der ST-Band nach Europa: Louiche May
	orga, Rocky George, R.J. Herrera und Sänger Mando Ochoa spielen die ersten
	 drei ST-Platten: Suicidal Tendencies, Join the Army und How Will I Laugh 
	Tomorrow.<br>Das wird eine Nostalgiereise der Extraklasse für jeden Punkro
	cker, Hardcore- und Metal-Fan: S.T.!!!<br><br>Support kommt von LOCOMUERTE
	<br>LOCOMUERTE ist eine Thrashpunk-Crossover-Chicano-Band aus Île-de-Franc
	e, die 2009 gegründet wurde und Einflüsse von SUICIDAL TENDENCIES, ANTHRAX
	, AGNOSTIC FRONT und MOTÖRHEAD hat. Der Gesang auf Spanisch mit einem ultr
	agroovigen Latin Flow verleiht LOCOMUERTE einen einzigartigen, unwidersteh
	lichen und süchtig machenden Sound.<br><br>
BEGIN:VALARM
ACTION:DISPLAY
DESCRIPTION:KONZERT: Luicidal + Locomuerte
TRIGGER:-PT1H
END:VALARM
END:VEVENT
END:VCALENDAR
