BEGIN:VCALENDAR
VERSION:2.0
CALSCALE:GREGORIAN
PRODID:adamgibbons/ics
METHOD:PUBLISH
X-PUBLISHED-TTL:PT1H
BEGIN:VEVENT
UID:788@keepkarlsruheboring.org
SUMMARY:KONZERT: One Hit! Wanda
DTSTAMP:20260423T102219Z
DTSTART:20260214T200000Z
DTEND:20260214T200000Z
DESCRIPTION:Sa\, 14.02.2026 KONZERT: One Hit! Wanda Konzert präsentiert von
	 SAU e.V. Einlass:\n20:00 Uhr | Beginn: 21:00 Uhr Wer ist Wanda? Macht Euc
	h selbst ein Bild. Wir\nsind es leid\, uns eine lustig\, beschwingt bemüht
	e\, zum tausendsten mal gelesene\nund eher peinlich langweilige Bandhistor
	ie aus der Leiste zu scheuern. Wir\nmachen einfach Musik\, die uns und ans
	cheinend auch Euch mal ein paar Stunden\nabholt und anschließend mit einem
	 kräftigen Tritt wieder in die Freiheit\nentlässt. Ok\, ein Wort zur Musik
	\, damit später keiner rumheult und behauptet\ner/sie/es hätten von nichts
	 gewußt. Wir machen Pop zu Punk/alternative Rock\,\nPunkrock bleibt Punkro
	ck und Rock ist Jacke wie Hose. Tickets gibt's an der\nAbendkasse!
URL:https://keepkarlsruheboring.org/event/konzert-one-hit-wanda
GEO:49.0056;8.42925
LOCATION:Alte Hackerei - Alter Schlachthof 11A 76131 Karlsruhe
STATUS:CONFIRMED
CATEGORIES:karlsrunruhe,test
X-ALT-DESC;FMTTYPE=text/html:Sa, 14.02.2026<br>KONZERT: One Hit! Wanda<br>K
	onzert präsentiert von SAU e.V.<br>Einlass: 20:00 Uhr | Beginn: 21:00 Uhr<
	br><br><br>Wer ist Wanda? Macht Euch selbst ein Bild. Wir sind es leid, un
	s eine lustig, beschwingt bemühte, zum tausendsten mal gelesene und eher p
	einlich langweilige Bandhistorie aus der Leiste zu scheuern. Wir machen ei
	nfach Musik, die uns und anscheinend auch Euch mal ein paar Stunden abholt
	 und anschließend mit einem kräftigen Tritt wieder in die Freiheit entläss
	t. Ok, ein Wort zur Musik, damit später keiner rumheult und behauptet er/s
	ie/es hätten von nichts gewußt. Wir machen Pop zu Punk/alternative Rock, P
	unkrock bleibt Punkrock und Rock ist Jacke wie Hose.<br><br>Tickets gibt's
	 an der Abendkasse!
BEGIN:VALARM
ACTION:DISPLAY
DESCRIPTION:KONZERT: One Hit! Wanda
TRIGGER:-PT1H
END:VALARM
END:VEVENT
END:VCALENDAR
