BEGIN:VCALENDAR
VERSION:2.0
CALSCALE:GREGORIAN
PRODID:adamgibbons/ics
METHOD:PUBLISH
X-PUBLISHED-TTL:PT1H
BEGIN:VEVENT
UID:821@keepkarlsruheboring.org
SUMMARY:KONZERT: pogendroblem
DTSTAMP:20260423T102208Z
DTSTART:20260227T180000Z
DTEND:20260227T180000Z
DESCRIPTION:Fr\, 27.02.2026 KONZERT: pogendroblem präsentiert von SAU e.V.\
	, SeaPunks\, Ox\nFanzine & livegigs.de und Audiolith Booking Einlass: 19:0
	0 Uhr | Beginn: 20:00\nUhr Gute News-Alarm: pogendroblem kündigen „Es kann
	 nicht immer so weitergehn“ -\nTour an! Am 27. 02.2026 bei uns! Great Resi
	gnation! Wie durch die Zeit der\nMonster (Antonio Gramsci) navigieren\, fr
	agen pogendroblem. Wie weiter machen\ngegen Faschisierung und Klimakrise? 
	Klar ist: Es kann nicht immer so\nweitergehen. pogendroblem sind obviously
	 (Post-)Punk\, poppige Niedlichkeit\,\nGarage Vibes\, ein bisschen Hamburg
	er Schule\, ein bisschen Kraut\, etwas düsterere\nGitarren und natürlich B
	rotschneidemaschine durch FX geballert. Inhaltlich geht\nes um um absurde 
	Alltagsgeschichten\, um Subjektivierung\, die nicht mehr zu\nfunktionieren
	 scheint. Um Fragmentierung von Gesellschaft\, Arbeitsbeziehungen\,\nder L
	inken. Ob AZ\, Preisverleihung\, Clubkonzert oder Sommerfestival:\npogendr
	oblem sind die Liveband\, die ihr schon immer gebraucht habt. Ihr neues\nA
	lbum „Great Resignation“ erscheint am 10.10.2025 via Kidnap Music und ist\
	nüberall vorbestellbar.
URL:https://keepkarlsruheboring.org/event/konzert-pogendroblem
GEO:49.0056;8.42925
LOCATION:Alte Hackerei - Alter Schlachthof 11A 76131 Karlsruhe
STATUS:CONFIRMED
CATEGORIES:karlsrunruhe,test
X-ALT-DESC;FMTTYPE=text/html:Fr, 27.02.2026<br>KONZERT: pogendroblem<br>prä
	sentiert von SAU e.V., SeaPunks, Ox Fanzine & livegigs.de und Audiolith Bo
	oking<br>Einlass: 19:00 Uhr | Beginn: 20:00 Uhr<br><br><br>Gute News-Alarm
	: pogendroblem kündigen „Es kann nicht immer so weitergehn“ - Tour an! Am 
	27.<br>02.2026 bei uns!<br><br>Great Resignation! Wie durch die Zeit der M
	onster (Antonio Gramsci) navigieren, fragen pogendroblem. Wie weiter mache
	n gegen Faschisierung und Klimakrise? Klar ist: Es kann nicht immer so wei
	tergehen.<br><br>pogendroblem sind obviously (Post-)Punk, poppige Niedlich
	keit, Garage Vibes, ein bisschen Hamburger Schule, ein bisschen Kraut, etw
	as düsterere Gitarren und natürlich Brotschneidemaschine durch FX geballer
	t. Inhaltlich geht es um um absurde Alltagsgeschichten, um Subjektivierung
	, die nicht mehr zu funktionieren scheint. Um Fragmentierung von Gesellsch
	aft, Arbeitsbeziehungen, der Linken.<br><br>Ob AZ, Preisverleihung, Clubko
	nzert oder Sommerfestival: pogendroblem sind die Liveband, die ihr schon i
	mmer gebraucht habt.<br><br>Ihr neues Album „Great Resignation“ erscheint 
	am 10.10.2025 via Kidnap Music und ist überall vorbestellbar.
BEGIN:VALARM
ACTION:DISPLAY
DESCRIPTION:KONZERT: pogendroblem
TRIGGER:-PT1H
END:VALARM
END:VEVENT
END:VCALENDAR
