BEGIN:VCALENDAR
VERSION:2.0
CALSCALE:GREGORIAN
PRODID:adamgibbons/ics
METHOD:PUBLISH
X-PUBLISHED-TTL:PT1H
BEGIN:VEVENT
UID:868@keepkarlsruheboring.org
SUMMARY:KONZERT: Rancoeur + Down to Down
DTSTAMP:20260423T102326Z
DTSTART:20260314T190000Z
DTEND:20260314T190000Z
DESCRIPTION:Sa\, 14.03.2026 KONZERT: Rancoeur + Down to Down Konzert präsen
	tiert von SAU e.V.\nEinlass: 20:00 Uhr | Beginn: 21:00 Uhr Das 2020 in Nan
	cy gegründete Trio\nRancoeur kultiviert eine einzigartige Mischung verschi
	edener Genres. Zwischen\nPunk und Cold Wave\, Oi! und Post-Punk schafft di
	e Band einen düsteren\, nervösen\nSound\, der immer ein wenig schräg ist\,
	 als würde er jeden Moment aus der Bahn\ngeraten\, wo man es am wenigsten 
	erwartet. Nach vier Pressungen ihres ersten\nAlbums und mehreren internati
	onalen Tourneen kehrte die Band 2025 ins Studio\nzurück\, um die zehn neue
	n Titel ihres zweiten Albums Fatalité aufzunehmen.\nVeröffentlicht bei Lon
	gshot Records (USA)\, Contra Records (Deutschland)\, Kanal\nHystérik (Fran
	kreich) und TAE Records (Spanien)!
URL:https://keepkarlsruheboring.org/event/konzert-rancoeur-down-to-down
GEO:49.0056;8.42925
LOCATION:Alte Hackerei - Alter Schlachthof 11A 76131 Karlsruhe
STATUS:CONFIRMED
CATEGORIES:karlsrunruhe,test
X-ALT-DESC;FMTTYPE=text/html:Sa, 14.03.2026<br>KONZERT: Rancoeur + Down to 
	Down<br>Konzert präsentiert von SAU e.V.<br>Einlass: 20:00 Uhr | Beginn: 2
	1:00 Uhr<br><br><br>Das 2020 in Nancy gegründete Trio Rancoeur kultiviert 
	eine einzigartige Mischung verschiedener Genres. Zwischen Punk und Cold Wa
	ve, Oi! und Post-Punk schafft die Band einen düsteren, nervösen Sound, der
	 immer ein wenig schräg ist, als würde er jeden Moment aus der Bahn gerate
	n, wo man es am wenigsten erwartet.<br><br>Nach vier Pressungen ihres erst
	en Albums und mehreren internationalen Tourneen kehrte die Band 2025 ins S
	tudio zurück, um die zehn neuen Titel ihres zweiten Albums Fatalité aufzun
	ehmen. Veröffentlicht bei Longshot Records (USA), Contra Records (Deutschl
	and), Kanal Hystérik (Frankreich) und TAE Records (Spanien)!
BEGIN:VALARM
ACTION:DISPLAY
DESCRIPTION:KONZERT: Rancoeur + Down to Down
TRIGGER:-PT1H
END:VALARM
END:VEVENT
END:VCALENDAR
