BEGIN:VCALENDAR
VERSION:2.0
CALSCALE:GREGORIAN
PRODID:adamgibbons/ics
METHOD:PUBLISH
X-PUBLISHED-TTL:PT1H
BEGIN:VEVENT
UID:842@keepkarlsruheboring.org
SUMMARY:KONZERT: Shirley Holmes
DTSTAMP:20260423T102255Z
DTSTART:20260306T200000Z
DTEND:20260306T200000Z
DESCRIPTION:Fr\, 06.03.2026 KONZERT: Shirley Holmes Konzert präsentiert von
	 SAU e.V. Einlass:\n20:00 Uhr | Beginn: 21:00 Uhr SHIRLEY HOLMES drücken a
	b Sekunde 1 auf die Tube\nund stecken mit ihrer Live-Energie sofort an. Tu
	multige Battle-Gesangsparts und\nein unbestechlicher Komm-du-willst-es-doc
	h-auch-Charme treffen auf smart-rotzige\nTexte und treibende Melodien\, di
	e es dringend nahelegen zu tanzen. Nachzuhören\nauch auf den bisherigen kl
	angvoll betitelten Studioalben „Heavy Chansons“\,\n„Schnelle Nummern“\, „D
	ie Krone der Erschöpfung” und “Mein bestes Selbst”. Über\nviele Live-Konze
	rte hinweg haben SHIRLEY HOLMES in etlichen kleinen und großen\nClubs und 
	Festivals das ausgefeilt\, was Bühnenpräsenz genannt wird und Bands\nsuppo
	rtet wie Die Ärzte\, Beatsteaks\, Egotronic\, Alarmsignal u.v.m. File unde
	r:\n“Voll auf die 12”\, “Sport mit Gitarren” und “Breites Grinsen im Gesic
	ht”. Foto:\nChristoph Mangler
URL:https://keepkarlsruheboring.org/event/konzert-shirley-holmes
GEO:49.0056;8.42925
LOCATION:Alte Hackerei - Alter Schlachthof 11A 76131 Karlsruhe
STATUS:CONFIRMED
CATEGORIES:karlsrunruhe,test
X-ALT-DESC;FMTTYPE=text/html:Fr, 06.03.2026<br>KONZERT: Shirley Holmes<br>K
	onzert präsentiert von SAU e.V.<br>Einlass: 20:00 Uhr | Beginn: 21:00 Uhr<
	br><br><br>SHIRLEY HOLMES drücken ab Sekunde 1 auf die Tube und stecken mi
	t ihrer Live-Energie sofort an. Tumultige Battle-Gesangsparts und ein unbe
	stechlicher Komm-du-willst-es-doch-auch-Charme treffen auf smart-rotzige T
	exte und treibende Melodien, die es dringend nahelegen zu tanzen. Nachzuhö
	ren auch auf den bisherigen klangvoll betitelten Studioalben „Heavy Chanso
	ns“, „Schnelle Nummern“, „Die Krone der Erschöpfung” und “Mein bestes Selb
	st”. Über viele Live-Konzerte hinweg haben SHIRLEY HOLMES in etlichen klei
	nen und großen Clubs und Festivals das ausgefeilt, was Bühnenpräsenz genan
	nt wird und Bands supportet wie Die Ärzte, Beatsteaks, Egotronic, Alarmsig
	nal u.v.m. File under: “Voll auf die 12”, “Sport mit Gitarren” und “Breite
	s Grinsen im Gesicht”.<br><br>Foto: Christoph Mangler
BEGIN:VALARM
ACTION:DISPLAY
DESCRIPTION:KONZERT: Shirley Holmes
TRIGGER:-PT1H
END:VALARM
END:VEVENT
END:VCALENDAR
