BEGIN:VCALENDAR
VERSION:2.0
CALSCALE:GREGORIAN
PRODID:adamgibbons/ics
METHOD:PUBLISH
X-PUBLISHED-TTL:PT1H
BEGIN:VEVENT
UID:1275@keepkarlsruheboring.org
SUMMARY:Konzert: swinging jazz market . Fächerswing
DTSTAMP:20260423T104857Z
DTSTART:20260328T103000Z
DTEND:20260328T130000Z
DESCRIPTION:swinging jazz market . Fächerswing . Richard Hertel (sax) . Mar
	tin Wilhelmi (tb)\n. Daniel Salzmann (p) . David Peter (b) . Lennart Rathg
	eb (d) . Eintritt frei\n\n \n\nDer swinging jazz market bringt mit Fächers
	wing\n[https://www.instagram.com/faecherswing/] pure (Bewegungs-)Freude in
	 die\nHemingway Lounge. Das Karlsruher Quintett steht für tanzbaren\, swin
	genden Jazz\,\nder von den 1920er-Jahren bis in die Gegenwart reicht. Blue
	s\, klassischer Swing\nund jazzig interpretierte Filmmusik fließen mühelos
	 ineinander und erzeugen\neinen Sound\, der direkt ins Ohr geht – und norm
	alerweise auch in die Beine.\n\nWo Fächerswing spielt\, ist die Lindy-Hop-
	Szene meist nicht weit\, denn diese\nMusik lebt vom Groove und vom gemeins
	amen Puls. Für den jazz market an diesem\nVormittag präsentieren die Musik
	er eine fein ausgewählte Repertoiremischung\, die\nauch im Sitzen ihre Wir
	kung entfaltet. Mit Posaune\, Saxophon\, Klavier\, Bass und\nSchlagzeug en
	tsteht ein transparenter\, energiegeladener Bandsound.\n\n \n\nDer Eintrit
	t ist frei\, der swingende Musiker-Hut steht am Eingang für ein\nDankeschö
	n bereit.
URL:https://keepkarlsruheboring.org/event/konzert-swinging-jazz-market-fach
	erswing
GEO:49.0093;8.37476
LOCATION:Hemingway Lounge - 26\, Uhlandstraße\, Weststadt Südlicher Teil\, 
	Weststadt\, Karlsruhe\, Baden-Württemberg\, 76135\, Deutschland
STATUS:CONFIRMED
CATEGORIES:Concert,Jazz,Music
X-ALT-DESC;FMTTYPE=text/html:<p><strong>swinging jazz market . Fächerswing 
	. Richard Hertel (sax) . Martin Wilhelmi (tb) . Daniel Salzmann (p) . Davi
	d Peter (b) . Lennart Rathgeb (d) . Eintritt frei</strong></p><p>&nbsp;</p
	><p>Der swinging jazz market bringt mit <a href="https://www.instagram.com
	/faecherswing/" target="_blank">Fächerswing</a> pure (Bewegungs-)Freude in
	 die Hemingway Lounge. Das Karlsruher Quintett steht für tanzbaren, swinge
	nden Jazz, der von den 1920er-Jahren bis in die Gegenwart reicht. Blues, k
	lassischer Swing und jazzig interpretierte Filmmusik fließen mühelos inein
	ander und erzeugen einen Sound, der direkt ins Ohr geht – und normalerweis
	e auch in die Beine.</p><p>Wo Fächerswing spielt, ist die Lindy-Hop-Szene 
	meist nicht weit, denn diese Musik lebt vom Groove und vom gemeinsamen Pul
	s. Für den jazz market an diesem Vormittag präsentieren die Musiker eine f
	ein ausgewählte Repertoiremischung, die auch im Sitzen ihre Wirkung entfal
	tet. Mit Posaune, Saxophon, Klavier, Bass und Schlagzeug entsteht ein tran
	sparenter, energiegeladener Bandsound.</p><p>&nbsp;</p><p>Der Eintritt ist
	 frei, der swingende Musiker-Hut steht am Eingang für ein Dankeschön berei
	t.</p>
BEGIN:VALARM
ACTION:DISPLAY
DESCRIPTION:Konzert: swinging jazz market . Fächerswing
TRIGGER:-PT1H
END:VALARM
END:VEVENT
END:VCALENDAR
