BEGIN:VCALENDAR
VERSION:2.0
CALSCALE:GREGORIAN
PRODID:adamgibbons/ics
METHOD:PUBLISH
X-PUBLISHED-TTL:PT1H
BEGIN:VEVENT
UID:884@keepkarlsruheboring.org
SUMMARY:KONZERT: Tauben
DTSTAMP:20260423T102044Z
DTSTART:20260320T200000Z
DTEND:20260320T200000Z
DESCRIPTION:Fr\, 20.03.2026 KONZERT: Tauben Konzert präsentiert von SAU e.V
	. Einlass: 20:00\nUhr | Beginn: 21:00 Uhr Bisschen hässlich\, bisschen ran
	zig. Aber wunderschön.\nProjektionsfläche für den eigenen Daseinsekel und 
	Wappentier sozialer Devianz.\nDie Schäbigkeit schreit dir ins Gesicht. Abe
	r wer ist hier schäbig? Das\nDebutalbum von Tauben erscheint am 22.11.2024
	 im Amigowirtschaftssystem bei\nMajor Label und Misitunes (Hanseplatte). P
	roduziert von Moses Schneider und Jens\nRachut. Eine melancholisch urbane 
	Desillusion mit Pathos! Tauben kommen aus\nHamburg und machen sowas wie Wa
	ve Punk. Sie schleudern den geneigten Zuhörern\nmesserscharfe\, zynische u
	nd oft witzige Textfragmente entgegen\, zu\nzackig-punkigen Schrammelrhyth
	men\, die das kleine Kunstwerk vollbringen\, ebenso\nzum Nachdenken wie zu
	m Tanzen anzuregen. Alles nach dem Motto: Lieber die Taube\nauf dem Dach a
	ls den Spatz in der Hand! „Tauben schmelzen. Geschmolzen werden\nKäse\, Fr
	isuren\, Tanzbeine und Verklemmtsein – dann ist Ton an Ton brennen und\nha
	rt werden lassen angesagt. Danach wird wieder geschmolzen\, in den Strudel
	 der\nNeugierde und das hat was mit Physik zu tun.“ (Jens Rachut)
URL:https://keepkarlsruheboring.org/event/konzert-tauben
GEO:49.0056;8.42925
LOCATION:Alte Hackerei - Alter Schlachthof 11A 76131 Karlsruhe
STATUS:CONFIRMED
CATEGORIES:karlsrunruhe,test
X-ALT-DESC;FMTTYPE=text/html:Fr, 20.03.2026<br>KONZERT: Tauben<br>Konzert p
	räsentiert von SAU e.V.<br>Einlass: 20:00 Uhr | Beginn: 21:00 Uhr<br><br><
	br>Bisschen hässlich, bisschen ranzig. Aber wunderschön. Projektionsfläche
	 für den eigenen Daseinsekel und Wappentier sozialer Devianz. Die Schäbigk
	eit schreit dir ins Gesicht. Aber wer ist hier schäbig?<br><br>Das Debutal
	bum von Tauben erscheint am 22.11.2024 im Amigowirtschaftssystem bei Major
	 Label und Misitunes (Hanseplatte). Produziert von Moses Schneider und Jen
	s Rachut.<br><br>Eine melancholisch urbane Desillusion mit Pathos! Tauben 
	kommen aus Hamburg und machen sowas wie Wave Punk. Sie schleudern den gene
	igten Zuhörern messerscharfe, zynische und oft witzige Textfragmente entge
	gen, zu zackig-punkigen Schrammelrhythmen, die das kleine Kunstwerk vollbr
	ingen, ebenso zum Nachdenken wie zum Tanzen anzuregen. Alles nach dem Mott
	o: Lieber die Taube auf dem Dach als den Spatz in der Hand!<br><br>„Tauben
	 schmelzen. Geschmolzen werden Käse, Frisuren, Tanzbeine und Verklemmtsein
	 – dann ist Ton an Ton brennen und hart werden lassen angesagt. Danach wir
	d wieder geschmolzen, in den Strudel der Neugierde und das hat was mit Phy
	sik zu tun.“ (Jens Rachut)
BEGIN:VALARM
ACTION:DISPLAY
DESCRIPTION:KONZERT: Tauben
TRIGGER:-PT1H
END:VALARM
END:VEVENT
END:VCALENDAR
