BEGIN:VCALENDAR
VERSION:2.0
CALSCALE:GREGORIAN
PRODID:adamgibbons/ics
METHOD:PUBLISH
X-PUBLISHED-TTL:PT1H
BEGIN:VEVENT
UID:845@keepkarlsruheboring.org
SUMMARY:KONZERT: Uli Sailor Punk Rock Piano
DTSTAMP:20260423T104540Z
DTSTART:20260307T200000Z
DTEND:20260307T200000Z
DESCRIPTION:Sa\, 07.03.2026 KONZERT: Uli Sailor Punk Rock Piano Konzert prä
	sentiert von SAU\ne.V. Einlass: 20:00 Uhr | Beginn: 21:00 Uhr Uli Sailor b
	eweist seit über 30\nJahren\, dass Punkrock keine Stromgitarren braucht\, 
	um Köpfe und Herzen in\nBewegung zu setzen. Mit seinem „Punkrock Piano“ ve
	rwandelt er jede Bühne in\neinen Ort zwischen Abriss und Gänsehaut – allei
	n mit Stimme und Tasten schafft\ner\, was sonst eine ganze Band braucht. Ü
	ber 120 Konzerte\, von kleinen DIY-Läden\nbis Rock am Ring\, haben gezeigt
	: Hier passiert etwas Besonderes. Im Frühjahr\n2026 erscheint sein Debütal
	bum\, 10 Songs zwischen Punk\, Indie und persönlicher\nHymne. Wütend\, ver
	letzlich\, politisch – und immer voller Leidenschaft. Diese\nSongs präsent
	iert Uli im Rahmen seiner Tournee\, die man dringend besuchen\nsollte. Wer
	 ihn live erlebt\, versteht sofort: Das hier ist mehr als ein Konzert\,\nd
	as ist Punk in seiner persönlichsten Form. Hörproben findet ihr auf\npunkr
	ockpiano.com und allen gängigen Streamingportalen\, inklusive der ersten\n
	Single „Wenn ich mal groß bin“.
URL:https://keepkarlsruheboring.org/event/konzert-uli-sailor-punk-rock-pian
	o
GEO:49.0056;8.42925
LOCATION:Alte Hackerei - Alter Schlachthof 11A 76131 Karlsruhe
STATUS:CONFIRMED
CATEGORIES:karlsrunruhe,test
X-ALT-DESC;FMTTYPE=text/html:Sa, 07.03.2026<br>KONZERT: Uli Sailor Punk Roc
	k Piano<br>Konzert präsentiert von SAU e.V.<br>Einlass: 20:00 Uhr | Beginn
	: 21:00 Uhr<br><br><br>Uli Sailor beweist seit über 30 Jahren, dass Punkro
	ck keine Stromgitarren braucht, um Köpfe und Herzen in Bewegung zu setzen.
	 Mit seinem „Punkrock Piano“ verwandelt er jede Bühne in einen Ort zwische
	n Abriss und Gänsehaut – allein mit Stimme und Tasten schafft er, was sons
	t eine ganze Band braucht. Über 120 Konzerte, von kleinen DIY-Läden bis Ro
	ck am Ring, haben gezeigt: Hier passiert etwas Besonderes. Im Frühjahr 202
	6 erscheint sein Debütalbum, 10 Songs zwischen Punk, Indie und persönliche
	r Hymne. Wütend, verletzlich, politisch – und immer voller Leidenschaft. D
	iese Songs präsentiert Uli im Rahmen seiner Tournee, die man dringend besu
	chen sollte. Wer ihn live erlebt, versteht sofort: Das hier ist mehr als e
	in Konzert, das ist Punk in seiner persönlichsten Form. Hörproben findet i
	hr auf punkrockpiano.com und allen gängigen Streamingportalen, inklusive d
	er ersten Single „Wenn ich mal groß bin“.
BEGIN:VALARM
ACTION:DISPLAY
DESCRIPTION:KONZERT: Uli Sailor Punk Rock Piano
TRIGGER:-PT1H
END:VALARM
END:VEVENT
END:VCALENDAR
