BEGIN:VCALENDAR
VERSION:2.0
CALSCALE:GREGORIAN
PRODID:adamgibbons/ics
METHOD:PUBLISH
X-PUBLISHED-TTL:PT1H
BEGIN:VEVENT
UID:14@keepkarlsruheboring.org
SUMMARY:Konzert: WERNER BEKKER [12 € | 14 €]
DTSTAMP:20260423T104835Z
DTSTART:20250516T183000Z
DTEND:20250516T210000Z
DESCRIPTION:Werner Bekker kommt aus dem fernen Kapstadt in Südafrika. Im Fr
	ühjahr\nveröffentlicht er eine neue EP und tourt damit erstmals durch Euro
	pa. Diese Tour\nführt ihn Mitte Mai zu uns ins NUN und wir laden euch herz
	lich dazu ein:\n\nWANN DENN NUN?\n16.Mai 2025\,  Beginn: 20:30 Uhr (Einlas
	s ab 19:00 Uhr)\n\nWO DENN NUN?\nCafé NUN\, Gottesauer Straße 35\, Karlsru
	he\n\nTickets: VVK 12\,00 € |  AK 14\,00 € | Tickets gibt es in unserem On
	lineshop\n[https://www.eventim-light.com/de/a/5acddd8f03aba804e373affa/]\n
	\nMehr über WERNER BEKKER: Facebook [https://www.facebook.com/wernerbekker
	music]|\nInstagram [https://www.instagram.com/wernerbekkermusic/] | Spotif
	y\n[https://open.spotify.com/intl-de/artist/1mbI2Vrn5ZIHEH1PzTrA4K?si=SL4V
	Hw0qRVaS_JzBF6s7_g]|\nYoutube [https://www.youtube.com/channel/UCC_WUx3T3z
	TUfPBhHDodRhw]\n\nAus Kapstadt\, Südafrika\, stammend\, ist Werner Bekker 
	ein Singer-Songwriter\,\ndessen gefühlvolle Mischung aus Folk und Pop ein 
	weltweites Publikum begeistert.\nMit über 3\,3 Millionen Spotify-Streams b
	erührt seine Musik tief und spiegelt\nseine lebenslange Hingabe an das Han
	dwerk wider. Werner gilt als einer der\nführenden Singer-Songwriter Südafr
	ikas\, und sein neuester Song „Okay Now“\nunterstreicht sein außergewöhnli
	ches Talent – meisterhaft komponiert und\nleidenschaftlich vorgetragen.\n\
	nWerners aufstrebende Karriere ist durch bedeutende Meilensteine geprägt.\
	nKürzlich unterzeichnete er einen Booking-Vertrag mit ROLA (EU-Booking-Age
	ntur\,\nGSA-Regionen)\, der den Weg für seine erste EU-Tour im Frühjahr 20
	25 ebnet. Diese\nTour folgt auf die Veröffentlichung einer mit Spannung er
	warteten EP\, die in\nZusammenarbeit mit Dean Salant produziert wurde. Zud
	em sicherte sich Werner\neinen prestigeträchtigen Songwriting-Vertrag mit 
	Big Yellow Dog\, einer in\nNashville ansässigen Sync- und Verlagsagentur\,
	 was sein außergewöhnliches Talent\nals Songwriter weiter unterstreicht.
URL:https://keepkarlsruheboring.org/event/konzert-werner-bekker-12-euro-or-
	14-euro
GEO:49.0068;8.4208
LOCATION:NUN Kulturraum - 35\, Gottesauer Straße\, Oststadt Westlicher Teil
	\, Oststadt\, Karlsruhe\, Baden-Württemberg\, 76131\, Deutschland
STATUS:CONFIRMED
CATEGORIES:Folk,Music,Pop,Ticket
X-ALT-DESC;FMTTYPE=text/html:<p><strong>Werner Bekker</strong> kommt aus de
	m fernen Kapstadt in Südafrika. Im Frühjahr veröffentlicht er eine neue EP
	 und tourt damit erstmals durch Europa. Diese Tour führt ihn Mitte Mai zu 
	uns ins NUN und wir laden euch herzlich dazu ein:</p><p><strong>WANN DENN 
	NUN?</strong><br>16.Mai 2025,&nbsp; Beginn: 20:30 Uhr (Einlass ab 19:00 Uh
	r)</p><p><strong>WO DENN NUN?<br></strong>Café NUN, Gottesauer Straße 35, 
	Karlsruhe</p><p>Tickets: VVK 12,00 € |&nbsp; AK 14,00 € | <a target="_blan
	k" href="https://www.eventim-light.com/de/a/5acddd8f03aba804e373affa/">Tic
	kets gibt es in unserem Onlineshop</a></p><p>Mehr über WERNER BEKKER: <a t
	arget="_blank" href="https://www.facebook.com/wernerbekkermusic">Facebook 
	</a>| <a target="_blank" href="https://www.instagram.com/wernerbekkermusic
	/">Instagram</a> | <a target="_blank" href="https://open.spotify.com/intl-
	de/artist/1mbI2Vrn5ZIHEH1PzTrA4K?si=SL4VHw0qRVaS_JzBF6s7_g">Spotify </a>| 
	<a target="_blank" href="https://www.youtube.com/channel/UCC_WUx3T3zTUfPBh
	HDodRhw">Youtube</a></p><p>Aus Kapstadt, Südafrika, stammend, ist Werner B
	ekker ein Singer-Songwriter, dessen gefühlvolle Mischung aus Folk und Pop 
	ein weltweites Publikum begeistert. Mit über 3,3 Millionen Spotify-Streams
	 berührt seine Musik tief und spiegelt seine lebenslange Hingabe an das Ha
	ndwerk wider. Werner gilt als einer der führenden Singer-Songwriter Südafr
	ikas, und sein neuester Song <em>„Okay Now“</em> unterstreicht sein außerg
	ewöhnliches Talent – meisterhaft komponiert und leidenschaftlich vorgetrag
	en.</p><p>Werners aufstrebende Karriere ist durch bedeutende Meilensteine 
	geprägt. Kürzlich unterzeichnete er einen Booking-Vertrag mit ROLA (EU-Boo
	king-Agentur, GSA-Regionen), der den Weg für seine erste EU-Tour im Frühja
	hr 2025 ebnet. Diese Tour folgt auf die Veröffentlichung einer mit Spannun
	g erwarteten EP, die in Zusammenarbeit mit Dean Salant produziert wurde. Z
	udem sicherte sich Werner einen prestigeträchtigen Songwriting-Vertrag mit
	 Big Yellow Dog, einer in Nashville ansässigen Sync- und Verlagsagentur, w
	as sein außergewöhnliches Talent als Songwriter weiter unterstreicht.</p>
BEGIN:VALARM
ACTION:DISPLAY
DESCRIPTION:Konzert: WERNER BEKKER [12 € | 14 €]
TRIGGER:-PT1H
END:VALARM
END:VEVENT
END:VCALENDAR
