BEGIN:VCALENDAR
VERSION:2.0
CALSCALE:GREGORIAN
PRODID:adamgibbons/ics
METHOD:PUBLISH
X-PUBLISHED-TTL:PT1H
BEGIN:VEVENT
UID:888@keepkarlsruheboring.org
SUMMARY:KONZERT: Western Mécanique
DTSTAMP:20260423T102322Z
DTSTART:20260321T200000Z
DTEND:20260321T200000Z
DESCRIPTION:Sa\, 21.03.2026 KONZERT: Western Mécanique Konzert präsentiert 
	von SAU e.V.\nEinlass: 20:00 Uhr | Beginn: 21:00 Uhr Die französische Band
	 kombiniert Reggae\nund Punk zu einem einzigartigen Sound\, der zum Tanzen
	 einlädt! Eine wilde\,\nmusikalische Ausrüstung\, die einen Reggae-Punk-So
	ul anbietet\, staubig wie die\nBalken eines Walzwerks – zwischen Clash und
	 Redskins! Western Mécanique sorgt\nmit ihren mitreißenden Rhythmen für gu
	te Laune und ausgelassene Stimmung.
URL:https://keepkarlsruheboring.org/event/konzert-western-mecanique
GEO:49.0056;8.42925
LOCATION:Alte Hackerei - Alter Schlachthof 11A 76131 Karlsruhe
STATUS:CONFIRMED
CATEGORIES:karlsrunruhe,test
X-ALT-DESC;FMTTYPE=text/html:Sa, 21.03.2026<br>KONZERT: Western Mécanique<b
	r>Konzert präsentiert von SAU e.V.<br>Einlass: 20:00 Uhr | Beginn: 21:00 U
	hr<br><br><br>Die französische Band kombiniert Reggae und Punk zu einem ei
	nzigartigen Sound, der zum Tanzen einlädt! Eine wilde, musikalische Ausrüs
	tung, die einen Reggae-Punk-Soul anbietet, staubig wie die Balken eines Wa
	lzwerks – zwischen Clash und Redskins! Western Mécanique sorgt mit ihren m
	itreißenden Rhythmen für gute Laune und ausgelassene Stimmung.
BEGIN:VALARM
ACTION:DISPLAY
DESCRIPTION:KONZERT: Western Mécanique
TRIGGER:-PT1H
END:VALARM
END:VEVENT
END:VCALENDAR
