BEGIN:VCALENDAR
VERSION:2.0
CALSCALE:GREGORIAN
PRODID:adamgibbons/ics
METHOD:PUBLISH
X-PUBLISHED-TTL:PT1H
BEGIN:VEVENT
UID:835@keepkarlsruheboring.org
SUMMARY:KREISKY
DTSTAMP:20260423T085611Z
DTSTART:20260304T190000Z
DTEND:20260304T210000Z
DESCRIPTION:Was für ein Gegensatz: Wo das vorletzte Kreisky-Album\, „Blitz“
	 (2018)\, den\ntraditionell rotzigen Bandsound in Richtung Pop weiterdacht
	e und das letzte\, die\nfast schon optimistische Coming-of-Age-Platte „Atl
	antis“ (2021) mit seinem\nknallbunten Cover Jugend und Naivität feierte\, 
	da offeriert uns die Band nun mit\n„Adieu Unsterblichkeit“ eine ausgesproc
	hen finstere Liedersammlung. Vom vorab\nveröffentlichten „Was ist das für 
	eine Welt“ aus dem gleichnamigen TV-Tatort (in\ndem die Band auch zu sehen
	 war) über den Kannibalen-Torch-Song „Fressen“ bis zum\nRadspur-Roadmovie 
	„Die Pedale“\, der in zwei Minuten monolithischer Wucht endet\,\nbilden di
	ese Lieder Momente der bitteren Erkenntnis ab\, dunkle Geheimnisse\,\nEpip
	hanien des Schlechten\, Kipppunkte ins Böse. „Adieu Unsterblichkeit” ist e
	ine\nReise ins Herz der Finsternis und damit\, wenn man so will\, katharti
	sche Musik\nzur verschissenen Zeit. Einmal mehr begeistert es\, wie Kreisk
	y angespitzten\nKunst-Rock\, existenzielle Inbrunst und verbale Giftigkeit
	 auf eine so\nüberwältigende Art vereinen\, dass sie dem säkularisierten M
	usikfreund die\nSonntagsmesse ersetzen. Ein Novum auf „Adieu Unsterblichke
	it“ ist dabei\, wie\nschnell und nachdrücklich die Band das Register wechs
	eln kann. So stehen beim\nzwischen Wehmut und Wehleidigkeit pendelnden Tit
	eltrack verspulte\nPop-Abstraktion und rücksichtslose Ekstase Rücken an Rü
	cken\, „Geh mir aus der\nSonne“ schaltet von Mathrock zu blumigen Sixties-
	Tapezierungen und wieder retour\nund „Was ist das für eine Welt“ wechselt 
	über seine acht krautrockigen Minuten\nohnehin mehrfach die Gänge. Zelebri
	ert wird die Kreisky-Messe im klassischem\nRock-Line-Up: Schlagzeug (laut:
	 Klaus Mitter)\, Bass (ebenfalls laut: Helmuth\nBrossmann)\, Gitarre (sehr
	 laut: Martin Max Offenhuber)\, Gesang (kein bisschen\nleise: Franz Adrian
	 Wenzl). Und das – auch nach mittlerweile zwanzigjähriger\nBandgeschichte 
	– mit allem nötigen und angemessenen Radau. Kreisky 2025 mit\n„Adieu Unste
	rblichkeit“ - das ist eine einzigartige und unersetzliche Band am\nHöhepun
	kt ihrer Kunst. Einlass: 19 Uhr\, Beginn: 20 Uhr
URL:https://keepkarlsruheboring.org/event/kreisky
GEO:49.0017;8.40754
LOCATION:Kohi - Werderstraße 47\, 76137 Karlsruhe\, Alemanya
STATUS:CONFIRMED
CATEGORIES:karlsrunruhe,test
X-ALT-DESC;FMTTYPE=text/html:Was für ein Gegensatz: Wo das vorletzte Kreisk
	y-Album, „Blitz“ (2018), den traditionell rotzigen Bandsound in Richtung P
	op weiterdachte und das letzte, die fast schon optimistische Coming-of-Age
	-Platte „Atlantis“ (2021) mit seinem knallbunten Cover Jugend und Naivität
	 feierte, da offeriert uns die Band nun mit „Adieu Unsterblichkeit“ eine a
	usgesprochen finstere Liedersammlung.<br>Vom vorab veröffentlichten „Was i
	st das für eine Welt“ aus dem gleichnamigen TV-Tatort (in dem die Band auc
	h zu sehen war) über den Kannibalen-Torch-Song „Fressen“ bis zum Radspur-R
	oadmovie „Die Pedale“, der in zwei Minuten monolithischer Wucht endet, bil
	den diese Lieder Momente der bitteren Erkenntnis ab, dunkle Geheimnisse, E
	piphanien des Schlechten, Kipppunkte ins Böse.<br>„Adieu Unsterblichkeit” 
	ist eine Reise ins Herz der Finsternis und damit, wenn man so will, kathar
	tische Musik zur verschissenen Zeit. Einmal mehr begeistert es, wie Kreisk
	y angespitzten Kunst-Rock, existenzielle Inbrunst und verbale Giftigkeit a
	uf eine so überwältigende Art vereinen, dass sie dem säkularisierten Musik
	freund die Sonntagsmesse ersetzen.<br>Ein Novum auf „Adieu Unsterblichkeit
	“ ist dabei, wie schnell und nachdrücklich die Band das Register wechseln 
	kann. So stehen beim zwischen Wehmut und Wehleidigkeit pendelnden Titeltra
	ck verspulte Pop-Abstraktion und rücksichtslose Ekstase Rücken an Rücken, 
	„Geh mir aus der Sonne“ schaltet von Mathrock zu blumigen Sixties-Tapezier
	ungen und wieder retour und „Was ist das für eine Welt“ wechselt über sein
	e acht krautrockigen Minuten ohnehin mehrfach die Gänge. Zelebriert wird d
	ie Kreisky-Messe im klassischem Rock-Line-Up: Schlagzeug (laut: Klaus Mitt
	er), Bass (ebenfalls laut: Helmuth Brossmann), Gitarre (sehr laut: Martin 
	Max Offenhuber), Gesang (kein bisschen leise: Franz Adrian Wenzl). Und das
	 – auch nach mittlerweile zwanzigjähriger Bandgeschichte – mit allem nötig
	en und angemessenen Radau. Kreisky 2025 mit „Adieu Unsterblichkeit“ - das 
	ist eine einzigartige und unersetzliche Band am Höhepunkt ihrer Kunst.<br>
	Einlass: 19 Uhr, Beginn: 20 Uhr
BEGIN:VALARM
ACTION:DISPLAY
DESCRIPTION:KREISKY
TRIGGER:-PT1H
END:VALARM
END:VEVENT
END:VCALENDAR
