BEGIN:VCALENDAR
VERSION:2.0
CALSCALE:GREGORIAN
PRODID:adamgibbons/ics
METHOD:PUBLISH
X-PUBLISHED-TTL:PT1H
BEGIN:VEVENT
UID:1047@keepkarlsruheboring.org
SUMMARY:Küche Für Alle
DTSTAMP:20260423T102326Z
DTSTART:20260224T160000Z
DTEND:20260224T200000Z
DESCRIPTION:Küche für alle (Küfa) am 10.02. 🫜\n\nAb 17 Uhr kochen wir gemei
	nsam\, ab 19 Uhr gibt es Essen.\n\nEs gibt Borschtsch mit Fladenbrot und S
	alat. Borschtsch ist eine Suppe aus\nWeißkohl und roter Beete\, die vor al
	lem in Ost- und Mitteleuropa sehr verbreitet\nist.\n\nIm Juli 2022 wurde d
	ie Kultur der ukrainischen Borschtsch-Küche vor dem\nHintergrund des russi
	schen Überfalls auf die Ukraine als dringend\nerhaltungsbedürftiges immate
	rielles Kulturerbe anerkannt.\n\nDie Küfa ist wie immer vegan und auf Spen
	denbasis.\n\nEs können Gutscheine für ‚Nein zur Bezahlkarte‘ getauscht wer
	den.
URL:https://keepkarlsruheboring.org/event/kuche-fur-alle-3
GEO:48.989;8.37185
LOCATION:Café Noir - 5\, Schauenburgstraße\, Bulach\, Beiertheim-Bulach\, K
	arlsruhe\, Baden-Württemberg\, 76135\, Deutschland
STATUS:CONFIRMED
CATEGORIES:Café Noir,Gastronomie,Nein zur Bezahlkarte,Solidarity
X-ALT-DESC;FMTTYPE=text/html:<p>Küche für alle (Küfa) am 10.02. 🫜<br><br>Ab
	 17 Uhr kochen wir gemeinsam, ab 19 Uhr gibt es Essen.<br><br>Es gibt Bors
	chtsch mit Fladenbrot und Salat. Borschtsch ist eine Suppe aus Weißkohl un
	d roter Beete, die vor allem in Ost- und Mitteleuropa sehr verbreitet ist.
	<br><br>Im Juli 2022 wurde die Kultur der ukrainischen Borschtsch-Küche vo
	r dem Hintergrund des russischen Überfalls auf die Ukraine als dringend er
	haltungsbedürftiges immaterielles Kulturerbe anerkannt.<br><br>Die Küfa is
	t wie immer vegan und auf Spendenbasis.</p><p>Es können Gutscheine für ‚Ne
	in zur Bezahlkarte‘ getauscht werden.</p>
BEGIN:VALARM
ACTION:DISPLAY
DESCRIPTION:Küche Für Alle
TRIGGER:-PT1H
END:VALARM
END:VEVENT
END:VCALENDAR
