BEGIN:VCALENDAR
VERSION:2.0
CALSCALE:GREGORIAN
PRODID:adamgibbons/ics
METHOD:PUBLISH
X-PUBLISHED-TTL:PT1H
BEGIN:VEVENT
UID:742@keepkarlsruheboring.org
SUMMARY:Küche Für Alle
DTSTAMP:20260423T102322Z
DTSTART:20260203T160000Z
DTEND:20260203T200000Z
DESCRIPTION:Die Idee der Küche für Alle (KüfA) ist\, zusammen zu kochen und
	 und zu essen.\nBeim Kochen spielen Dinge wie Nachhaltigkeit\, eine gute V
	erwertung von und der\nachtsame Umgang mit Lebensmitteln eine wichtige Rol
	le. Wir möchten bewusst\ndarüber nachdenken\, wie Lebensmittel produziert 
	werden\, wie wir das Kochen\norganisieren und wie wir das Essen mit andere
	n teilen. Die Küche für Alle möchte\ndazu anregen\, sich kritisch mit Über
	produktion\, Wegwerfmentalität und\nUngleichverteilung auseinanderzusetzen
	\, denn all das führt zu Ausbeutung und\nZerstörung von Mensch\, Tier und 
	Natur. Dies zeigt sich in der Produktion von\nLebensmitteln\, aber auch im
	 Umgang untereinander und mit den Produkten. Deswegen\nwerden die Gerichte
	 oft mit Lebensmitteln\, die vor dem Wegwerfen bewahrt wurden\nund biologi
	sch angebauten\, regionalem und/oder saisonalem Gemüse zubereitet.\nWenn d
	u schon mal bei der Küche für Alle im Café Noir warst\, ist dir bestimmt\n
	auch aufgefallen\, dass alle Gerichte immer vegan sind. Das ist ebenfalls 
	ein\nwichtiger Aspekt- die Küche im Cagé Noir ist eine vegane Küche! Das b
	edeutet\,\nalles\, was über die Theke gereicht wird\, soll vegan sein. Das
	 hat mehrere\nGründe\, ein wichtiger davon ist\, dass vegane Produkte der 
	größte Nenner sind\, um\nmöglichst viele Menschen teilhaben zu lassen. Aus
	genommen sind natürlich\neinzelne Unverträglichkeiten\, die gesondert berü
	cksichtigt werden müssen 🙂\nZudem ist das Kochen mit veganen Zutaten eine 
	Konsequenz aus einer kritischen\nAuseinandersetzung mit Tierwohl und Ausbe
	utungsstrukturen. Auch hier möchte die\nKüche für Alle Alternativen anbiet
	en. Neben dem Kochen gehören auch soziale\nAspekte zur Küche für Alle: es 
	wird gemeinsam gekocht\, zusammen gegessen und\ndanach auch gemeinsam aufg
	eräumt. Es soll ein Ort gestaltet werden\, an dem sich\nalle wohlfühlen\, 
	miteinander in Kontakt kommen und sich austauschen können. Komm\ndoch auch
	 mal vorbei! Die Küche für Alle findet jeden vierten Dienstag im Monat\nab
	 17 Uhr statt. Da wird mit Kochen begonnen- um 19 Uhr gibt es dann Essen.\
	nInfos zur Barrierefreiheit: Das Café Noir ist ebenerdig zugänglich. Eine\
	nbarrierefreie Toilette steht zur Verfügung. Es stehen verschiedene\nSitzg
	elegenheiten zur Verfügung. Das Café Noir ist über die Haltestellen\nWinde
	ckstraße und Hardecksiedlung zu erreichen. Wenn du Unterstützung bei der\n
	Anreise oder Gestaltung deines Besuchs haben möchtest\, schreibe uns gerne
	 eine\nMail an: cafe-noir@riseup.net
URL:https://keepkarlsruheboring.org/event/kuche-fur-alle
GEO:48.989;8.37185
LOCATION:Café Noir - 5\, Schauenburgstraße\, Bulach\, Beiertheim-Bulach\, K
	arlsruhe\, Baden-Württemberg\, 76135\, Deutschland
STATUS:CONFIRMED
CATEGORIES:karlsrunruhe,test
X-ALT-DESC;FMTTYPE=text/html:Die Idee der Küche für Alle (KüfA) ist, zusamm
	en zu kochen und und zu essen.<br><br>Beim Kochen spielen Dinge wie Nachha
	ltigkeit, eine gute Verwertung von und der achtsame Umgang mit Lebensmitte
	ln eine wichtige Rolle. Wir möchten bewusst darüber nachdenken, wie Lebens
	mittel produziert werden, wie wir das Kochen organisieren und wie wir das 
	Essen mit anderen teilen.<br><br>Die Küche für Alle möchte dazu anregen, s
	ich kritisch mit Überproduktion, Wegwerfmentalität und Ungleichverteilung 
	auseinanderzusetzen, denn all das führt zu Ausbeutung und Zerstörung von M
	ensch, Tier und Natur. Dies zeigt sich in der Produktion von Lebensmitteln
	, aber auch im Umgang untereinander und mit den Produkten. Deswegen werden
	 die Gerichte oft mit Lebensmitteln, die vor dem Wegwerfen bewahrt wurden 
	und biologisch angebauten, regionalem und/oder saisonalem Gemüse zubereite
	t.<br><br>Wenn du schon mal bei der Küche für Alle im Café Noir warst, ist
	 dir bestimmt auch aufgefallen, dass alle Gerichte immer vegan sind. Das i
	st ebenfalls ein wichtiger Aspekt- die Küche im Cagé Noir ist eine vegane 
	Küche! Das bedeutet, alles, was über die Theke gereicht wird, soll vegan s
	ein. Das hat mehrere Gründe, ein wichtiger davon ist, dass vegane Produkte
	 der größte Nenner sind, um möglichst viele Menschen teilhaben zu lassen. 
	Ausgenommen sind natürlich einzelne Unverträglichkeiten, die gesondert ber
	ücksichtigt werden müssen 🙂 Zudem ist das Kochen mit veganen Zutaten eine 
	Konsequenz aus einer kritischen Auseinandersetzung mit Tierwohl und Ausbeu
	tungsstrukturen. Auch hier möchte die Küche für Alle Alternativen anbieten
	.<br><br>Neben dem Kochen gehören auch soziale Aspekte zur Küche für Alle:
	 es wird gemeinsam gekocht, zusammen gegessen und danach auch gemeinsam au
	fgeräumt. Es soll ein Ort gestaltet werden, an dem sich alle wohlfühlen, m
	iteinander in Kontakt kommen und sich austauschen können.<br><br>Komm doch
	 auch mal vorbei! Die Küche für Alle findet jeden vierten Dienstag im Mona
	t ab 17 Uhr statt.<br><br>Da wird mit Kochen begonnen- um 19 Uhr gibt es d
	ann Essen.<br><br><br>Infos zur Barrierefreiheit:<br><br>Das Café Noir ist
	 ebenerdig zugänglich. Eine barrierefreie Toilette steht zur Verfügung. Es
	 stehen verschiedene Sitzgelegenheiten zur Verfügung.<br><br>Das Café Noir
	 ist über die Haltestellen Windeckstraße und Hardecksiedlung zu erreichen.
	<br><br>Wenn du Unterstützung bei der Anreise oder Gestaltung deines Besuc
	hs haben möchtest, schreibe uns gerne eine Mail an: cafe-noir@riseup.net
BEGIN:VALARM
ACTION:DISPLAY
DESCRIPTION:Küche Für Alle
TRIGGER:-PT1H
END:VALARM
END:VEVENT
END:VCALENDAR
