BEGIN:VCALENDAR
VERSION:2.0
CALSCALE:GREGORIAN
PRODID:adamgibbons/ics
METHOD:PUBLISH
X-PUBLISHED-TTL:PT1H
BEGIN:VEVENT
UID:81@keepkarlsruheboring.org
SUMMARY:KULTURDOSE FESTIVAL #3 [10 €]
DTSTAMP:20260423T104438Z
DTSTART:20250620T170000Z
DTEND:20250621T030000Z
DESCRIPTION:🎉 🆂🅰🆅🅴 🆃🅷🅴 🅳🅰🆃🅴 – Das Kulturdose Festival geht in die dritte Ru
	nde!\n🎉\n\n📍 𝟮𝟬. & 𝟮𝟭. 𝗝𝘂𝗻𝗶 | 📌 𝗞𝘂𝗹𝘁𝘂𝗿𝗱𝗼𝘀𝗲 𝗞𝗮𝗿𝗹𝘀𝗿𝘂𝗵𝗲\n\nEs ist wieder so w
	eit: Das 3. Kulturdose Festival steht vor der Tür – und\nverspricht zwei T
	age voller Musik\, Kunst\, Gemeinschaft und Spaß! ✨\n\nFreu dich auf\n\n🎸 
	𝟭𝟯 𝗕𝗮𝗻𝗱𝘀 & 𝗔𝗰𝘁𝘀 auf unseren Bühnen 🎧 𝗗𝗝𝘀 bis spät in die Nacht\n🎨 𝗞𝘂𝗻𝘀𝘁 zu
	m Entdecken und Erleben 🌱 Leckeres (𝘃𝗲𝗴𝗮𝗻𝗲𝘀) 𝗘𝘀𝘀𝗲𝗻\n🕹️ 𝗥𝗲𝘁𝗿𝗼𝗚𝗮𝗺𝗲𝘀 & Spielkr
	am für alle Altersklassen 🛹\n𝗦𝗸𝗮𝘁𝗲𝗿𝗮𝗺𝗽𝗲 🛠️ 𝗪𝗼𝗿𝗸𝘀𝗵𝗼𝗽𝘀 mit der Offenen Werkst
	att 🧒\n𝗞𝗶𝗻𝗱𝗲𝗿𝗽𝗿𝗼𝗴𝗿𝗮𝗺𝗺 vom Café Noir 🍹 𝗘𝗿𝗳𝗿𝗶𝘀𝗰𝗵𝗲𝗻𝗱𝗲\n𝗗𝗿𝗶𝗻𝗸𝘀 und eine 𝗖𝗼𝗰𝗸𝘁𝗮
	𝗶𝗹𝗯𝗮𝗿\n\nSeit Monaten tüfteln und werkeln die vielen kreativen Köpfe der K
	ulturdose\, um\ndas 𝗛𝗶𝗴𝗵𝗹𝗶𝗴𝗵𝘁 𝗱𝗲𝘀 𝗝𝗮𝗵𝗿𝗲𝘀 wieder möglich zu machen. Dabei\n
	bekommen wir wieder Unterstützung von anderen Karlsruher Vereinen und\nArb
	eitsgruppen wie dem CTO oder dem OFT.\n\n💥 Komm vorbei\, bringt deine Freu
	nd*innen mit und feiert mit uns!\n\nBald gibt es mehr Infos zu den einzeln
	en Acts\, stay tuned.\n\nKein VVK\, nur AK 10.-\n\nMehr Infos:\n\nwww.kult
	urdose.de [http://www.kulturdose.de]
URL:https://keepkarlsruheboring.org/event/kulturdose-festival-3
GEO:48.989;8.37185
LOCATION:P8 - Schauenburgstraße 5\, 76135 Karlsruhe
STATUS:CONFIRMED
CATEGORIES:Music,Ticket
X-ALT-DESC;FMTTYPE=text/html:<h2></h2><p>🎉 🆂🅰🆅🅴 🆃🅷🅴 🅳🅰🆃🅴 – Das Kulturdose F
	estival geht in die dritte Runde! 🎉</p><p>📍 𝟮𝟬. &amp; 𝟮𝟭. 𝗝𝘂𝗻𝗶 | 📌 𝗞𝘂𝗹𝘁𝘂𝗿𝗱
	𝗼𝘀𝗲 𝗞𝗮𝗿𝗹𝘀𝗿𝘂𝗵𝗲</p><p>Es ist wieder so weit: Das 3. Kulturdose Festival steh
	t vor der Tür – und verspricht zwei Tage voller Musik, Kunst, Gemeinschaft
	 und Spaß! ✨</p><p>Freu dich auf</p><p>🎸 𝟭𝟯 𝗕𝗮𝗻𝗱𝘀 &amp; 𝗔𝗰𝘁𝘀 auf unseren B
	ühnen 🎧 𝗗𝗝𝘀 bis spät in die Nacht 🎨 𝗞𝘂𝗻𝘀𝘁 zum Entdecken und Erleben 🌱 Leck
	eres (𝘃𝗲𝗴𝗮𝗻𝗲𝘀) 𝗘𝘀𝘀𝗲𝗻 🕹️ 𝗥𝗲𝘁𝗿𝗼𝗚𝗮𝗺𝗲𝘀 &amp; Spielkram für alle Altersklassen 🛹
	 𝗦𝗸𝗮𝘁𝗲𝗿𝗮𝗺𝗽𝗲 🛠️ 𝗪𝗼𝗿𝗸𝘀𝗵𝗼𝗽𝘀 mit der Offenen Werkstatt 🧒 𝗞𝗶𝗻𝗱𝗲𝗿𝗽𝗿𝗼𝗴𝗿𝗮𝗺𝗺 vom Caf
	é Noir 🍹 𝗘𝗿𝗳𝗿𝗶𝘀𝗰𝗵𝗲𝗻𝗱𝗲 𝗗𝗿𝗶𝗻𝗸𝘀 und eine 𝗖𝗼𝗰𝗸𝘁𝗮𝗶𝗹𝗯𝗮𝗿</p><p>Seit Monaten tüfte
	ln und werkeln die vielen kreativen Köpfe der Kulturdose, um das 𝗛𝗶𝗴𝗵𝗹𝗶𝗴𝗵𝘁
	 𝗱𝗲𝘀 𝗝𝗮𝗵𝗿𝗲𝘀 wieder möglich zu machen. Dabei bekommen wir wieder Unterstütz
	ung von anderen Karlsruher Vereinen und Arbeitsgruppen wie dem CTO oder de
	m OFT.</p><p>💥 Komm vorbei, bringt deine Freund*innen mit und feiert mit u
	ns!</p><p>Bald gibt es mehr Infos zu den einzelnen Acts, stay tuned.</p><p
	><strong>Kein VVK, nur AK 10.-</strong></p><p><strong>Mehr Infos:</strong>
	</p><p><strong><a href="http://www.kulturdose.de" target="_blank">www.kult
	urdose.de</a></strong></p>
BEGIN:VALARM
ACTION:DISPLAY
DESCRIPTION:KULTURDOSE FESTIVAL #3 [10 €]
TRIGGER:-PT1H
END:VALARM
END:VEVENT
END:VCALENDAR
