BEGIN:VCALENDAR
VERSION:2.0
CALSCALE:GREGORIAN
PRODID:adamgibbons/ics
METHOD:PUBLISH
X-PUBLISHED-TTL:PT1H
BEGIN:VEVENT
UID:423@keepkarlsruheboring.org
SUMMARY:Kundgebung Freiheit für Palästina
DTSTAMP:20260423T104835Z
DTSTART:20251008T160000Z
DESCRIPTION:Am 8. Oktober 2023 startet die IDF ihre Operation "Eiserne Schw
	erter"\, die mehr\nund mehr umverhüllt zum Ziel hat\, Gaza dem Erdboden gl
	eich zu machen und zu\nannektieren\, siene Bevölkerung zu foltern verteib 
	und zu ermordern.\n\nSeitdem machen wir auf die weitreichenden Grausamkeit
	en der Besatzer\, das Leid\nder Palästinenser:innen aufmerksam und auf die
	 Mitschuld der deutschen Regierung\nund Wirtschaftbosse an diesem Genozid.
	\n\nAuch an diesem 8ten Oktober wollen wir nicht schwiegen\, sondern nach 
	zwei Jahre\noffenen Vernichtungskriegs und Völkermords umso stärker ein vö
	lliges Ende\ndeutscher Waffenlieferun und Untersützungen an Israelfordern.
URL:https://keepkarlsruheboring.org/event/kundgebung-freiheit-fur-palastina
GEO:49.0053;8.4104
LOCATION:Rüpurrer Tor - Karlsruhe Rüpurrer Tor
STATUS:CONFIRMED
CATEGORIES:International Solidarity,Palestina
X-ALT-DESC;FMTTYPE=text/html:<p>Am 8. Oktober 2023 startet die IDF ihre Ope
	ration "Eiserne Schwerter", die mehr und mehr umverhüllt zum Ziel hat, Gaz
	a dem Erdboden gleich zu machen und zu annektieren, siene Bevölkerung zu f
	oltern verteib und zu ermordern.</p><p>Seitdem machen wir auf die weitreic
	henden Grausamkeiten der Besatzer, das Leid der Palästinenser:innen aufmer
	ksam und auf die Mitschuld der deutschen Regierung und Wirtschaftbosse an 
	diesem Genozid.</p><p>Auch an diesem 8ten Oktober wollen wir nicht schwieg
	en, sondern nach zwei Jahre offenen Vernichtungskriegs und Völkermords ums
	o stärker ein völliges Ende deutscher Waffenlieferun und Untersützungen an
	 Israelfordern.</p>
BEGIN:VALARM
ACTION:DISPLAY
DESCRIPTION:Kundgebung Freiheit für Palästina
TRIGGER:-PT1H
END:VALARM
END:VEVENT
END:VCALENDAR
