BEGIN:VCALENDAR
VERSION:2.0
CALSCALE:GREGORIAN
PRODID:adamgibbons/ics
METHOD:PUBLISH
X-PUBLISHED-TTL:PT1H
BEGIN:VEVENT
UID:458@keepkarlsruheboring.org
SUMMARY:KÜNSTLERISCHE STRATEGIEN ZUR DERADIKALISIERUNG AUF SOCIAL MEDIA (mi
	t ANMELDUNG)
DTSTAMP:20260423T105009Z
DTSTART:20251125T110000Z
DTEND:20251125T160000Z
DESCRIPTION:Anmeldung >> https://www.kunstbuero-bw.de/de/anmeldung/?subscri
	be_id=7198\n[https://www.kunstbuero-bw.de/de/anmeldung/?subscribe_id=7198]
	\n\nKÜNSTLERISCHE STRATEGIEN ZUR DERADIKALISIERUNG AUF SOCIAL MEDIA\nNachh
	oltermin am Dienstag\, 25.11.2025\, 12.00 - 17.00 Uhr\nbei @colataxiokay [
	https://www.instagram.com/colataxiokay/]\nWorkshop mit @caspar_weimann [ht
	tps://www.instagram.com/caspar_weimann/] \,\nLehrende:r und Mentor:in für 
	Schauspiel\, Düsseldorf\n\nRechte Netzwerke nutzen soziale Medien als effi
	ziente Werkzeuge\, um eine\nrassistische\, antifeministische\, LGBTQIA+-fe
	indliche Politik durchzusetzen und\nden gesamtgesellschaftlichen Diskurs S
	chritt für Schritt nach rechts zu\nverschieben.\nMithilfe von Social Media
	 konnte sich die AfD als mächtiger parlamentarischer\nArm der „Neuen Recht
	en“ etablieren. Als inzwischen fester Bestandteil unseres\nParteiensystems
	 setzt sie ihre Kampfrhetorik in konkrete Politik um.\n\nIm Workshop blick
	en wir aus einer künstlerischen Perspektive auf Social Media\nals gesellsc
	haftliche Bühne\, die einerseits der perfekte Nährboden für\nverkürzende\,
	 emotionalisierende Inhalte und damit für gezielte Radikalisierung\nist\, 
	andererseits aber auch einen der wenigen Räume darstellt\, in denen man si
	ch\ndiesen Dynamiken wirkungsvoll und zielgruppenspezifisch entgegenstelle
	n kann.\nDafür werden konkrete und zugängliche interventionistische Ansätz
	e vorgestellt\,\ndie Radikalisierungsdynamiken aktiv durchbrechen können u
	nd die übersetzbar sind\nfür die eigene künstlerische Praxis im Kontext ei
	ner digitalisierten\nWirklichkeit.\n\nDer Workshop findet in Kooperation m
	it dem Kulturamt Karlsruhe und UNESCO City\nof Media Arts statt. @karlsruh
	e.city.of.media.arts\n[https://www.instagram.com/karlsruhe.city.of.media.a
	rts/]\n\n#kunstbuero_bw\n[https://www.instagram.com/explore/tags/kunstbuer
	o_bw/]  #kunstbetrieb\n[https://www.instagram.com/explore/tags/kunstbetrie
	b/] #aktivismus\n[https://www.instagram.com/explore/tags/aktivismus/]
URL:https://keepkarlsruheboring.org/event/kunstlerische-strategien-zur-dera
	dikalisierung-auf-social-media
GEO:49.0082;8.40959
LOCATION:COLA TAXI OKAY - 25\, Kronenstraße\, Innenstadt-Ost Südwestlicher 
	Teil\, Innenstadt-Ost\, Karlsruhe\, Baden-Württemberg\, 76133\, Deutschlan
	d
STATUS:CONFIRMED
CATEGORIES:Aktivismus,Art,Kunstbetrieb,kunstbuero_bw,Politics,Social Media,
	Workshop
X-ALT-DESC;FMTTYPE=text/html:<p>Anmeldung &gt;&gt; <a href="https://www.kun
	stbuero-bw.de/de/anmeldung/?subscribe_id=7198" target="_blank">https://www
	.kunstbuero-bw.de/de/anmeldung/?subscribe_id=7198</a></p><p>KÜNSTLERISCHE 
	STRATEGIEN ZUR DERADIKALISIERUNG AUF SOCIAL MEDIA<br>Nachholtermin am Dien
	stag, 25.11.2025, 12.00 - 17.00 Uhr<br>bei&nbsp;<a href="https://www.insta
	gram.com/colataxiokay/" target="_blank">@colataxiokay</a><br>Workshop mit&
	nbsp;<a href="https://www.instagram.com/caspar_weimann/" target="_blank">@
	caspar_weimann</a>&nbsp;, Lehrende:r und Mentor:in für Schauspiel, Düsseld
	orf<br><br>Rechte Netzwerke nutzen soziale Medien als effiziente Werkzeuge
	, um eine rassistische, antifeministische, LGBTQIA+-feindliche Politik dur
	chzusetzen und den gesamtgesellschaftlichen Diskurs Schritt für Schritt na
	ch rechts zu verschieben.<br>Mithilfe von Social Media konnte sich die AfD
	 als mächtiger parlamentarischer Arm der „Neuen Rechten“ etablieren. Als i
	nzwischen fester Bestandteil unseres Parteiensystems setzt sie ihre Kampfr
	hetorik in konkrete Politik um.<br><br>Im Workshop blicken wir aus einer k
	ünstlerischen Perspektive auf Social Media als gesellschaftliche Bühne, di
	e einerseits der perfekte Nährboden für verkürzende, emotionalisierende In
	halte und damit für gezielte Radikalisierung ist, andererseits aber auch e
	inen der wenigen Räume darstellt, in denen man sich diesen Dynamiken wirku
	ngsvoll und zielgruppenspezifisch entgegenstellen kann.<br>Dafür werden ko
	nkrete und zugängliche interventionistische Ansätze vorgestellt, die Radik
	alisierungsdynamiken aktiv durchbrechen können und die übersetzbar sind fü
	r die eigene künstlerische Praxis im Kontext einer digitalisierten Wirklic
	hkeit.<br><br>Der Workshop findet in Kooperation mit dem Kulturamt Karlsru
	he und UNESCO City of Media Arts statt.&nbsp;<a href="https://www.instagra
	m.com/karlsruhe.city.of.media.arts/" target="_blank">@karlsruhe.city.of.me
	dia.arts</a><br><br><a href="https://www.instagram.com/explore/tags/kunstb
	uero_bw/" target="_blank">#kunstbuero_bw</a>&nbsp;&nbsp;<a href="https://w
	ww.instagram.com/explore/tags/kunstbetrieb/" target="_blank">#kunstbetrieb
	</a>&nbsp;<a href="https://www.instagram.com/explore/tags/aktivismus/" tar
	get="_blank">#aktivismus</a></p>
BEGIN:VALARM
ACTION:DISPLAY
DESCRIPTION:KÜNSTLERISCHE STRATEGIEN ZUR DERADIKALISIERUNG AUF SOCIAL MEDIA
	 (mit ANMELDUNG)
TRIGGER:-PT1H
END:VALARM
END:VEVENT
END:VCALENDAR
