BEGIN:VCALENDAR
VERSION:2.0
CALSCALE:GREGORIAN
PRODID:adamgibbons/ics
METHOD:PUBLISH
X-PUBLISHED-TTL:PT1H
BEGIN:VEVENT
UID:752@keepkarlsruheboring.org
SUMMARY:Kunstrauschen +Tausch +Plausch
DTSTAMP:20260423T102218Z
DTSTART:20260206T170000Z
DTEND:20260206T210000Z
DESCRIPTION:Wir nehmen am KUNSTRAUSCHEN (Gallerie Abend in Zusammenarbeit m
	it der Art\nKarlsruhe) teil Das Kunstrauschen lädt einmal im Jahr dazu ein
	\, die unabhängige\nKunstszene Karlsruhes in ihrer ganzen Vielfalt zu erle
	ben. Bringt mit: - Kunst\nzum Tauschen oder - Lust zum Plauschen! Kommt au
	f ein Getränk vorbei 06.02 18-22\nUHR
URL:https://keepkarlsruheboring.org/event/kunstrauschen-tausch-plausch
GEO:49.0089;8.41586
LOCATION:Studio Hö - 3\, Kaiserstraße\, Innenstadt-Ost Südwestlicher Teil\,
	 Innenstadt-Ost\, Karlsruhe\, Baden-Württemberg\, 76131\, Deutschland
STATUS:CONFIRMED
CATEGORIES:karlsrunruhe,test
X-ALT-DESC;FMTTYPE=text/html:Wir nehmen am KUNSTRAUSCHEN (Gallerie Abend in
	 Zusammenarbeit mit der Art Karlsruhe) teil<br>Das Kunstrauschen lädt einm
	al im Jahr dazu ein, die unabhängige Kunstszene Karlsruhes in ihrer ganzen
	 Vielfalt zu erleben. <br><br>Bringt mit:<br>- Kunst zum Tauschen<br>oder<
	br>- Lust zum Plauschen!<br><br>Kommt auf ein Getränk vorbei<br>06.02 18-2
	2 UHR<br>
BEGIN:VALARM
ACTION:DISPLAY
DESCRIPTION:Kunstrauschen +Tausch +Plausch
TRIGGER:-PT1H
END:VALARM
END:VEVENT
END:VCALENDAR
