BEGIN:VCALENDAR
VERSION:2.0
CALSCALE:GREGORIAN
PRODID:adamgibbons/ics
METHOD:PUBLISH
X-PUBLISHED-TTL:PT1H
BEGIN:VEVENT
UID:729@keepkarlsruheboring.org
SUMMARY:La Figue³ - Festival zum queerfeministischen Kampftag
DTSTAMP:20260423T104909Z
DTSTART:20260307T170000Z
DESCRIPTION:Denn Feminismus kennt keine Pause\, und den bestehenden patriar
	chalen\nKack-Zuständen gilt es weiterhin an die Gurgel zu gehen.\n\nAuch 2
	026 feiern wir ein Festival für uns Flinta*s dieser Welt\, voller Wut\, un
	d\nvoller Mut!! Lasst uns uns feiern\, unseren Kampf\, gemeinsam und stark
	!\n\nDiesmal feiern wir rein!\n\nBeim Konzert und Rave zum queerfeministis
	chen Kampftag erwarten euch wie die\nletzten Jahre mitreißende Live Acts\,
	 DJs die euch zum Tanzen einladen und\ndiesmal auch: einen Showcase! Mehr 
	Infos zum Showcase demnächst. Drumherum gibt\nes auch wieder einige Specia
	ls wie Tattoos\, Crepes\, queer-/feministische\nInfostände und mehr! Wir f
	reuen uns riesig auf diesen besonderen Tag mit euch🖤\n\nAll Genders welcom
	e!\n\nLineUp Bands:\n\nREMOTE BONDAGE: ab hier wird's rough\, aber wegscha
	uen bringt's auch nicht <3 Wir\nsagen\, was uns nervt und zwar laut\, umdi
	eEcke durchdacht\, getragen von drei\nengelsgleichen Vocals\, gottgleichem
	 Bass und teuflischen Trommeln - Hauptsache\nmindestens ein bisschen curse
	d. #roughpop #darkstrashsexpunk SCHICKT DAS GOOD\nGIRL IN DIE HÖLLE https:
	//www.remotebondage.com/\n[https://www.remotebondage.com/]\n\nLilac Attitu
	de: Pogo-jumping rhythms +++ noisy licks +++ dirty-love-filled\nvocals +++
	 diversity & hope for planet earth. /// For years now they have been\nplay
	ing in basement squats\, trashy bars\, sold out underground clubs\, and\nr
	ehearsed in rooms where piss was literally raining from the ceiling to bri
	ng\nyou the fruits of their sweet labor.https://www.lilacattitude.com/\n[h
	ttps://www.lilacattitude.com/]\n\nCATBITEBACK: Feminist and angry PunkRap 
	/ Crossover aus Freiburg und\nBerlin.https://catbiteback.bandcamp.com/ [ht
	tps://catbiteback.bandcamp.com/]\n\nLineUp DJs:\n\nLinér: trance https://w
	ww.instagram.com/lina._.c/\n[https://www.instagram.com/lina._.c/]\n\nSlava
	: dnb https://www.instagram.com/lasav55/\n[https://www.instagram.com/lasav
	55/]\n\nSeifriedlich : live techno https://www.instagram.com/seifriedlich7
	6/\n[https://www.instagram.com/seifriedlich76/]\n\nT.i.k.ker: HARDINDUSTRI
	AL https://www.instagram.com/t.i.k.ker\n[https://www.instagram.com/t.i.k.k
	er]\n\nFeige gezeichnet von Anna Köpnick 🩷 (1) Instagram\n[https://www.ins
	tagram.com/annakoepnick/]\n\nTickets hier: https://tickets.p-acht.org/figu
	e3/\n[https://tickets.p-acht.org/figue3/]
URL:https://keepkarlsruheboring.org/event/la-figue-festival-zum-queerfemini
	stischen-kampftag
GEO:48.989;8.37185
LOCATION:P8 - Schauenburgstraße 5\, 76135 Karlsruhe
STATUS:CONFIRMED
CATEGORIES:Feminismus,LGBTQIA+,Party
X-ALT-DESC;FMTTYPE=text/html:<p>Denn Feminismus kennt keine Pause, und den 
	bestehenden patriarchalen Kack-Zuständen gilt es weiterhin an die Gurgel z
	u gehen.</p><p>Auch 2026 feiern wir ein Festival für uns Flinta*s dieser W
	elt, voller Wut, und voller Mut!! Lasst uns uns feiern, unseren Kampf, gem
	einsam und stark!</p><p>Diesmal feiern wir rein!</p><p>Beim Konzert und Ra
	ve zum queerfeministischen Kampftag erwarten euch wie die letzten Jahre mi
	treißende Live Acts, DJs die euch zum Tanzen einladen und diesmal auch: <s
	trong>einen Showcase! Mehr Infos zum Showcase demnächst.</strong> Drumheru
	m gibt es auch wieder einige Specials wie Tattoos, Crepes, queer-/feminist
	ische Infostände und mehr! Wir freuen uns riesig auf diesen besonderen Tag
	 mit euch🖤</p><p><strong>All Genders welcome!</strong></p><p><strong>LineU
	p Bands:</strong></p><p><strong>REMOTE BONDAGE</strong>: ab hier wird's ro
	ugh, aber wegschauen bringt's auch nicht &lt;3 Wir sagen, was uns nervt un
	d zwar laut, umdieEcke durchdacht, getragen von drei engelsgleichen Vocals
	, gottgleichem Bass und teuflischen Trommeln - Hauptsache mindestens ein b
	isschen cursed. #roughpop #darkstrashsexpunk <strong>SCHICKT DAS GOOD GIRL
	 IN DIE HÖLLE</strong> <a href="https://www.remotebondage.com/" target="_b
	lank">https://www.remotebondage.com/</a></p><p><strong>Lilac Attitude</str
	ong>: Pogo-jumping rhythms +++ noisy licks +++ dirty-love-filled vocals ++
	+ diversity &amp; hope for planet earth. /// For years now they have been 
	playing in basement squats, trashy bars, sold out underground clubs, and r
	ehearsed in rooms where piss was literally raining from the ceiling to bri
	ng you the fruits of their sweet labor.<a href="https://www.lilacattitude.
	com/" target="_blank">https://www.lilacattitude.com/</a></p><p><strong>CAT
	BITEBACK</strong>: Feminist and angry PunkRap / Crossover aus Freiburg und
	 Berlin.<a href="https://catbiteback.bandcamp.com/" target="_blank">https:
	//catbiteback.bandcamp.com/</a></p><p><strong>LineUp DJs:</strong></p><p><
	strong>Linér</strong>: trance <a href="https://www.instagram.com/lina._.c/
	" target="_blank">https://www.instagram.com/lina._.c/</a></p><p><strong>Sl
	ava</strong>: dnb <a href="https://www.instagram.com/lasav55/" target="_bl
	ank">https://www.instagram.com/lasav55/</a></p><p><strong>Seifriedlich</st
	rong> : live techno <a href="https://www.instagram.com/seifriedlich76/" ta
	rget="_blank">https://www.instagram.com/seifriedlich76/</a></p><p><strong>
	T.i.k.ker: </strong>HARDINDUSTRIAL <a href="https://www.instagram.com/t.i.
	k.ker" target="_blank">https://www.instagram.com/t.i.k.ker</a></p><p>Feige
	 gezeichnet von Anna Köpnick 🩷 <a href="https://www.instagram.com/annakoep
	nick/" target="_blank">(1) Instagram</a></p><p>Tickets hier: <a href="http
	s://tickets.p-acht.org/figue3/" target="_blank">https://tickets.p-acht.org
	/figue3/</a></p>
BEGIN:VALARM
ACTION:DISPLAY
DESCRIPTION:La Figue³ - Festival zum queerfeministischen Kampftag
TRIGGER:-PT1H
END:VALARM
END:VEVENT
END:VCALENDAR
