BEGIN:VCALENDAR
VERSION:2.0
CALSCALE:GREGORIAN
PRODID:adamgibbons/ics
METHOD:PUBLISH
X-PUBLISHED-TTL:PT1H
BEGIN:VEVENT
UID:921@keepkarlsruheboring.org
SUMMARY:LATURB + Support
DTSTAMP:20260423T102133Z
DTSTART:20260410T180000Z
DTEND:20260410T200000Z
DESCRIPTION:Nach ihrem 1.Gig bei uns beim La Figue 2024\, der alle begeiste
	rt\, und nen\nspontanen Tanzzwang ausgelöst hat\, sind wir mehr als happy\
	, diese Bombe nochmal\nzu zünden. 𝗟𝗔𝗧𝗨𝗥𝗕 sind der brutalste Beweis\, dass 
	das New Wave und\nSynthpop Revival der jüngeren Vergangenheit dringend nöt
	ig war. Du willst diese\ndrei Überschnuckis als neue beste Freund:innen ha
	ben\, wenn du nur einer ihrer\nLiveshows beigewohnt hast. Diese sind ein w
	ilder Ritt auf 80s Synthesizern und\npunkigen Gitarrenriffs\, getragen von
	 punchigen Rhythmusmaschinen und den\nAusnahmestimmen der ungleichen Sänge
	rinnen. Neben catchy hooklines werfen die\nzwei sich obendrein in halsbrec
	herische Anarchoakrobatik und zünden eine\nÜberraschungsgranate nach der n
	ächsten. Trash and treasures am laufenden Band\,\nbevor uns das Bremer Tri
	o hochemotionalisiert im Konfettiregen zurücklässt – zum\nSchockverlieben!
	(Text: Gesine Kästner)
URL:https://keepkarlsruheboring.org/event/laturb-support
GEO:48.989;8.37185
LOCATION:P8 - Schauenburgstraße 5\, 76135 Karlsruhe
STATUS:CONFIRMED
CATEGORIES:karlsrunruhe,test
X-ALT-DESC;FMTTYPE=text/html:Nach ihrem 1.Gig bei uns beim La Figue 2024, d
	er alle begeistert, und nen spontanen Tanzzwang ausgelöst hat, sind wir me
	hr als happy, diese Bombe nochmal zu zünden.<br>𝗟𝗔𝗧𝗨𝗥𝗕 sind der brutalste 
	Beweis, dass das New Wave und Synthpop Revival der jüngeren Vergangenheit 
	dringend nötig war. Du willst diese drei Überschnuckis als neue beste<br>F
	reund:innen haben, wenn du nur einer ihrer Liveshows beigewohnt hast. Dies
	e sind ein wilder Ritt auf 80s Synthesizern und punkigen Gitarrenriffs, ge
	tragen von punchigen Rhythmusmaschinen und den Ausnahmestimmen der ungleic
	hen Sängerinnen. Neben catchy hooklines werfen die zwei sich obendrein in 
	halsbrecherische Anarchoakrobatik und zünden eine Überraschungsgranate nac
	h der nächsten. Trash and treasures am laufenden Band, bevor uns das Breme
	r Trio hochemotionalisiert im Konfettiregen zurücklässt – zum<br>Schockver
	lieben!(Text: Gesine Kästner) <br>
BEGIN:VALARM
ACTION:DISPLAY
DESCRIPTION:LATURB + Support
TRIGGER:-PT1H
END:VALARM
END:VEVENT
END:VCALENDAR
