BEGIN:VCALENDAR
VERSION:2.0
CALSCALE:GREGORIAN
PRODID:adamgibbons/ics
METHOD:PUBLISH
X-PUBLISHED-TTL:PT1H
BEGIN:VEVENT
UID:38@keepkarlsruheboring.org
SUMMARY:Lebenswerte Oststadt? Georg-Friedrich-Straße für Menschen\, statt D
	urchgangsverkehr!
DTSTAMP:20260423T104917Z
DTSTART:20250426T103000Z
DTEND:20250426T143000Z
DESCRIPTION:Gemeinsam mit dem Bürgerverein Oststadt setzen wir uns für eine
	n Verkehrsversuch\nin der Georg-Friedrich-Straße ein - und haben dafür ein
	e Petition gestartet\n[https://bsbes.r.a.d.sendibm1.com/mk/cl/f/Dd313r3LIf
	p3Aj-ZnMpzmYN6H8eOrtQGhjF1zAZ8iNgm7tSo-ij_jMRuLU9tySkgkmNn5_9MxOZ7dahM3SUS
	L_GxsX83oppsAYBxbEs8T-6R-a5CRancro8fVhbxphV7Iufdsw13NBa0rkz6SyZ5A6WwYWF0je
	OpSw-wNtrbj2Ysu71ttdeKZGZVG9X-Q4N_il1esXk]. \n\nAm 26. April von 12:30 bis
	 16:30 sind wir in der Georg-Friedrich-Straße am\nKreisel um über das Proj
	ekt "Lebenswerte Oststadt?" zu sprechen –kommt vorbei\nund teile deine Ged
	anken zur Zukunft der Oststadt.\n\nUnser Ziel: Die Straße für den Durchgan
	gsverkehr sperren\, um nördlich des\nKreisels eine verkehrsberuhigte Zone 
	mit Raum für Begegnung und Aufenthalt zu\nschaffen - mit breiteren Gehwege
	n\, Sitzgelegenheiten und mehr Stadtgrün.\n\nHeute ist die Straße laut\, u
	nsicher und voll mit Autos - das wollen wir ändern.\n\n👉 Hilf mit und unte
	rschreibe jetzt!\n[https://bsbes.r.a.d.sendibm1.com/mk/cl/f/EZXMrr0Ui7aFXu
	NaxhJwgPABcUap8N63yYhuCBYGEF_XNJbrgPzCO8BjBnCtK77l2VdN0606j3LA1O54kUxOWtkz
	OtJ3bAuKSCGDhZ19q6agPgpVilo3rhxqz--azBxDHISwgF4o_p-divoIOxr0hqVwANYl6yN-Du
	R3_VU8-qgLfTt5UOislhBCTYWQmnm7OlTdj8A]\nTeile die Petition auch mit deinen
	 Freund:innen aus der Oststadt - je mehr\nMenschen unterschreiben\, desto 
	deutlicher das Signal an die Stadt.\n\nWAS SIND KIEZBLOCKS?\n\nEin Kiezblo
	ck ist ein städtisches Quartier bei dem die Straßen in erster Linie\nder N
	achbarschaft gehören. Zufußgehen und Radfahren soll für alle Altersgruppen
	\nganz gefahrlos möglich sein. Außerdem soll es Platz für Grün und konsumf
	reien\nAufenthalt geben geben. Alle Gebäude sind für Anwohnende\, Müllabfu
	hr\,\nRettungsfahrzeuge\, Lieferverkehr etc. erreichbar. Nur eine durchgän
	gige Querung\nmit dem Kfz ist nicht mehr möglich\, dieser soll die Hauptst
	raßen nutzen. Auf den\nStraßen entsteht mehr Platz für Grünflächen\, Spiel
	bereiche und Bänke.
URL:https://keepkarlsruheboring.org/event/lebenswerte-oststadt-georg-friedr
	ich-strasse-fur-menschen-statt-durchgangsverkehr
GEO:49.0094;8.42359
LOCATION:Georg-Friedrich-Straße - Oststadt Westlicher Teil\, Oststadt\, Kar
	lsruhe\, Baden-Württemberg\, 76131\, Deutschland
STATUS:CONFIRMED
CATEGORIES:Ecology,Info-Meeting,Kiezblocks,Ostadt,Politics
X-ALT-DESC;FMTTYPE=text/html:<p>Gemeinsam mit dem Bürgerverein Oststadt set
	zen wir uns für einen Verkehrsversuch in der Georg-Friedrich-Straße ein - 
	<a target="_blank" href="https://bsbes.r.a.d.sendibm1.com/mk/cl/f/Dd313r3L
	Ifp3Aj-ZnMpzmYN6H8eOrtQGhjF1zAZ8iNgm7tSo-ij_jMRuLU9tySkgkmNn5_9MxOZ7dahM3S
	USL_GxsX83oppsAYBxbEs8T-6R-a5CRancro8fVhbxphV7Iufdsw13NBa0rkz6SyZ5A6WwYWF0
	jeOpSw-wNtrbj2Ysu71ttdeKZGZVG9X-Q4N_il1esXk"><strong><u>und haben dafür ei
	ne Petition gestartet</u></strong></a><strong><u>.</u>&nbsp;</strong></p><
	p>Am 26. April von 12:30 bis 16:30 sind wir in der Georg-Friedrich-Straße 
	am Kreisel um über das Projekt "Lebenswerte Oststadt?" zu sprechen –kommt 
	vorbei und teile deine Gedanken zur Zukunft der Oststadt.</p><p><strong>Un
	ser Ziel:</strong> Die Straße für den Durchgangsverkehr sperren, um nördli
	ch des Kreisels eine verkehrsberuhigte Zone mit Raum für Begegnung und Auf
	enthalt zu schaffen - mit breiteren Gehwegen, Sitzgelegenheiten und mehr S
	tadtgrün.</p><p>Heute ist die Straße laut, unsicher und voll mit Autos - d
	as wollen wir ändern.</p><p>👉 <a target="_blank" href="https://bsbes.r.a.d
	.sendibm1.com/mk/cl/f/EZXMrr0Ui7aFXuNaxhJwgPABcUap8N63yYhuCBYGEF_XNJbrgPzC
	O8BjBnCtK77l2VdN0606j3LA1O54kUxOWtkzOtJ3bAuKSCGDhZ19q6agPgpVilo3rhxqz--azB
	xDHISwgF4o_p-divoIOxr0hqVwANYl6yN-DuR3_VU8-qgLfTt5UOislhBCTYWQmnm7OlTdj8A"
	><strong><u>Hilf mit und unterschreibe jetzt!</u></strong></a><br>Teile di
	e Petition auch mit deinen Freund:innen aus der Oststadt - je mehr Mensche
	n unterschreiben, desto deutlicher das Signal an die Stadt.</p><h4>Was sin
	d Kiezblocks?</h4><p>Ein Kiezblock ist ein städtisches Quartier bei dem di
	e Straßen in erster Linie der Nachbarschaft gehören. Zufußgehen und Radfah
	ren soll für alle Altersgruppen ganz gefahrlos möglich sein. Außerdem soll
	 es Platz für Grün und konsumfreien Aufenthalt geben geben. Alle Gebäude s
	ind für Anwohnende, Müllabfuhr, Rettungsfahrzeuge, Lieferverkehr etc. erre
	ichbar. Nur eine durchgängige Querung mit dem Kfz ist nicht mehr möglich, 
	dieser soll die Hauptstraßen nutzen. Auf den Straßen entsteht mehr Platz f
	ür Grünflächen, Spielbereiche und Bänke.</p>
BEGIN:VALARM
ACTION:DISPLAY
DESCRIPTION:Lebenswerte Oststadt? Georg-Friedrich-Straße für Menschen, stat
	t Durchgangsverkehr!
TRIGGER:-PT1H
END:VALARM
END:VEVENT
END:VCALENDAR
