BEGIN:VCALENDAR
VERSION:2.0
CALSCALE:GREGORIAN
PRODID:adamgibbons/ics
METHOD:PUBLISH
X-PUBLISHED-TTL:PT1H
BEGIN:VEVENT
UID:730@keepkarlsruheboring.org
SUMMARY:Lecture: Daniel Temkin: Forty-Four Esolangs. The Art of Esoteric Co
	de
DTSTAMP:20260423T103843Z
DTSTART:20260206T170000Z
DTEND:20260206T183000Z
DESCRIPTION:[ ↓ English below ↓]\n\nWas geschieht\, wenn Programmiersprache
	n nicht auf Funktionieren und Effizienz\,\nsondern auf Irritation und Refl
	exion zielen oder wie Poesie wirken? In seiner\n2025 bei The MIT Press ers
	chienenen Publikation »Forty-Four Esolangs: The Art of\nEsoteric Code [htt
	ps://mitpress.mit.edu/9780262553087/forty-four-esolangs/]«\nversammelt der
	 Künstler Daniel Temkin sogenannte »esoterische\nProgrammiersprachen« – ra
	dikale Experimente an den Grenzen dessen\, was Code sein\nkann.\n\nTemkins
	 Esolangs fordern Programmierer dazu auf\, Code etwa auf der Basis von\nMu
	sik\, Fotografie oder Skulptur\, in Form von Gebeten an die griechischen G
	ötter\,\nauf Grundlage von biologischen\, geologischen oder astronomischen
	 Prozessen oder\nals Muster leerer Ordner zu schreiben. Sie können kollabo
	rativ sein oder\npoetische Anregungen in der Tradition der Fluxus-Bewegung
	. Temkin hinterfragt\ndamit herkömmliche Definitionen von Sprache\, Code u
	nd Computer und zeigt das\nPotenzial von Esolangs als Ideenkunst auf.\n\n»
	Forty-Four Esolangs« wirft Fragen zum Verhältnis zwischen Code\, menschlic
	her\nKreativität und künstlicher Intelligenz oder zum Nutzen von künstleri
	schen\nProgrammiersprachen auf. Es lenkt den Fokus auf die Agency\, die Ma
	terialität\,\ndie sozialen Kontexte sowie die politische Dimension von Pro
	grammiersprachen.\n\nDaniel Temkin stellt seine 2025 bei The MIT Press ers
	chienene Publikation mit\nanschließender Diskussion vor.\n\nDaniel Temkin 
	(*1973\, Boston) beschäftigt sich mit Fotografie und Computerkunst.\n2011 
	startete er den blog und das Forschungsprojekt »esoteric.codes\n[http://es
	oteric.codes]«\, für das er ein Stipendium von ArtsWriters.org\n[http://Ar
	tsWriters.org] von Creative Capital und der Warhol Foundation sowie\neine 
	Residency im New Museum erhielt. Temkins publiziert in Zeitschriften wie\n
	»Hyperallergic«\, »Leonardo« oder »Digital Humanities Quarterly«. Er war\n
	Artist-in-Residence bei Pioneer Works\, Harvestworks und Signal Culture un
	d\nstellte unter anderem im Whitney Museum\, Museau do Chiado\, Haus der\n
	elektronischen Künste und dem ZKM aus. \n\n/-/-/\n\nWhat happens when prog
	ramming languages aim not at functionality and efficiency\,\nbut at irrita
	tion and reflection\, or act like poetry? In his publication\n»Forty-Four 
	Esolangs: The Art of Esoteric Code\n[https://mitpress.mit.edu/978026255308
	7/forty-four-esolangs/]«\, published in\n2025 by The MIT Press\, artist Da
	niel Temkin brings together so-called esoteric\nprogramming languages –rad
	ical experiments at the limits of what code can be.\n\nTemkin’s esolangs c
	hallenge programmers to write code based on music\,\nphotography\, or scul
	pture\, in the form of prayers to the Greek gods\, based on\nbiological\, 
	geological\, or astronomical processes\, or as patterns of empty\nfolders.
	 They can be collaborative or poetic inspirations in the tradition of\nthe
	 Fluxus movement. Temkin thus questions conventional definitions of langua
	ge\,\ncode\, and computers and highlights the potential of esolangs as con
	ceptual art.\n\n»Forty-Four Esolangs« raises questions about the relations
	hip between code\,\nhuman creativity\, and artificial intelligence\, as we
	ll as the usefulness of\nartistic programming languages. It focuses on the
	 agency\, materiality\, social\ncontexts\, and political dimension of prog
	ramming languages.\n\nDaniel Temkin will present his publication\, release
	d in 2025 by The MIT Press\,\nfollowed by a discussion.\n\n \n\nDaniel Tem
	kin (* 1973\, Boston) works with photography and computer art. In 2011\,\n
	he launched the blog and research project »esoteric.codes\n[http://esoteri
	c.codes]«\, for which he received a grant from ArtsWriters.org\n[http://Ar
	tsWriters.org] from Creative Capital and the Warhol Foundation\, as\nwell 
	as a residency at the New Museum. Temkin has been published in magazines\n
	such as »Hyperallergic«\, »Leonardo«\, and »Digital Humanities Quarterly«.
	 He has\nbeen artist-in-residence at Pioneer Works\, Harvestworks\, and Si
	gnal Culture\, and\nhas exhibited at the Whitney Museum\, Museau do Chiado
	\, Haus der elektronischen\nKünste\, and ZKM\, among others. 
URL:https://keepkarlsruheboring.org/event/lecture-daniel-temkin-forty-four-
	esolangs-the-art-of-esoteric-code
GEO:49.0013;8.3836
LOCATION:ZKM | Zentrum für Kunst und Medien Karlsruhe - Lorenzstr. 19\, D-7
	6135 Karlsruhe
STATUS:CONFIRMED
CATEGORIES:Art,Lecture,Technology
X-ALT-DESC;FMTTYPE=text/html:<p>[ ↓ English below ↓]</p><p><strong>Was gesc
	hieht, wenn Programmiersprachen nicht auf Funktionieren und Effizienz, son
	dern auf Irritation und Reflexion zielen oder wie Poesie wirken? In seiner
	 2025 bei The MIT Press erschienenen Publikation »</strong><a href="https:
	//mitpress.mit.edu/9780262553087/forty-four-esolangs/" target="_blank"><st
	rong>Forty-Four Esolangs: The Art of Esoteric Code</strong></a><strong>« v
	ersammelt der Künstler Daniel Temkin sogenannte »esoterische Programmiersp
	rachen« – radikale Experimente an den Grenzen dessen, was Code sein kann.<
	/strong></p><p>Temkins Esolangs fordern Programmierer dazu auf, Code etwa 
	auf der Basis von Musik, Fotografie oder Skulptur, in Form von Gebeten an 
	die griechischen Götter, auf Grundlage von biologischen, geologischen oder
	 astronomischen Prozessen oder als Muster leerer Ordner zu schreiben. Sie 
	können kollaborativ sein oder poetische Anregungen in der Tradition der Fl
	uxus-Bewegung. Temkin hinterfragt damit herkömmliche Definitionen von Spra
	che, Code und Computer und zeigt das Potenzial von Esolangs als Ideenkunst
	 auf.</p><p>»Forty-Four Esolangs« wirft Fragen zum Verhältnis zwischen Cod
	e, menschlicher Kreativität und künstlicher Intelligenz oder zum Nutzen vo
	n künstlerischen Programmiersprachen auf. Es lenkt den Fokus auf die Agenc
	y, die Materialität, die sozialen Kontexte sowie die politische Dimension 
	von Programmiersprachen.</p><p>Daniel Temkin stellt seine 2025 bei The MIT
	 Press erschienene Publikation mit anschließender Diskussion vor.</p><p><s
	trong>Daniel Temkin</strong> (*1973, Boston) beschäftigt sich mit Fotograf
	ie und Computerkunst. 2011 startete er den blog und das Forschungsprojekt 
	»<a href="http://esoteric.codes" target="_blank">esoteric.codes</a>«, für 
	das er ein Stipendium von <a href="http://ArtsWriters.org" target="_blank"
	>ArtsWriters.org</a> von Creative Capital und der Warhol Foundation sowie 
	eine Residency im New Museum erhielt. Temkins publiziert in Zeitschriften 
	wie »Hyperallergic«, »Leonardo« oder »Digital Humanities Quarterly«. Er wa
	r Artist-in-Residence bei Pioneer Works, Harvestworks und Signal Culture u
	nd stellte unter anderem im Whitney Museum, Museau do Chiado, Haus der ele
	ktronischen Künste und dem ZKM aus.&nbsp;</p><p>/-/-/</p><p><strong>What h
	appens when programming languages aim not at functionality and efficiency,
	 but at irritation and reflection, or act like poetry? In his publication 
	»</strong><a href="https://mitpress.mit.edu/9780262553087/forty-four-esola
	ngs/" target="_blank"><strong>Forty-Four Esolangs: The Art of Esoteric Cod
	e</strong></a><strong>«, published in 2025 by The MIT Press, artist Daniel
	 Temkin brings together so-called esoteric programming languages –radical 
	experiments at the limits of what code can be.</strong></p><p>Temkin’s eso
	langs challenge programmers to write code based on music, photography, or 
	sculpture, in the form of prayers to the Greek gods, based on biological, 
	geological, or astronomical processes, or as patterns of empty folders. Th
	ey can be collaborative or poetic inspirations in the tradition of the Flu
	xus movement. Temkin thus questions conventional definitions of language, 
	code, and computers and highlights the potential of esolangs as conceptual
	 art.</p><p>»Forty-Four Esolangs« raises questions about the relationship 
	between code, human creativity, and artificial intelligence, as well as th
	e usefulness of artistic programming languages. It focuses on the agency, 
	materiality, social contexts, and political dimension of programming langu
	ages.</p><p>Daniel Temkin will present his publication, released in 2025 b
	y The MIT Press, followed by a discussion.</p><p>&nbsp;</p><p><strong>Dani
	el Temkin</strong> (* 1973, Boston) works with photography and computer ar
	t. In 2011, he launched the blog and research project »<a href="http://eso
	teric.codes" target="_blank">esoteric.codes</a>«, for which he received a 
	grant from <a href="http://ArtsWriters.org" target="_blank">ArtsWriters.or
	g</a> from Creative Capital and the Warhol Foundation, as well as a reside
	ncy at the New Museum. Temkin has been published in magazines such as »Hyp
	erallergic«, »Leonardo«, and »Digital Humanities Quarterly«. He has been a
	rtist-in-residence at Pioneer Works, Harvestworks, and Signal Culture, and
	 has exhibited at the Whitney Museum, Museau do Chiado, Haus der elektroni
	schen Künste, and ZKM, among others.&nbsp;</p>
BEGIN:VALARM
ACTION:DISPLAY
DESCRIPTION:Lecture: Daniel Temkin: Forty-Four Esolangs. The Art of Esoteri
	c Code
TRIGGER:-PT1H
END:VALARM
END:VEVENT
END:VCALENDAR
