BEGIN:VCALENDAR
VERSION:2.0
CALSCALE:GREGORIAN
PRODID:adamgibbons/ics
METHOD:PUBLISH
X-PUBLISHED-TTL:PT1H
BEGIN:VEVENT
UID:858@keepkarlsruheboring.org
SUMMARY:LEECH + LUCID VOID
DTSTAMP:20260423T101959Z
DTSTART:20260312T190000Z
DTEND:20260312T210000Z
DESCRIPTION:Tanzbare Melodien\, feine Soundlandschaften und exzentrische Kl
	angteppiche\nkatapultieren uns hier mit großartigen\, perfekt abgestimmten
	 audiovisuellen\nEffekten in Sphären unbeschreiblicher Emotionen. Insbeson
	dere bei Liveauftritten\nbegeistert die schweizer Band LEECH ein außergewö
	hnlich breites Publikum. Auf\nnationalen Events wie dem Bergmal-Festival o
	der dem 25 Jahre KiFF Festival\nüberzeugt LEECH auf ganzer Linie\, auch in
	ternational ist der Blutegel gefragter\nals nie zuvor. Bei Auftritten in R
	ussland\, Tschechien\, Polen\, Deutschland\,\nÖsterreich etc. konnte LEECH
	 sich eine weltweite Fanbase aufbauen und wird nicht\nzu Unrecht als ‚THE 
	MOST UNDERRATED BAND EVER‘ bezeichnet. Davor LUCID VOID\,\neine Neo Psych/
	Krautrock-Band aus Darmstadt. Die junge Gruppe bringt mit ihren\neinfallsr
	eichen Kompositionen frischen Wind in die deutsche Psychedelic Szene.\nIhr
	 Sound ist vielseitig\, dynamisch und intensiv - so fließen die Stücke von
	\ntranceartigen Passagen über progressive Changes hin zu kraftvollen und e
	pischen\nHöhepunkten. Mit Leichtigkeit und Eleganz bettet die Band beschwö
	rende Melodien\nin jazzige und treibende Rhythmen ein. Dabei vereinen die 
	vier Musiker Einflüsse\nmoderner Psych-Bands wie Causa Sui und All Them Wi
	tches mit Elementen\, die an\nLegenden des Krautrocks wie Can und NEU! eri
	nnern.\nhttps://lucidvoid.bandcamp.com/ Einlass: 19 Uhr\, Beginn: 20 Uhr
URL:https://keepkarlsruheboring.org/event/leech-lucid-void
GEO:49.0017;8.40754
LOCATION:Kohi - Werderstraße 47\, 76137 Karlsruhe\, Alemanya
STATUS:CONFIRMED
CATEGORIES:karlsrunruhe,test
X-ALT-DESC;FMTTYPE=text/html:Tanzbare Melodien, feine Soundlandschaften und
	 exzentrische Klangteppiche katapultieren uns hier mit großartigen, perfek
	t abgestimmten audiovisuellen Effekten in Sphären unbeschreiblicher Emotio
	nen. Insbesondere bei Liveauftritten begeistert die schweizer Band LEECH e
	in außergewöhnlich breites Publikum.<br>Auf nationalen Events wie dem Berg
	mal-Festival oder dem 25 Jahre KiFF Festival überzeugt LEECH auf ganzer Li
	nie, auch international ist der Blutegel gefragter als nie zuvor. Bei Auft
	ritten in Russland, Tschechien, Polen, Deutschland, Österreich etc. konnte
	 LEECH sich eine weltweite Fanbase aufbauen und wird nicht zu Unrecht als 
	‚THE MOST UNDERRATED BAND EVER‘ bezeichnet.<br>Davor LUCID VOID, eine Neo 
	Psych/Krautrock-Band aus Darmstadt. Die junge Gruppe bringt mit ihren einf
	allsreichen Kompositionen frischen Wind in die deutsche Psychedelic Szene.
	 Ihr Sound ist vielseitig, dynamisch und intensiv - so fließen die Stücke 
	von tranceartigen Passagen über progressive Changes hin zu kraftvollen und
	 epischen Höhepunkten. Mit Leichtigkeit und Eleganz bettet die Band beschw
	örende Melodien in jazzige und treibende Rhythmen ein. Dabei vereinen die 
	vier Musiker Einflüsse moderner Psych-Bands wie Causa Sui und All Them Wit
	ches mit Elementen, die an Legenden des Krautrocks wie Can und NEU! erinne
	rn.<br>https://lucidvoid.bandcamp.com/<br>Einlass: 19 Uhr, Beginn: 20 Uhr
BEGIN:VALARM
ACTION:DISPLAY
DESCRIPTION:LEECH + LUCID VOID
TRIGGER:-PT1H
END:VALARM
END:VEVENT
END:VCALENDAR
