BEGIN:VCALENDAR
VERSION:2.0
CALSCALE:GREGORIAN
PRODID:adamgibbons/ics
METHOD:PUBLISH
X-PUBLISHED-TTL:PT1H
BEGIN:VEVENT
UID:1465@keepkarlsruheboring.org
SUMMARY:Lesenachmittag im Entropia
DTSTAMP:20260423T102458Z
DTSTART:20260426T130000Z
DTEND:20260426T150000Z
DESCRIPTION:Viel macht mehr Spaß\, wenn man sich mit anderen drüber unterha
	lten kann. Also:\nLies etwas und erzähl davon!\n\nWir treffen uns jeden 2t
	en und 4ten Sonntag im Monat um 15:00 (startend mit dem\n26.10.2025) und r
	eden über's Lesen. Anders als im Buchclub lesen wir aber nicht\nalle gleic
	hzeitig das gleiche Buch - sondern lesen\, was auch immer uns gerade\ninte
	ressiert. Oder was gerade in der Schule\, auf Arbeit\, oder sonstwo\, anst
	eht.\nJede_r im eigenen Tempo\, nach eigenem Interesse\, ohne lange Abstim
	mungen und\nDiskussionen bevor es los geht.\n\nZiel des ganzen ist\, sich 
	in gemütlicher Atmosphäre über (kürzlich) Gelesenes\nauszutauschen. Vielle
	icht findest du dadurch neue Blickwinkel auf Altbekanntes\,\ntriffst ander
	e Fans der deiner liebsten Fantasy-Charaktere\, oder entdeckst ein\nneues 
	spannendes Forschungsfeld?\n\nJede Art von Text ist willkommen - Artikel\,
	 Kurzgeschichtensammlung\, Manga oder\nepische Romanreihe\; Gedruckt\, ele
	ktronisch\, oder Audio\; Romantasy\,\nwissenschaftliche Publikation\, oder
	 Kochbuch - gelesen wird\, was Spaß macht\, so\nwie es Spaß macht.\n\nMehr
	 Infos unter https://entropia.de/Lesenachmittag\n[https://entropia.de/Lese
	nachmittag]
URL:https://keepkarlsruheboring.org/event/lesenachmittag-im-entropia
GEO:49.0063;8.40722
LOCATION:Entropia - Gewerbehof Steinstraße 23 76133 Karlsruhe
STATUS:CONFIRMED
CATEGORIES:Buchclub,Treffen
X-ALT-DESC;FMTTYPE=text/html:<p>Viel macht mehr Spaß, wenn man sich mit and
	eren drüber unterhalten kann. Also: Lies etwas und erzähl davon!</p><p>Wir
	 treffen uns jeden 2ten und 4ten Sonntag im Monat um 15:00 (startend mit d
	em 26.10.2025) und reden über's Lesen. Anders als im Buchclub lesen wir ab
	er nicht alle gleichzeitig das gleiche Buch - sondern lesen, was auch imme
	r uns gerade interessiert. Oder was gerade in der Schule, auf Arbeit, oder
	 sonstwo, ansteht. Jede_r im eigenen Tempo, nach eigenem Interesse, ohne l
	ange Abstimmungen und Diskussionen bevor es los geht.</p><p>Ziel des ganze
	n ist, sich in gemütlicher Atmosphäre über (kürzlich) Gelesenes auszutausc
	hen. Vielleicht findest du dadurch neue Blickwinkel auf Altbekanntes, trif
	fst andere Fans der deiner liebsten Fantasy-Charaktere, oder entdeckst ein
	 neues spannendes Forschungsfeld?</p><p>Jede Art von Text ist willkommen -
	 Artikel, Kurzgeschichtensammlung, Manga oder epische Romanreihe; Gedruckt
	, elektronisch, oder Audio; Romantasy, wissenschaftliche Publikation, oder
	 Kochbuch - gelesen wird, was Spaß macht, so wie es Spaß macht.</p><p>Mehr
	 Infos unter <a href="https://entropia.de/Lesenachmittag" target="_blank">
	https://entropia.de/Lesenachmittag</a></p>
BEGIN:VALARM
ACTION:DISPLAY
DESCRIPTION:Lesenachmittag im Entropia
TRIGGER:-PT1H
END:VALARM
END:VEVENT
END:VCALENDAR
