BEGIN:VCALENDAR
VERSION:2.0
CALSCALE:GREGORIAN
PRODID:adamgibbons/ics
METHOD:PUBLISH
X-PUBLISHED-TTL:PT1H
BEGIN:VEVENT
UID:382@keepkarlsruheboring.org
SUMMARY:Leßer*innen // Buchclub
DTSTAMP:20260423T102323Z
DTSTART:20250918T163000Z
DESCRIPTION:Leßer*innen\n\n// Ein Buch & ein Raum & Austausch //\n\nBuch tu
	t gut. Darüber reden auch. Und ein gemütlicher Raum sowieso. Über\nCharakt
	ere diskutieren\, passende Musik teilen\, vielleicht eigene Texte vorlesen
	\nund neue Menschen kennenlernen.\n\nWir laden dich ein zu unseren Leseabe
	nden: In unserem Buchclub Leßer*innen\nkommen wir etwa alle vier bis fünf 
	Wochen zusammen\, um uns über ein gelesenes\nBuch auszutauschen.\nKomm vor
	bei\, wenn du mit uns lachen\, diskutieren und über Gedanken & Gefühle\nsp
	rechen möchtest. Vielleicht hast du auch Lust\, im Anschluss an unser\nBuc
	hgespräch eigene Texte und Ideen zu teilen? Wir wollen einen sicheren Raum
	\nschaffen\, in dem das möglich ist.\n\nThemen\, die uns bewegen: Freund*i
	nnenschaft\, die Krisen der Welt\, Rassismus\,\nFeminismus\, queere Leben\
	, Vergangenes und Zukunftsvisionen. Wir wollen diverse\nBücher lesen und m
	arginalisierte Stimmen hören.\n\nTriggerwarnung (TW) & Contentwarnung (CW)
	:\nBitte beachtet\, dass die Bücher\, die wir lesen\, Themen enthalten kön
	nen\, die\neinige Leser*innen beunruhigend finden könnten (sensible Inhalt
	e). Wir bemühen\nuns bei kommenden Büchern\, im Voraus auf spezifische Tri
	gger und sensible\nInhalte hinzuweisen. Uns ist es wichtig\, dass wir eine
	n sicheren\, respektvollen\nRaum schaffen können. Wir bitten euch\, diese 
	TW/CW zu berücksichtigen und eure\neigenen Grenzen zu respektieren. Auch w
	ährend der Treffen ist es in Ordnung\nDiskussionen zu verlassen\, wenn ein
	 Thema für euch belastend ist.\n\nEndlich ein Leseclub jey – wir freuen un
	s auf dich und tolle Bücher.\n\nHier halten wir dich auf dem Laufenden: ht
	tps://t.me/leser_innen\n[https://t.me/leser_innen]\n\nGerne könnt Ihr uns 
	auch eine Email [leser_innen@dieanstoss.de] schreiben.\n\nAm Donnerstag\, 
	den 18. September 2025 um 18:30 Uhr\, findet das nächste Treffen\nstatt.
URL:https://keepkarlsruheboring.org/event/lesserinnen-buchclub
GEO:49.0084;8.41046
LOCATION:ßpace - Fritz-Erler-Straße 7\, 76133 Karlsruhe
STATUS:CONFIRMED
CATEGORIES:Buchclub,Leseclub
X-ALT-DESC;FMTTYPE=text/html:<p>Leßer*innen</p><p><em>// Ein Buch &amp; ein
	 Raum &amp; Austausch //</em></p><p>Buch tut gut. Darüber reden auch. Und 
	ein gemütlicher Raum sowieso. Über Charaktere diskutieren, passende Musik 
	teilen, vielleicht eigene Texte vorlesen und neue Menschen kennenlernen.</
	p><p>Wir laden dich ein zu unseren Leseabenden: In unserem Buchclub Leßer*
	innen kommen wir etwa alle vier bis fünf Wochen zusammen, um uns über ein 
	gelesenes Buch auszutauschen.<br>Komm vorbei, wenn du mit uns lachen, disk
	utieren und über Gedanken &amp; Gefühle sprechen möchtest. Vielleicht hast
	 du auch Lust, im Anschluss an unser Buchgespräch eigene Texte und Ideen z
	u teilen? Wir wollen einen sicheren Raum schaffen, in dem das möglich ist.
	</p><p>Themen, die uns bewegen: Freund*innenschaft, die Krisen der Welt, R
	assismus, Feminismus, queere Leben, Vergangenes und Zukunftsvisionen. Wir 
	wollen diverse Bücher lesen und marginalisierte Stimmen hören.</p><p><em>T
	riggerwarnung (TW) &amp; Contentwarnung (CW):</em> <br>Bitte beachtet, das
	s die Bücher, die wir lesen, Themen enthalten können, die einige Leser*inn
	en beunruhigend finden könnten (sensible Inhalte). Wir bemühen uns bei kom
	menden Büchern, im Voraus auf spezifische Trigger und sensible Inhalte hin
	zuweisen. Uns ist es wichtig, dass wir einen sicheren, respektvollen Raum 
	schaffen können. Wir bitten euch, diese TW/CW zu berücksichtigen und eure 
	eigenen Grenzen zu respektieren. Auch während der Treffen ist es in Ordnun
	g Diskussionen zu verlassen, wenn ein Thema für euch belastend ist.</p><p>
	Endlich ein Leseclub jey – wir freuen uns auf dich und tolle Bücher.</p><p
	>Hier halten wir dich auf dem Laufenden: <a href="https://t.me/leser_innen
	" target="_blank">https://t.me/leser_innen</a></p><p>Gerne könnt Ihr uns a
	uch eine <a href="mailto:leser_innen@dieanstoss.de" target="_blank">Email<
	/a> schreiben.</p><p>Am Donnerstag, den 18. September 2025 um 18:30 Uhr, f
	indet das nächste Treffen statt.</p>
BEGIN:VALARM
ACTION:DISPLAY
DESCRIPTION:Leßer*innen // Buchclub
TRIGGER:-PT1H
END:VALARM
END:VEVENT
END:VCALENDAR
