BEGIN:VCALENDAR
VERSION:2.0
CALSCALE:GREGORIAN
PRODID:adamgibbons/ics
METHOD:PUBLISH
X-PUBLISHED-TTL:PT1H
BEGIN:VEVENT
UID:1251@keepkarlsruheboring.org
SUMMARY:Lesung & Gespräch - Tupoka Ogette: "Trotzdem zuhause"
DTSTAMP:20260423T104911Z
DTSTART:20260601T180000Z
DESCRIPTION:»So beginnt meine Geschichte. Als Tochter einer weißen Frau und
	 eines Schwarzen\nMannes. Zwischen Sange\, Südtansania\, und Gera\, Thürin
	gen. Zwischen kolonialer\nVergangenheit und DDR-Diktatur.«\n\nTupoka Ogett
	e schreibt von der Suche nach Zugehörigkeit\, vom Leben im\nWiderspruch\, 
	im Dazwischen. Sie erzählt vom Aufwachsen als Schwarzes Kind in der\nDDR\,
	 von Flucht\, Verlust\, Sexismus und Gewalt – aber auch von Liebe\,\nMutte
	rschaft\, Resilienz und Selbstermächtigung. Von Freundschaften\, die sie\n
	schließt\, und solchen\, die sie verliert. Vom Neuanfang in der BRD. Und d
	avon\,\ndie Ruhe im Sturm zu finden.\n\nTupoka Ogette wurde 1980 in Leipzi
	g als Tochter eines tansanischen Studenten der\nLandwirtschaft und einer d
	eutschen Mathematikstudentin geboren. Kurz vor der\nWende wanderte ihre Mu
	tter mit ihr nach Westberlin aus\, wo Ogette bis zu ihrem\nAbitur lebte. S
	ie hat einen Magister in Afrikanistik und Deutsch als\nFremdsprache von de
	r Universität Leipzig und einen Master in International\nBusiness von der 
	Graduate School of Grenoble. Seit 2012 ist Tupoka Ogette\nbundesweit als B
	eraterin und Trainerin im Bereich Rassismuskritik tätig. Sie\nlebt mit ihr
	em Mann und ihren Kindern in Berlin.
URL:https://keepkarlsruheboring.org/event/lesung-and-gesprach-tupoka-ogette
	-trotzdem-zuhause
GEO:48.989;8.37185
LOCATION:P8 - Schauenburgstraße 5\, 76135 Karlsruhe
STATUS:CONFIRMED
CATEGORIES:Events,Karlsruhe,karlsruhe-social.de,Lesung,Veranstaltungen
X-ALT-DESC;FMTTYPE=text/html:<p>»So beginnt meine Geschichte. Als Tochter e
	iner weißen Frau und eines Schwarzen Mannes. Zwischen Sange, Südtansania, 
	und Gera, Thüringen. Zwischen kolonialer Vergangenheit und DDR-Diktatur.«<
	/p><p>Tupoka Ogette schreibt von der Suche nach Zugehörigkeit, vom Leben i
	m Widerspruch, im Dazwischen. Sie erzählt vom Aufwachsen als Schwarzes Kin
	d in der DDR, von Flucht, Verlust, Sexismus und Gewalt – aber auch von Lie
	be, Mutterschaft, Resilienz und Selbstermächtigung. Von Freundschaften, di
	e sie schließt, und solchen, die sie verliert. Vom Neuanfang in der BRD. U
	nd davon, die Ruhe im Sturm zu finden.</p><p><strong>Tupoka Ogette</strong
	> wurde 1980 in Leipzig als Tochter eines tansanischen Studenten der Landw
	irtschaft und einer deutschen Mathematikstudentin geboren. Kurz vor der We
	nde wanderte ihre Mutter mit ihr nach Westberlin aus, wo Ogette bis zu ihr
	em Abitur lebte. Sie hat einen Magister in Afrikanistik und Deutsch als Fr
	emdsprache von der Universität Leipzig und einen Master in International B
	usiness von der Graduate School of Grenoble. Seit 2012 ist Tupoka Ogette b
	undesweit als Beraterin und Trainerin im Bereich Rassismuskritik tätig. Si
	e lebt mit ihrem Mann und ihren Kindern in Berlin.</p>
BEGIN:VALARM
ACTION:DISPLAY
DESCRIPTION:Lesung & Gespräch - Tupoka Ogette: "Trotzdem zuhause"
TRIGGER:-PT1H
END:VALARM
END:VEVENT
END:VCALENDAR
