BEGIN:VCALENDAR
VERSION:2.0
CALSCALE:GREGORIAN
PRODID:adamgibbons/ics
METHOD:PUBLISH
X-PUBLISHED-TTL:PT1H
BEGIN:VEVENT
UID:707@keepkarlsruheboring.org
SUMMARY:Lesung - Arne Semsrott: "Gegenmacht: Die Zivilgesellschaft schlägt 
	zurück"
DTSTAMP:20260423T105008Z
DTSTART:20261123T190000Z
DESCRIPTION:Nehmt die konservative Wende und Untergangsstimmung nicht hin –
	 es ist Zeit für\ndie demokratische Gegenoffensive!\n\nAlles\, was der Pol
	itik-Aktivist Arne Semsrott in seinem Bestseller\nMachtübernahme\n[https:/
	/www.stephanusbuch.de/suchen.php?knvmode=detail&isbn=978-3-426-57006-7]\na
	ls Szenario einer rechtskonservativen Wende beschrieben hat\, ist längst\n
	Wirklichkeit geworden – allerdings ganz ohne AfD\, sondern unter Führung d
	er\nCDU/SPD-Koalition: ein hartes Grenzregime\,die Herabwürdigung der sozi
	al\nSchwächeren\, ein Ende des Klimaschutzes und eine Politik der Angst.\n
	\nSemsrott fordert: Gerade jetzt gilt es\, wieder in die Offensive zu komm
	en und\nWiderstand zu leisten. Engagieren wir uns gemeinsam\, damit unsere
	 Demokratie\noffen\, vielfältig und lebenswert bleibt und wir uns nicht vo
	n Pessimismus und\nVerlustängsten treiben lassen.\n\nJeder kann aktiv werd
	en\, um die Welt zu einem besseren Ort zu machen. Wir\nerfahren\, was Gesu
	ndheits-Streiks bewirken und welche Verantwortung der\nÖffentlich-rechtlic
	he Rundfunk hat. Und wie die kollektive Anstrengung von\nBürgerräten\, Jug
	endorganisationen\, Flüchtlingsräten und zivilgesellschaftlichen\nOrganisa
	tionen den Funken für einen progressiven Wandel entzünden kann.\n\nArne Se
	msrott\, geboren 1988 in Hamburg\, ist Politikwissenschaftler und Aktivist
	.\nEr leitet das Recherche- und Transparenzportal FragDenStaat\n[https://f
	ragdenstaat.de/]\, mit dem er u. a. für die Veröffentlichung der\n„NSU-Akt
	en“ sorgte. Zudem war er Mitinitiator von Hochschulwatch und OpenSCHUFA\nu
	nd gründete den Freiheitsfonds. Semsrott schreibt u. a. für die taz\, den\
	nfluter\, netzpolitik.org [http://netzpolitik.org] und Le Monde diplomatiq
	ue und\nist zweifacher Träger des Otto Brenner Preises für kritischen Jour
	nalismus.\n\n\n\n\nVERANSTALTER:\n\n * Kulturzentrum Tollhaus [https://www
	.tollhaus.de/]\n\n * Stephanus-Buchhandlung [https://www.stephanusbuch.de/
	]\n\n * Metzlersche Buchhandlung [https://www.metzlerbuch.de/]\n\n * Buchh
	andlung Der Rabe [https://www.rabebuch.de/]\n\n * Buchhandlung Mächtlinger
	 [https://www.maechtlingerbuch.de/]\n\n * Bücher-Oase [https://www.buecher
	oase.de/]\n\n * Buchhandlung Lesebär [https://www.buchhandlung-lesebaer.de
	r/]\n\nVORVERKAUF:\n\n * Kulturzentrum Tollhaus\n\n * Stephanus-Buchhandlu
	ng\n\n * Metzlersche Buchhandlung\n\n * Buchhandlung Der Rabe\n\n * Buchha
	ndlung Mächtlinger\n\n * Restkarten an der Abendkasse\n\nEINTRITTSPREISE:\
	n\nTicket Laden: 15\,00 €\, ermäßigt: 13\,00 €
URL:https://keepkarlsruheboring.org/event/lesung-arne-semsrott-gegenmacht-d
	ie-zivilgesellschaft-schlagt-zuruck
GEO:49.0044;8.43171
LOCATION:Tollhaus - 35\, Alter Schlachthof\, Oststadt Südlicher Teil\, Osts
	tadt\, Karlsruhe\, Baden-Württemberg\, 76131\, Deutschland
STATUS:CONFIRMED
CATEGORIES:Lesung
X-ALT-DESC;FMTTYPE=text/html:<p>Nehmt die konservative Wende und Untergangs
	stimmung nicht hin – es ist Zeit für die demokratische Gegenoffensive!</p>
	<p>Alles, was der Politik-Aktivist Arne Semsrott in seinem Bestseller <a t
	arget="_blank" href="https://www.stephanusbuch.de/suchen.php?knvmode=detai
	l&amp;isbn=978-3-426-57006-7"><u>Machtübernahme</u></a> als Szenario einer
	 rechtskonservativen Wende beschrieben hat, ist längst Wirklichkeit geword
	en – allerdings ganz ohne AfD, sondern unter Führung der CDU/SPD-Koalition
	: ein hartes Grenzregime,die Herabwürdigung der sozial Schwächeren, ein En
	de des Klimaschutzes und eine Politik der Angst.</p><p>Semsrott fordert: G
	erade jetzt gilt es, wieder in die Offensive zu kommen und Widerstand zu l
	eisten. Engagieren wir uns gemeinsam, damit unsere Demokratie offen, vielf
	ältig und lebenswert bleibt und wir uns nicht von Pessimismus und Verlustä
	ngsten treiben lassen.</p><p>Jeder kann aktiv werden, um die Welt zu einem
	 besseren Ort zu machen. Wir erfahren, was Gesundheits-Streiks bewirken un
	d welche Verantwortung der Öffentlich-rechtliche Rundfunk hat. Und wie die
	 kollektive Anstrengung von Bürgerräten, Jugendorganisationen, Flüchtlings
	räten und zivilgesellschaftlichen Organisationen den Funken für einen prog
	ressiven Wandel entzünden kann.</p><p><strong>Arne Semsrott</strong>, gebo
	ren 1988 in Hamburg, ist Politikwissenschaftler und Aktivist. Er leitet da
	s Recherche- und Transparenzportal <a target="_blank" href="https://fragde
	nstaat.de/"><u>FragDenStaat</u></a>, mit dem er u. a. für die Veröffentlic
	hung der „NSU-Akten“ sorgte. Zudem war er Mitinitiator von Hochschulwatch 
	und OpenSCHUFA und gründete den Freiheitsfonds. Semsrott schreibt u. a. fü
	r die taz, den fluter, <a target="_blank" href="http://netzpolitik.org">ne
	tzpolitik.org</a> und Le Monde diplomatique und ist zweifacher Träger des 
	Otto Brenner Preises für kritischen Journalismus.</p><p></p><h3>Veranstalt
	er:</h3><ul><li><p><a target="_blank" href="https://www.tollhaus.de/"><u>K
	ulturzentrum Tollhaus</u></a></p></li><li><p><a target="_blank" href="http
	s://www.stephanusbuch.de/"><u>Stephanus-Buchhandlung</u></a></p></li><li><
	p><a target="_blank" href="https://www.metzlerbuch.de/"><u>Metzlersche Buc
	hhandlung</u></a></p></li><li><p><a target="_blank" href="https://www.rabe
	buch.de/"><u>Buchhandlung Der Rabe</u></a></p></li><li><p><a target="_blan
	k" href="https://www.maechtlingerbuch.de/"><u>Buchhandlung Mächtlinger</u>
	</a></p></li><li><p><a target="_blank" href="https://www.buecheroase.de/">
	<u>Bücher-Oase</u></a></p></li><li><p><a target="_blank" href="https://www
	.buchhandlung-lesebaer.der/"><u>Buchhandlung Lesebär</u></a></p></li></ul>
	<h4>Vorverkauf:</h4><ul><li><p>Kulturzentrum Tollhaus</p></li><li><p>Steph
	anus-Buchhandlung</p></li><li><p>Metzlersche Buchhandlung</p></li><li><p>B
	uchhandlung Der Rabe</p></li><li><p>Buchhandlung Mächtlinger</p></li><li><
	p>Restkarten an der Abendkasse</p></li></ul><h4>Eintrittspreise:</h4><p>Ti
	cket Laden: 15,00 €, ermäßigt: 13,00 €</p>
BEGIN:VALARM
ACTION:DISPLAY
DESCRIPTION:Lesung - Arne Semsrott: "Gegenmacht: Die Zivilgesellschaft schl
	ägt zurück"
TRIGGER:-PT1H
END:VALARM
END:VEVENT
END:VCALENDAR
