BEGIN:VCALENDAR
VERSION:2.0
CALSCALE:GREGORIAN
PRODID:adamgibbons/ics
METHOD:PUBLISH
X-PUBLISHED-TTL:PT1H
BEGIN:VEVENT
UID:1492@keepkarlsruheboring.org
SUMMARY:LiegendDemo Karlsruhe - Awareness für ME/CFS
DTSTAMP:20260423T090609Z
DTSTART:20260509T110000Z
DTEND:20260509T133000Z
DESCRIPTION:Was\, Wann\, Wo?\n\nAm 09.05.2026 um 13 Uhr findet auf dem Frie
	drichsplatz in Karlsruhe unsere\nLiegendDemo statt. Wir versammeln uns\, u
	m auf die Situation von Menschen mit\nME/CFS\, Long Covid und Post Vac auf
	merksam zu machen. Viele von ihnen sind so\nschwer betroffen\, dass sie de
	n Großteil des Tages liegend in einem abgedunkelten\nRaum verbringen müsse
	n.\n\nMit der LiegendDemo machen wir genau das sichtbar: Wir legen uns gem
	einsam hin –\nstellvertretend für all jene\, die nicht selbst vor Ort sein
	 können.\n\nWas ist ME/CFS?\n\nME/CFS ist eine schwere neuroimmunologische
	 Multisystemerkrankung\, für die es\nderzeit keine Heilung gibt. In Deutsc
	hland sind rund 650.000 Menschen an ME/CFS\nerkrankt\, darunter ca. 80.000
	 Kinder und Jugendliche. Die Lebensqualität gehört\nzu den niedrigsten all
	er bekannten Erkrankungen und wird oft mit der von\nMenschen mit Krebs ode
	r AIDS im Endstadium verglichen. ME/CFS ist seit 1969 von\nder WHO (Weltge
	sundheitsorganisation) anerkannt. Dennoch fehlt bis heute\nausreichendes H
	andeln in Medizin\, Pflege und Versorgung.\n\nFür viele Betroffene fühlt s
	ich diese Krankheit an wie lebendig begraben zu\nsein.\n\nWarum brauchen w
	ir dich?\n\nDiese Aktion lebt besonders von der Unterstützung gesunder Men
	schen. Denn viele\nErkrankte sind zu krank\, um teilzunehmen. Umso wichtig
	er ist es\, dass du kommst\,\ndich hinlegst und uns deine Stimme gibst!\n\
	nWer sind wir?\n\nWir als #liegenddemo sind eine Initiative von Betroffene
	n und\nUnterstützer*innen\, die sich für mehr Aufklärung\, Anerkennung und
	 Forschung rund\num ME/CFS und Long Covid einsetzt. Unser Ziel ist es\, Un
	sichtbares sichtbar zu\nmachen und echte Veränderung anzustoßen. Die Liege
	ndDemos finden vom\n08.-12.05.2026 bundesweit in über 30 Städten statt.\n\
	nAlso: Schnapp dir eine Isomatte oder Campingliege\, bring Freund*innen mi
	t und\nsetz gemeinsam mit uns ein Zeichen!!
URL:https://keepkarlsruheboring.org/event/liegenddemo-karlsruhe-awareness-f
	ur-mecfs
GEO:49.0079;8.40076
LOCATION:Friedrichsplatz - Innenstadt-West\, Karlsruhe\, Baden-Württemberg\
	, 76133\, Deutschland
STATUS:CONFIRMED
CATEGORIES:Demonstration
X-ALT-DESC;FMTTYPE=text/html:<p><strong>Was, Wann, Wo?</strong></p><p>Am <s
	trong>09.05.2026</strong> um <strong>13 Uhr</strong> findet auf dem <stron
	g>Friedrichsplatz</strong> in Karlsruhe unsere LiegendDemo statt. Wir vers
	ammeln uns, um auf die Situation von Menschen mit ME/CFS, Long Covid und P
	ost Vac aufmerksam zu machen. Viele von ihnen sind so schwer betroffen, da
	ss sie den Großteil des Tages liegend in einem abgedunkelten Raum verbring
	en müssen.</p><p>Mit der LiegendDemo machen wir genau das sichtbar: Wir le
	gen uns gemeinsam hin – stellvertretend für all jene, die nicht selbst vor
	 Ort sein können.</p><p><strong>Was ist ME/CFS?</strong></p><p>ME/CFS ist 
	eine <strong>schwere neuroimmunologische Multisystemerkrankung</strong>, f
	ür die es derzeit keine Heilung gibt. In Deutschland sind rund <strong>650
	.000 Menschen</strong> an ME/CFS erkrankt, darunter ca. 80.000 Kinder und 
	Jugendliche. Die Lebensqualität gehört zu den niedrigsten aller bekannten 
	Erkrankungen und wird oft mit der von Menschen mit Krebs oder AIDS im Ends
	tadium verglichen. ME/CFS ist seit 1969 von der WHO (Weltgesundheitsorgani
	sation) anerkannt. Dennoch fehlt bis heute ausreichendes Handeln in Medizi
	n, Pflege und Versorgung. </p><p>Für viele Betroffene fühlt sich diese Kra
	nkheit an wie <strong>lebendig begraben</strong> zu sein.</p><p><strong>Wa
	rum brauchen wir dich?</strong></p><p>Diese Aktion lebt besonders von der 
	Unterstützung gesunder Menschen. Denn viele Erkrankte sind zu krank, um te
	ilzunehmen. Umso wichtiger ist es, dass du kommst, dich hinlegst und uns d
	eine Stimme gibst!</p><p><strong>Wer sind wir?</strong></p><p>Wir als #lie
	genddemo sind eine Initiative von Betroffenen und Unterstützer*innen, die 
	sich für mehr Aufklärung, Anerkennung und Forschung rund um ME/CFS und Lon
	g Covid einsetzt. Unser Ziel ist es, Unsichtbares sichtbar zu machen und e
	chte Veränderung anzustoßen. Die LiegendDemos finden vom 08.-12.05.2026 bu
	ndesweit in über 30 Städten statt.</p><p><strong>Also: Schnapp dir eine Is
	omatte oder Campingliege, bring Freund*innen mit und setz gemeinsam mit un
	s ein Zeichen!!</strong></p>
BEGIN:VALARM
ACTION:DISPLAY
DESCRIPTION:LiegendDemo Karlsruhe - Awareness für ME/CFS
TRIGGER:-PT1H
END:VALARM
END:VEVENT
END:VCALENDAR
