BEGIN:VCALENDAR
VERSION:2.0
CALSCALE:GREGORIAN
PRODID:adamgibbons/ics
METHOD:PUBLISH
X-PUBLISHED-TTL:PT1H
BEGIN:VEVENT
UID:525@keepkarlsruheboring.org
SUMMARY:Linke Late Night - Couchgespräche mit Ines Schwerdtner
DTSTAMP:20260423T104538Z
DTSTART:20251120T183000Z
DTEND:20251120T210000Z
DESCRIPTION:Die Linke Late Night mit der Parteivorsitzenden\, Ines Schwerdt
	ner!\n\nWir freuen uns am 20.11. ab 19:30 Ines im Tollhaus begrüßen zu dür
	fen.\n\nAb 19:30 beginnt ein entspanntes Kennenlernen und Ankommen und um 
	20:30 beginnen\nunsere Couch Gespräche mit Ines inklusive einer Game Show\
	n\nBei der Linken Late Night erwarten dich gute Gespräche\, ein gemütliche
	r Abend\nund ein interaktives Quiz-Format\, bei dem du selbst Teil des Spi
	els wirst.\nGemeinsam mit Ines und unseren Kandidat*innen sprechen wir übe
	r soziale\nGerechtigkeit Frieden\, Wirtschaft\, Gesundheit\, ÖPNV\, Femini
	smus und vieles mehr\nund ﬁnden spielerisch heraus\, wie wir gemeinsam Bew
	egung in die Politik bringen\nkönnen. Komm vorbei\, tausch dich aus und ma
	ch mit!\n\nDabei gibt es natürlich auch Getränke und wir werden durch Pizz
	a Partisani mit\nEssen versorgt.
URL:https://keepkarlsruheboring.org/event/linke-late-night-couchgesprache-m
	it-ines-schwerdtner
GEO:49.0044;8.43171
LOCATION:Tollhaus - 35\, Alter Schlachthof\, Oststadt Südlicher Teil\, Osts
	tadt\, Karlsruhe\, Baden-Württemberg\, 76131\, Deutschland
STATUS:CONFIRMED
CATEGORIES:DieLinke,Politics,Workshop
X-ALT-DESC;FMTTYPE=text/html:<p>Die Linke Late Night mit der Parteivorsitze
	nden, Ines Schwerdtner! <br><br>Wir freuen uns am 20.11. ab 19:30 Ines im 
	Tollhaus begrüßen zu dürfen.<br><br>Ab 19:30 beginnt ein entspanntes Kenne
	nlernen und Ankommen und um 20:30 beginnen unsere Couch Gespräche mit Ines
	 inklusive einer Game Show<br><br>Bei der Linken Late Night erwarten dich 
	gute Gespräche, ein gemütlicher Abend und ein interaktives Quiz-Format, be
	i dem du selbst Teil des Spiels wirst. Gemeinsam mit Ines und unseren Kand
	idat*innen sprechen wir über soziale Gerechtigkeit Frieden, Wirtschaft, Ge
	sundheit, ÖPNV, Feminismus und vieles mehr und ﬁnden spielerisch heraus, w
	ie wir gemeinsam Bewegung in die Politik bringen können. Komm vorbei, taus
	ch dich aus und mach mit!<br><br>Dabei gibt es natürlich auch Getränke und
	 wir werden durch Pizza Partisani mit Essen versorgt.</p>
BEGIN:VALARM
ACTION:DISPLAY
DESCRIPTION:Linke Late Night - Couchgespräche mit Ines Schwerdtner
TRIGGER:-PT1H
END:VALARM
END:VEVENT
END:VCALENDAR
