BEGIN:VCALENDAR
VERSION:2.0
CALSCALE:GREGORIAN
PRODID:adamgibbons/ics
METHOD:PUBLISH
X-PUBLISHED-TTL:PT1H
BEGIN:VEVENT
UID:412@keepkarlsruheboring.org
SUMMARY:Literatur offensiv!
DTSTAMP:20260423T102329Z
DTSTART:20251010T130000Z
DTEND:20251020T215900Z
DESCRIPTION:Die Literarische Gesellschaft Karlsruhe veranstaltet in diesem 
	Jahr zum 13. Mal\ndie Karlsruher Literaturtage. Die Veranstaltungsreihe is
	t ein fester Bestandteil\nder städtischen Kulturlandschaft und macht Karls
	ruhe Jahr für Jahr zur Bühne\nliterarischer Entdeckungen. Unter dem Motto 
	Literatur offensiv! thematisieren\nwir vom 10. bis 20. Oktober 2025 die Vi
	elfalt des Erzählens – in bewährten\nFormaten und neuen Impulsen\, generat
	ionenübergreifend\, experimentell und\ntraditionsbewusst zugleich. Mit übe
	r 35 Veranstaltungen an mehr als 20 Orten\nbringen die Literaturtage lokal
	e und regionale Autorinnen\, Künstlerinnen und ein\nbreites\, neugieriges 
	Publikum zusammen. Ob in Bibliotheken\, Buchhandlungen\,\n„Fahrstühlen“\, 
	kleinen Geschäften oder Museen – Literatur wird in Karlsruhe\nhörbar\, sic
	htbar und zugänglich. Möglich macht das die Zusammenarbeit mit\nzahlreiche
	n Kooperationspartnern\, Initiativen und Institutionen\, die das\nfacetten
	reiche Programm gemeinsam mit der Literarischen Gesellschaft gestalten.\nD
	en Auftakt bildet traditionell der Poetry Slam Dead and Alive im Kleinen H
	aus\ndes Badischen Staatstheaters am Freitag\, 10. Oktober 2025\, um 19:30
	 Uhr. In den\ndarauffolgenden Tagen erwarten die Besucher*innen Lesungen\,
	 szenische\nPerformances\, interaktive Formate\, musikalisch-literarische 
	Abende und kreative\nSchreibimpulse.\n\nWir danken den Förderern\, den zah
	lreichen Geschäftsinhabern und dem Kulturbüro\nder Stadt Karlsruhe. Wir fr
	euen uns\, dass wir auch in diesem Jahr wieder dieses\nProgramm realisiere
	n können. Für das nächste Jahr sind von der Stadt sehr hohe\nfinanzielle K
	ürzungen zu erwarten\, die dazu führen werden\, dass das kulturelle\nLeben
	 drastisch eingeschränkt wird. Darüber müssen wir uns verständigen.\n\n\n\
	nProgrammheft\n[http://www.literaturtage-karlsruhe.de/media/images/program
	m/Programmheft_LT_2025_DRUCK.pdf]
URL:https://keepkarlsruheboring.org/event/literatur-offensiv
GEO:49.0069;8.40342
LOCATION:Karlsruhe (verschieden Orte) - Baden-Württemberg\, Deutschland
STATUS:CONFIRMED
CATEGORIES:Festival,Kultur,Literatur Offensiv,Literature
X-ALT-DESC;FMTTYPE=text/html:<p>Die Literarische Gesellschaft Karlsruhe ver
	anstaltet in diesem Jahr zum 13. Mal die Karlsruher Literaturtage. Die Ver
	anstaltungsreihe ist ein fester Bestandteil der städtischen Kulturlandscha
	ft und macht Karlsruhe Jahr für Jahr zur Bühne literarischer Entdeckungen.
	 Unter dem Motto <em>Literatur offensiv!</em> thematisieren wir vom 10. bi
	s 20. Oktober 2025 die Vielfalt des Erzählens – in bewährten Formaten und 
	neuen Impulsen, generationenübergreifend, experimentell und traditionsbewu
	sst zugleich. Mit über 35 Veranstaltungen an mehr als 20 Orten bringen die
	 Literaturtage lokale und regionale Autor<em>innen, Künstler</em>innen und
	 ein breites, neugieriges Publikum zusammen. Ob in Bibliotheken, Buchhandl
	ungen, „Fahrstühlen“, kleinen Geschäften oder Museen – Literatur wird in K
	arlsruhe hörbar, sichtbar und zugänglich. Möglich macht das die Zusammenar
	beit mit zahlreichen Kooperationspartnern, Initiativen und Institutionen, 
	die das facettenreiche Programm gemeinsam mit der Literarischen Gesellscha
	ft gestalten. Den Auftakt bildet traditionell der Poetry Slam <em>Dead and
	 Alive</em> im Kleinen Haus des Badischen Staatstheaters am Freitag, 10. O
	ktober 2025, um 19:30 Uhr. In den darauffolgenden Tagen erwarten die Besuc
	her*innen Lesungen, szenische Performances, interaktive Formate, musikalis
	ch-literarische Abende und kreative Schreibimpulse.</p><p>Wir danken den F
	örderern, den zahlreichen Geschäftsinhabern und dem Kulturbüro der Stadt K
	arlsruhe. Wir freuen uns, dass wir auch in diesem Jahr wieder dieses Progr
	amm realisieren können. Für das nächste Jahr sind von der Stadt sehr hohe 
	finanzielle Kürzungen zu erwarten, die dazu führen werden, dass das kultur
	elle Leben drastisch eingeschränkt wird. Darüber müssen wir uns verständig
	en.</p><p></p><p><a href="http://www.literaturtage-karlsruhe.de/media/imag
	es/programm/Programmheft_LT_2025_DRUCK.pdf" target="_blank"><strong>Progra
	mmheft</strong></a></p>
BEGIN:VALARM
ACTION:DISPLAY
DESCRIPTION:Literatur offensiv!
TRIGGER:-PT1H
END:VALARM
END:VEVENT
END:VCALENDAR
