BEGIN:VCALENDAR
VERSION:2.0
CALSCALE:GREGORIAN
PRODID:adamgibbons/ics
METHOD:PUBLISH
X-PUBLISHED-TTL:PT1H
BEGIN:VEVENT
UID:847@keepkarlsruheboring.org
SUMMARY:LOBSTERBOMB
DTSTAMP:20260423T104141Z
DTSTART:20260308T170000Z
DTEND:20260308T190000Z
DESCRIPTION:Wir haben für eine Frühabendshow an diesem Sonntag die tolle Ba
	nd LOBSTERBOMB\neingeladen. Lobsterbomb ist eine Berliner Indie-Punk-Band\
	, die laut\, roh und\nehrlich auftritt. Irgendwo zwischen Frust\, Euphorie
	 und einem großen Bedürfnis\,\neinfach mal alles rauszulassen. In ihren So
	ngs geht um mentale Gesundheit\,\nHerzschmerz\, Frust\, den Zustand der We
	lt – aber auch darum\, nicht aufzugeben.\nLive wird geschwitzt\, geschrien
	\, gelacht – nahbar\, intensiv und mit einer\nEnergie\, die hängenbleibt. 
	Lobsterbomb machen Musik\, weil sie müssen. Weil sie\nwas zu sagen haben. 
	Weil da was raus will. Einlass: 17 Uhr\, Beginn: 18 Uhr
URL:https://keepkarlsruheboring.org/event/lobsterbomb
GEO:49.0017;8.40754
LOCATION:Kohi - Werderstraße 47\, 76137 Karlsruhe\, Alemanya
STATUS:CONFIRMED
CATEGORIES:karlsrunruhe,test
X-ALT-DESC;FMTTYPE=text/html:Wir haben für eine Frühabendshow an diesem Son
	ntag die tolle Band LOBSTERBOMB eingeladen.<br>Lobsterbomb ist eine Berlin
	er Indie-Punk-Band, die laut, roh und ehrlich auftritt. Irgendwo zwischen 
	Frust, Euphorie und einem großen Bedürfnis, einfach mal alles rauszulassen
	. In ihren Songs geht um mentale Gesundheit, Herzschmerz, Frust, den Zusta
	nd der Welt – aber auch darum, nicht aufzugeben. Live wird geschwitzt, ges
	chrien, gelacht – nahbar, intensiv und mit einer Energie, die hängenbleibt
	. Lobsterbomb machen Musik, weil sie müssen. Weil sie was zu sagen haben. 
	Weil da was raus will.<br>Einlass: 17 Uhr, Beginn: 18 Uhr
BEGIN:VALARM
ACTION:DISPLAY
DESCRIPTION:LOBSTERBOMB
TRIGGER:-PT1H
END:VALARM
END:VEVENT
END:VCALENDAR
