BEGIN:VCALENDAR
VERSION:2.0
CALSCALE:GREGORIAN
PRODID:adamgibbons/ics
METHOD:PUBLISH
X-PUBLISHED-TTL:PT1H
BEGIN:VEVENT
UID:136@keepkarlsruheboring.org
SUMMARY:LOVE EACH MIND: Was ist Neurodiversität und was hat das mit mir zu 
	tun?
DTSTAMP:20260423T104913Z
DTSTART:20250724T153000Z
DTEND:20250724T183000Z
DESCRIPTION:💕LOVE EACH MIND💕\nWas ist Neurodiversität und was hat das mit m
	ir zu tun?\n\n🔎 Was: Workshop\n📅 Wann: 24.07. \, 17.30-20.30 Uhr\n⛺Wo: Col
	a Taxi Okay\n🗣️ Sprache: Deutsch\n📌 Veranstalter: Input Kollektiv\n📧 Anmeld
	ung: input_karlsruhe@systemli.org [input_karlsruhe@systemli.org]\n🎤 Refere
	nt*in: Sabrina Burtscher\n🌈 Offen für: Alle Interessierten\n❓Fragen und Wü
	nsche: input_karlsruhe@systemli.org [input_karlsruhe@systemli.org]\n📚 Inha
	lt:\n"Neurodivergent"\, "neurotypisch" und "neurodivers" kommen in den let
	zten Jahren\nimmer häufiger in der öffentlichen Wahrnehmung vor. Aber was 
	bedeuten die\nBegriffe jeweils? Und wie zeigt sich Neurodiversität im Allt
	ag?\nIn diesem Workshop klären wir zuerst die wissenschaftlichen Grundlage
	n\, um uns\ndann in Kleingruppen mit praktischen Fragen auseinander zu set
	zen: Wie wirken\nverschiedene Lebenssituationen und Neurodiversität zusamm
	en? Was hilft wem\, was\nist für wen hinderlich? Was haben Kapitalismus\, 
	Patriarchat und Neurodiversität\nmiteinander zu tun? Wie können wir Zusamm
	enarbeit in Teams und Gruppen\npositiv(er) gestalten?\n\n\n\n\n\nWHAT IS N
	EURODIVERSITY – AND WHAT DOES IT HAVE TO DO WITH ME?\n\nRegistration (also
	 for questions and requests): input_karlsruhe@systemli.org\n\nWorkshop fac
	ilitator: Sabrina Burtscher\n\nTerms like neurodivergent\, neurotypical\, 
	and neurodiverse have appeared more and\nmore frequently in conversations\
	, the media\, and everyday life in recent years.\nBut what exactly do they
	 mean? And what does neurodiversity look like in daily\nlife?\n\nThe INPUT
	 collective invites you:\n\nIn this workshop\, we will first explore the s
	cientific foundations of\nneurodiversity. Afterwards\, we will exchange id
	eas in small groups about\npractical questions: How do different life situ
	ations affect neurodivergent\npeople? What can be helpful\, and what prese
	nts a challenge? What connections\nexist between capitalism\, patriarchy\,
	 and neurodiversity? And how can we make\ncollaboration in teams and group
	s more inclusive and supportive?     \n\nمصطلحات مثل "عصبي مختلف"، "عصبي ن
	مطي"، و"تنوع عصبي" أصبحت تظهر بشكل متزايد في\nالنقاشات ووسائل الإعلام والح
	ياة اليومية خلال السنوات الأخيرة. لكن، ماذا تعني هذه\nالمصطلحات بالضبط؟ وك
	يف يظهر التنوع العصبي في الحياة اليومية؟\n\nيدعوكم فريق INPUT:\n\nفي هذه ا
	لورشة، سنبدأ باستعراض الأسس العلمية لمفهوم التنوع العصبي. بعد ذلك،\nسنتباد
	ل الأفكار في مجموعات صغيرة حول أسئلة عملية، مثل:\n\nكيف تؤثر مواقف الحياة 
	المختلفة على الأشخاص العصبيين المختلفين؟\n\nما الذي يمكن أن يكون مفيدًا، و
	ما الذي يشكل عائقًا؟\n\nما العلاقة بين الرأسمالية، النظام الأبوي، والتنوع 
	العصبي؟\n\nوكيف يمكننا جعل التعاون داخل الفرق والمجموعات أكثر شمولًا ودعمً
	ا؟\n\nQu'est-ce que la neurodiversité – et quel lien avec moi ?\n\nInscrip
	tion (questions et demandes également) : input_karlsruhe@systemli.org\n\nA
	nimation de l'atelier : Sabrina Burtscher\n\nDes termes comme neurodiverge
	nt\, neurotypique et neurodivers apparaissent de\nplus en plus souvent dan
	s les conversations\, les médias et la vie quotidienne.\nMais que signifie
	nt-ils exactement? Et à quoi ressemble la neurodiversité au\nquotidien?\n\
	nLe collectif INPUT t‘ invite :\n\nDans cet atelier\, nous commencerons pa
	r explorer les bases scientifiques de la\nneurodiversité. Ensuite\, nous d
	iscuterons en petits groupes autour de questions\npratiques : Comment diff
	érentes situations de vie influencent-elles les\npersonnes neurodivergente
	s? Qu’est-ce qui peut être utile\, ou au contraire un\nobstacle? Quels lie
	ns existent entre capitalisme\, patriarcat et neurodiversité?\nEt comment 
	rendre le travail en équipe et en groupe plus inclusif et solidaire?
URL:https://keepkarlsruheboring.org/event/love-each-mind-was-ist-neurodiver
	sitat-und-was-hat-das-mit-mir-zu-tun
GEO:49.0082;8.40959
LOCATION:COLA TAXI OKAY - 25\, Kronenstraße\, Innenstadt-Ost Südwestlicher 
	Teil\, Innenstadt-Ost\, Karlsruhe\, Baden-Württemberg\, 76133\, Deutschlan
	d
STATUS:CONFIRMED
CATEGORIES:Neurodiversity,Politics,Registration required
X-ALT-DESC;FMTTYPE=text/html:<p>💕LOVE EACH MIND💕<br>Was ist Neurodiversität
	 und was hat das mit mir zu tun?<br><br>🔎 Was: Workshop<br>📅 Wann: 24.07. 
	, 17.30-20.30 Uhr<br>⛺Wo: Cola Taxi Okay<br>🗣️ Sprache: Deutsch<br>📌 Verans
	talter: Input Kollektiv<br>📧 Anmeldung: <a href="mailto:input_karlsruhe@sy
	stemli.org" target="_blank">input_karlsruhe@systemli.org</a><br>🎤 Referent
	*in: Sabrina Burtscher<br>🌈 Offen für: Alle Interessierten<br>❓Fragen und 
	Wünsche: <a href="mailto:input_karlsruhe@systemli.org" target="_blank">inp
	ut_karlsruhe@systemli.org</a><br>📚 Inhalt:<br>"Neurodivergent", "neurotypi
	sch" und "neurodivers" kommen in den letzten Jahren immer häufiger in der 
	öffentlichen Wahrnehmung vor. Aber was bedeuten die Begriffe jeweils? Und 
	wie zeigt sich Neurodiversität im Alltag?<br>In diesem Workshop klären wir
	 zuerst die wissenschaftlichen Grundlagen, um uns dann in Kleingruppen mit
	 praktischen Fragen auseinander zu setzen: Wie wirken verschiedene Lebenss
	ituationen und Neurodiversität zusammen? Was hilft wem, was ist für wen hi
	nderlich? Was haben Kapitalismus, Patriarchat und Neurodiversität miteinan
	der zu tun? Wie können wir Zusammenarbeit in Teams und Gruppen positiv(er)
	 gestalten?</p><h2></h2><h2>What is neurodiversity – and what does it have
	 to do with me?</h2><p>Registration (also for questions and requests): inp
	ut_karlsruhe@systemli.org</p><p>Workshop facilitator: Sabrina Burtscher</p
	><p>Terms like neurodivergent, neurotypical, and neurodiverse have appeare
	d more and more frequently in conversations, the media, and everyday life 
	in recent years. But what exactly do they mean? And what does neurodiversi
	ty look like in daily life?</p><p>The INPUT collective invites you:</p><p>
	In this workshop, we will first explore the scientific foundations of neur
	odiversity. Afterwards, we will exchange ideas in small groups about pract
	ical questions: How do different life situations affect neurodivergent peo
	ple? What can be helpful, and what presents a challenge? What connections 
	exist between capitalism, patriarchy, and neurodiversity? And how can we m
	ake collaboration in teams and groups more inclusive and supportive?     <
	/p><p>مصطلحات مثل "عصبي مختلف"، "عصبي نمطي"، و"تنوع عصبي"&nbsp;أصبحت تظهر 
	بشكل متزايد في النقاشات ووسائل الإعلام والحياة اليومية خلال السنوات الأخير
	ة. لكن، ماذا تعني هذه المصطلحات بالضبط؟ وكيف يظهر التنوع العصبي في الحياة 
	اليومية؟</p><p>يدعوكم فريق INPUT:</p><p>في هذه الورشة، سنبدأ باستعراض الأس
	س العلمية لمفهوم التنوع العصبي. بعد ذلك، سنتبادل الأفكار في مجموعات صغيرة 
	حول أسئلة عملية، مثل:</p><p>كيف تؤثر مواقف الحياة المختلفة على الأشخاص الع
	صبيين المختلفين؟</p><p>ما الذي يمكن أن يكون مفيدًا، وما الذي يشكل عائقًا؟<
	/p><p>ما العلاقة بين الرأسمالية، النظام الأبوي، والتنوع العصبي؟</p><p>وكيف
	 يمكننا جعل التعاون داخل الفرق والمجموعات أكثر شمولًا ودعمًا؟</p><p>Qu'est
	-ce que la neurodiversité – et quel lien avec moi ?</p><p>Inscription (que
	stions et demandes également) : input_karlsruhe@systemli.org</p><p>Animati
	on de l'atelier : Sabrina Burtscher</p><p>Des termes comme neurodivergent,
	 neurotypique et neurodivers apparaissent de plus en plus souvent dans les
	 conversations, les médias et la vie quotidienne. Mais que signifient-ils 
	exactement? Et à quoi ressemble la neurodiversité au quotidien?</p><p>Le c
	ollectif INPUT t‘ invite :</p><p>Dans cet atelier, nous commencerons par e
	xplorer les bases scientifiques de la neurodiversité. Ensuite, nous discut
	erons en petits groupes autour de questions pratiques : Comment différente
	s situations de vie influencent-elles les personnes neurodivergentes? Qu’e
	st-ce qui peut être utile, ou au contraire un obstacle? Quels liens existe
	nt entre capitalisme, patriarcat et neurodiversité? Et comment rendre le t
	ravail en équipe et en groupe plus inclusif et solidaire?</p>
BEGIN:VALARM
ACTION:DISPLAY
DESCRIPTION:LOVE EACH MIND: Was ist Neurodiversität und was hat das mit mir
	 zu tun?
TRIGGER:-PT1H
END:VALARM
END:VEVENT
END:VCALENDAR
