BEGIN:VCALENDAR
VERSION:2.0
CALSCALE:GREGORIAN
PRODID:adamgibbons/ics
METHOD:PUBLISH
X-PUBLISHED-TTL:PT1H
BEGIN:VEVENT
UID:867@keepkarlsruheboring.org
SUMMARY:Lucy Kruger & The Lost Boys
DTSTAMP:20260423T103434Z
DTSTART:20260314T190000Z
DTEND:20260314T210000Z
DESCRIPTION:𝗡𝗮𝗰𝗵 𝗶𝗵𝗿𝗲𝗺 𝘄𝘂𝗻𝗱𝗲𝗿𝗯𝗮𝗿𝗲𝗻 𝗚𝗶𝗴 𝗯𝗲𝗶𝗺 𝗦𝗼𝗺𝗺𝗲𝗿𝗳𝗲𝘀𝘁\n2024 𝗲𝗻𝗱𝗹𝗶𝗰𝗵 𝘄𝗶𝗲𝗱𝗲𝗿
	 𝗯𝗲𝗶 𝘂𝗻𝘀: 𝗟𝘂𝗰𝘆 𝗞𝗿𝘂𝗴𝗲𝗿 & 𝗧𝗵𝗲\n𝗟𝗼𝘀𝘁 𝗕𝗼𝘆𝘀 is an art-pop tender-noise band def
	ined by their openness to\nsonic transformation. Formed in 2015 by frontwo
	man Lucy Kruger – a South\nAfrican-born singer-songwriter and guitarist – 
	the project took on its\ndistinctively ephemeral shape after relocating to
	 Berlin in 2018. While\ninherently mercurial and in favour of collaborativ
	e freedom\, the band anchors\nits sound firmly between the restraint of in
	trospection and the rawness of\nrelease. Years of touring and recording ha
	ve forged a shared visceral language –\none that knows exactly when to hus
	h and when to howl. Their trajectory\, from the\nquiet solitude of bedroom
	 recordings to the rich\, often feral energy of the\nstage\, reflects a co
	mmitment not just to the evolution of their sound\, but to\nits sensation\
	, emotional presence\, and the body’s unrelenting need to speak. For\nthe 
	past six years\, with a signature grit and grace\, Kruger’s voice has\ntra
	versed walls of ambient noise\, deftly weaving whispers and guttural\ninvo
	cations alike through a sonically haunted post-punk terrain. Her sonorous\
	nduality lends both softness and ferocity to the defiant sound producing a
	\nfeeling that is both vulnerable and charged. In 2026\, the band will rel
	ease and\ntour their seventh studio album\, Pale Bloom – a culmination of 
	years of writing\,\nrecording\, and performing. The result is a glistening
	 and emotive sonic emulsion\nthat animates itself in the body of the liste
	ner\, like an awakened desire\nstretching itself into being. ‘ ... South A
	frican-born Kruger is the real deal\,\nwith enough attitude and drama for 
	a few bands... She possesses a death stare\nthat looks both through you an
	d into your soul at the same time …’ - Brooklyn\nVegan “It's like American
	a for goths. Lucy makes eye contact with us and sings\nnarrative songs. A 
	spell. It is not until closing number “Burning building” that\nwe are let 
	go. Awesome” - 3voor12 it's a pleasure to watch Lucy Kruger & The\nLost Bo
	ys create such a claustrophobically liberating sound. Likewise\, Lucy\nKru
	ger\, as a personality on stage\, goes far beyond the ordinary. - MuziekBl
	og\n...a perfect storm of posturing gothic art pop with a grungy\, low-tem
	po\nbackbone\, spellbindingly dark and angsty\, and flecked with violin li
	nes that\nlent the songs a satisfyingly Venus In Furs-esque eeriness. - Cl
	ash Music Lucy\nKruger & The Lost Boys are perfect for fans of artists who
	 blend introspective\,\natmospheric\, and experimental sound with elements
	 of dark folk\, art pop\, and\nambient noise. For fans of PJ Harvey\, Soni
	c Youth\, Aldous Harding\, Low\, Nick\nCave & The Bad Seeds
URL:https://keepkarlsruheboring.org/event/lucy-kruger-and-the-lost-boys
GEO:48.989;8.37185
LOCATION:P8 - Schauenburgstraße 5\, 76135 Karlsruhe
STATUS:CONFIRMED
CATEGORIES:karlsrunruhe,test
X-ALT-DESC;FMTTYPE=text/html:𝗡𝗮𝗰𝗵 𝗶𝗵𝗿𝗲𝗺 𝘄𝘂𝗻𝗱𝗲𝗿𝗯𝗮𝗿𝗲𝗻 𝗚𝗶𝗴 𝗯𝗲𝗶𝗺 𝗦𝗼𝗺𝗺𝗲𝗿𝗳𝗲𝘀𝘁 202
	4 𝗲𝗻𝗱𝗹𝗶𝗰𝗵 𝘄𝗶𝗲𝗱𝗲𝗿 𝗯𝗲𝗶 𝘂𝗻𝘀:<br>𝗟𝘂𝗰𝘆 𝗞𝗿𝘂𝗴𝗲𝗿 & 𝗧𝗵𝗲 𝗟𝗼𝘀𝘁 𝗕𝗼𝘆𝘀 is an art-pop ten
	der-noise band defined by their openness to sonic transformation. Formed i
	n 2015 by frontwoman Lucy Kruger – a South African-born singer-songwriter 
	and guitarist – the project took on its distinctively ephemeral shape afte
	r relocating to Berlin in 2018.<br>While inherently mercurial and in favou
	r of collaborative freedom, the band anchors its sound firmly between the 
	restraint of introspection and the rawness of release. Years of touring an
	d recording have forged a shared visceral language – one that knows exactl
	y when to hush and when to howl. Their trajectory, from the quiet solitude
	 of bedroom recordings to the rich, often feral energy of the stage, refle
	cts a commitment not just to the evolution of their sound, but to its sens
	ation, emotional presence, and the body’s unrelenting need to speak.<br>Fo
	r the past six years, with a signature grit and grace, Kruger’s voice has 
	traversed walls of ambient noise, deftly weaving whispers and guttural inv
	ocations alike through a sonically haunted post-punk terrain. Her sonorous
	 duality lends both softness and ferocity to the defiant sound producing a
	 feeling that is both vulnerable and charged.<br>In 2026, the band will re
	lease and tour their seventh studio album, Pale Bloom – a culmination of y
	ears of writing, recording, and performing. The result is a glistening and
	 emotive sonic emulsion that animates itself in the body of the listener, 
	like an awakened desire stretching itself into being.<br>‘ ... South Afric
	an-born Kruger is the real deal, with enough attitude and drama for a few 
	bands... She possesses a death stare that looks both through you and into 
	your soul at the same time …’ - Brooklyn Vegan<br>“It's like Americana fo
	r goths. Lucy makes eye contact with us and sings narrative songs. A spell
	. It is not until closing number “Burning building” that we are let go. Aw
	esome” - 3voor12<br>it's a pleasure to watch Lucy Kruger & The Lost Boys 
	create such a claustrophobically liberating sound. Likewise, Lucy Kruger, 
	as a personality on stage, goes far beyond the ordinary. - MuziekBlog<br>
	...a perfect storm of posturing gothic art pop with a grungy, low-tempo ba
	ckbone, spellbindingly dark and angsty, and flecked with violin lines that
	 lent the songs a satisfyingly Venus In Furs-esque eeriness. - Clash Music
	<br>Lucy Kruger & The Lost Boys are perfect for fans of artists who blend
	 introspective, atmospheric, and experimental sound with elements of dark 
	folk, art pop, and ambient noise.<br>For fans of PJ Harvey, Sonic Youth, 
	Aldous Harding, Low, Nick Cave & The Bad Seeds<br><br>
BEGIN:VALARM
ACTION:DISPLAY
DESCRIPTION:Lucy Kruger & The Lost Boys
TRIGGER:-PT1H
END:VALARM
END:VEVENT
END:VCALENDAR
