BEGIN:VCALENDAR
VERSION:2.0
CALSCALE:GREGORIAN
PRODID:adamgibbons/ics
METHOD:PUBLISH
X-PUBLISHED-TTL:PT1H
BEGIN:VEVENT
UID:106@keepkarlsruheboring.org
SUMMARY:Mahnwache Für eine Asylpolitik auf Basis von Menschenrechten
DTSTAMP:20260423T104909Z
DTSTART:20250626T150000Z
DESCRIPTION:Wir rufen auf zur Mahnwache vor dem Büro des CDU Kreisverband i
	n der Waldstraße.\n\nLasst uns der CDU deutlich zeigen\, zu was ihre Polit
	ik führt.\n\nDie Bundesregierung CDU/SPD hat seit mehr als einem Monat mas
	siv die\nGrenzkontrollen an den deutschen Grenzen ausgeweitet und Asylsuch
	ende an den\nGrenzen teilweise gegen geltendes Recht zurückgewiesen.\n\nDi
	eses Vorhaben stand bereits bei der Veröffentlichung rechtlich auf äußerst
	\nwackeligem Fundament\, was auch zuletzt ein Eilverfahren des Verwaltungs
	gerichts\nBerlin gegen die Zurückweisung dreier Asylsuchender aus Somalia 
	an der Grenze\nDeutschlands bewiesen hat.\n\nWir sagen deutlich: Nein zur 
	Ausweitung der Grenzkontrollen. Nein zur Aushöhlung\ndes Asylrechts. Nein 
	zu einer Politik\, die Menschenrechte infrage stellt. Kommt\nzur Mahnwache
	🚩📢
URL:https://keepkarlsruheboring.org/event/mahnwache-fur-eine-asylpolitik-au
	f-basis-von-menschenrechten
LOCATION:Büro des CDU Kreisverband - Waldstr. 71\, 76133 Karlsruhe
STATUS:CONFIRMED
CATEGORIES:Anti-Racism,Boreder Control,Demonstration,Politics
X-ALT-DESC;FMTTYPE=text/html:<p>Wir rufen auf zur Mahnwache vor dem Büro de
	s CDU Kreisverband in der Waldstraße.</p><p>Lasst uns der CDU deutlich zei
	gen, zu was ihre Politik führt.</p><p>Die Bundesregierung CDU/SPD hat seit
	 mehr als einem Monat massiv die Grenzkontrollen an den deutschen Grenzen 
	ausgeweitet und Asylsuchende an den Grenzen teilweise gegen geltendes Rech
	t zurückgewiesen.</p><p>Dieses Vorhaben stand bereits bei der Veröffentlic
	hung rechtlich auf äußerst wackeligem Fundament, was auch zuletzt ein Eilv
	erfahren des Verwaltungsgerichts Berlin gegen die Zurückweisung dreier Asy
	lsuchender aus Somalia an der Grenze Deutschlands bewiesen hat.</p><p>Wir 
	sagen deutlich: Nein zur Ausweitung der Grenzkontrollen. Nein zur Aushöhlu
	ng des Asylrechts. Nein zu einer Politik, die Menschenrechte infrage stell
	t. Kommt zur Mahnwache🚩📢</p>
BEGIN:VALARM
ACTION:DISPLAY
DESCRIPTION:Mahnwache Für eine Asylpolitik auf Basis von Menschenrechten
TRIGGER:-PT1H
END:VALARM
END:VEVENT
END:VCALENDAR
