BEGIN:VCALENDAR
VERSION:2.0
CALSCALE:GREGORIAN
PRODID:adamgibbons/ics
METHOD:PUBLISH
X-PUBLISHED-TTL:PT1H
BEGIN:VEVENT
UID:146@keepkarlsruheboring.org
SUMMARY:Mahnwache "Gegen die Aushungerung in Gaza" 🇵🇸
DTSTAMP:20260423T090647Z
DTSTART:20250728T170000Z
DTEND:20250728T190000Z
DESCRIPTION:Mahnwache "Gegen die Aushungerung in Gaza"\n\nWir treffen uns a
	m Montag von 19 bis 21 Uhr auf dem Friedrichsplatz\, um auf das\nAushunger
	n der palästinensischen Bevölkerung aufmerksam zu machen und der Opfer\nzu
	 gedenken.\n\nWir möchten Gelegenheit und Raum schaffen\, uns auszutausche
	n\, unsere Trauer und\nWut zu teilen und unsere Forderungen nach außen zu 
	tragen:\n\nGrenzübergänge öffnen\, Hilfsgüter nach Gaza lassen!\n\nWir for
	dern die Einstellung der deutschen Waffenlieferungen an Israel!\n\nEU-Isra
	el Assoziierungsabkommen müssen ausgesetzt werden!\n\nEndgültiger Abzug de
	s Militärs und ein Ende der Besatzung!
URL:https://keepkarlsruheboring.org/event/mahnwache-gegen-die-aushungerung-
	in-gaza
GEO:49.0079;8.40076
LOCATION:Friedrichsplatz - Innenstadt-West\, Karlsruhe\, Baden-Württemberg\
	, 76133\, Deutschland
STATUS:CONFIRMED
CATEGORIES:Demonstration,International Solidarity,Palestina,Politics
X-ALT-DESC;FMTTYPE=text/html:<p>Mahnwache "Gegen die Aushungerung in Gaza"<
	/p><p>Wir treffen uns am Montag von 19 bis 21 Uhr auf dem Friedrichsplatz,
	 um auf das Aushungern der palästinensischen Bevölkerung aufmerksam zu mac
	hen und der Opfer zu gedenken.</p><p>Wir möchten Gelegenheit und Raum scha
	ffen, uns auszutauschen, unsere Trauer und Wut zu teilen und unsere Forder
	ungen nach außen zu tragen:</p><p>Grenzübergänge öffnen, Hilfsgüter nach G
	aza lassen! </p><p>Wir fordern die Einstellung der deutschen Waffenlieferu
	ngen an Israel!</p><p>EU-Israel Assoziierungsabkommen müssen ausgesetzt we
	rden!</p><p>Endgültiger Abzug des Militärs und ein Ende der Besatzung!</p>
BEGIN:VALARM
ACTION:DISPLAY
DESCRIPTION:Mahnwache "Gegen die Aushungerung in Gaza" 🇵🇸
TRIGGER:-PT1H
END:VALARM
END:VEVENT
END:VCALENDAR
