BEGIN:VCALENDAR
VERSION:2.0
CALSCALE:GREGORIAN
PRODID:adamgibbons/ics
METHOD:PUBLISH
X-PUBLISHED-TTL:PT1H
BEGIN:VEVENT
UID:885@keepkarlsruheboring.org
SUMMARY:MAKALU +Junkpoetry + Aftershowparty
DTSTAMP:20260423T103705Z
DTSTART:20260321T173000Z
DTEND:20260321T193000Z
DESCRIPTION:𝗠𝗔𝗞𝗔𝗟𝗨 Bei ihren Konzerten reißen Saiten\, Teile des Schlagzeug
	es kippen\num\, Moshpits gehen auf und die Menge tobt. Makalu\, eine dreik
	öpfige Band aus\nKarlsruhe\, haben Mega Spaß auf der Bühne und reißen das 
	Publikum mit. Kolja\,\nJulius und Aaron sind mittlerweile um die 18 Jahre 
	alt und spielen Indiepop\,\nAlternative und Punkrock. Anfang 2022 trafen s
	ich die drei das erste Mal in\neinem Gewölbekeller in Grötzingen. Seitdem 
	thematisieren sie mit ihren Songs\ngesellschaftskritische Themen\; Nach 20
	 Konzerten in 2 Jahren\, einem eigenen\nAlbum\, mehreren Singles und große
	n Konzerten vor bis zu 3000 Zuschauern kommt\nnun eine weitere EP\, die "D
	u Denkst Du Denkst" heißen wird. Diesen Release\nwollen sie am 21.03.26 mi
	t euch feiern! 𝗝𝘂𝗻𝗸𝗽𝗼𝗲𝘁𝗿𝘆 ist eine junge Band\naus Kreuzberg. Nach ersten 
	Auftritten wie bei der Demo zur Unkürzbarkeit\,\nspontan auf dem Drachenbe
	rg\, Jugendzentren oder auf Geburtstagen\, nimmt ihre\nFormation langsam a
	n Fahrt auf und die Konzerte häufen sich. Es gibt sie erst\nseit Mitte Aug
	ust\, allerdings besitzen sie schon viel Erfahrung aus vorherigen\nBands. 
	Am wichtigsten ist es ihnen\, dass sie mit der Crowd zusammen Spaß haben\n
	können. Ihr Sound ist ein Mix aus Indie/Brit Rock\, Jazz\, Funk und Punk.\
	n𝗔𝗳𝘁𝗲𝗿𝘀𝗵𝗼𝘄 𝗣𝗮𝗿𝘁𝘆: 𝗝𝗼𝘀𝗶𝗮 𝗦𝗰𝗵𝗹𝗮𝗸𝗸𝗲𝗿 steht für\nenergetischen\, rhythmisch an
	spruchsvollen Sound und gute Vibes. Geprägt von der\nlebendigen Techno- un
	d Tranceszene Karlsruhes\, als auch durch Aufenthalte in\nAustraliens Metr
	opolen wie Sydney und Melbourne erwarten euch charakterstarken\nUK Garage\
	, Trance\, Hard House und vor allem einen unwiderstehlichen Drang zu\ntanz
	en. 𝗙𝗿𝗶𝗶𝗶𝗱𝗼 ist ein Karlsruher dj. Er spielt eine Mixtur aus\nHardtechno\,
	 reversebase und Hardcore\, oder alles was eine harte Kick hat\, gemixt\nm
	it schönen Melodien.
URL:https://keepkarlsruheboring.org/event/makalu-junkpoetry-aftershowparty
GEO:48.989;8.37185
LOCATION:P8 - Schauenburgstraße 5\, 76135 Karlsruhe
STATUS:CONFIRMED
CATEGORIES:karlsrunruhe,test
X-ALT-DESC;FMTTYPE=text/html:𝗠𝗔𝗞𝗔𝗟𝗨<br>Bei ihren Konzerten reißen Saiten, 
	Teile des Schlagzeuges kippen um, Moshpits gehen auf und die<br>Menge tob
	t. Makalu, eine dreiköpfige Band aus Karlsruhe, haben Mega Spaß auf der Bü
	hne und<br>reißen das Publikum mit. Kolja, Julius und Aaron sind mittlerw
	eile um die 18 Jahre alt und spielen<br>Indiepop, Alternative und Punkroc
	k. Anfang 2022 trafen sich die drei das erste Mal in einem<br>Gewölbekell
	er in Grötzingen. Seitdem thematisieren sie mit ihren Songs<br>gesellscha
	ftskritische Themen; Nach 20 Konzerten in 2 Jahren, einem eigenen Album, m
	ehreren<br>Singles und großen Konzerten vor bis zu 3000 Zuschauern kommt 
	nun eine weitere EP, die "Du<br>Denkst Du Denkst" heißen wird. Diesen Rel
	ease wollen sie am 21.03.26 mit euch feiern!<br> <br> <br>𝗝𝘂𝗻𝗸𝗽𝗼𝗲𝘁𝗿𝘆 i
	st eine junge Band aus Kreuzberg. Nach ersten Auftritten wie bei der Demo 
	zur<br>Unkürzbarkeit, spontan auf dem Drachenberg, Jugendzentren oder auf
	 Geburtstagen,<br>nimmt ihre Formation langsam an Fahrt auf und die Konze
	rte häufen sich.<br>Es gibt sie erst seit Mitte August, allerdings besitz
	en sie schon viel Erfahrung aus vorherigen<br>Bands.<br>Am wichtigsten i
	st es ihnen, dass sie mit der Crowd zusammen Spaß haben können.<br>Ihr So
	und ist ein Mix aus Indie/Brit Rock, Jazz, Funk und Punk.<br>𝗔𝗳𝘁𝗲𝗿𝘀𝗵𝗼𝘄 𝗣𝗮
	𝗿𝘁𝘆:<br>𝗝𝗼𝘀𝗶𝗮 𝗦𝗰𝗵𝗹𝗮𝗸𝗸𝗲𝗿 steht für energetischen, rhythmisch anspruchsvoll
	en Sound und gute Vibes.<br>Geprägt von der lebendigen Techno- und Trance
	szene Karlsruhes, als auch durch Aufenthalte in<br>Australiens Metropolen
	 wie Sydney und Melbourne erwarten euch charakterstarken UK Garage,<br>Tr
	ance, Hard House und vor allem einen unwiderstehlichen Drang zu tanzen.<br
	>𝗙𝗿𝗶𝗶𝗶𝗱𝗼 ist ein Karlsruher dj.<br>Er spielt eine Mixtur aus Hardtechno,
	 reversebase und Hardcore, oder alles was eine harte Kick<br>hat, gemixt 
	mit schönen Melodien.
BEGIN:VALARM
ACTION:DISPLAY
DESCRIPTION:MAKALU +Junkpoetry + Aftershowparty
TRIGGER:-PT1H
END:VALARM
END:VEVENT
END:VCALENDAR
