BEGIN:VCALENDAR
VERSION:2.0
CALSCALE:GREGORIAN
PRODID:adamgibbons/ics
METHOD:PUBLISH
X-PUBLISHED-TTL:PT1H
BEGIN:VEVENT
UID:790@keepkarlsruheboring.org
SUMMARY:Martin Krieglstein
DTSTAMP:20260423T102209Z
DTSTART:20260215T160000Z
DTEND:20260215T180000Z
DESCRIPTION:Der Karlsruher Maler Martin Krieglstein blickt im KOHI auf sein
	e Arbeit der\nletzten zwei Jahre zurück. Dazu muss man wissen: Er ist das 
	Gegenteil eines\nweltfremden Künstlers. Nachts arbeitet er im Schlachthof\
	, am frühen Morgen trägt\ner Zeitung aus. Tagsüber betreibt er seit über z
	ehn Jahren noch mit Erfolg die\nProduzentengalerie „20. Juni“ (Ecke Dougla
	s-/Akademiestraße). Und der gelernte\nPlakatmaler malt und zeichnet. Ein S
	chauplatz seiner Sehnsucht ist die Inselwelt\nder Südsee. Die hat er nie g
	esehen\, aber seit Kindertagen ist er von Verfilmung\nder „Meuterei auf de
	r Bounty“ begeistert. Die Flucht in eine Traumwelt ist aber\nKrieglsteins 
	Sache nicht. Denn nicht nur das palmenbeschattete Paradies sieht er\nbedro
	ht. Auch die „Empörung und Wut über das waffengeile Kriegsgeheul unserer\n
	Tage“ lassen ihn nicht schlafen. Mit der Einstellung: „Ein Künstler\, der 
	den\nZauber der Welt plastisch herausarbeitet mit strahlend einfallendem S
	onnenlicht\nund kühlem Schattenwurf\, der muss auch Stellung nehmen und se
	ine Begabung\neinsetzen\, um die drohende Apokalypse anzuzeigen“ bleibt de
	r Maler Krieglstein\ndem wirklichen Leben zugewandt - Licht und Schatten i
	nklusive. Ausstellung bis\n29.03.26 Beginn 17 Uhr
URL:https://keepkarlsruheboring.org/event/martin-krieglstein
GEO:49.0017;8.40754
LOCATION:Kohi - Werderstraße 47\, 76137 Karlsruhe\, Alemanya
STATUS:CONFIRMED
CATEGORIES:karlsrunruhe,test
X-ALT-DESC;FMTTYPE=text/html:Der Karlsruher Maler Martin Krieglstein blickt
	 im KOHI auf seine Arbeit der letzten zwei Jahre zurück. Dazu muss man wis
	sen: Er ist das Gegenteil eines weltfremden Künstlers. Nachts arbeitet er 
	im Schlachthof, am frühen Morgen trägt er Zeitung aus. Tagsüber betreibt e
	r seit über zehn Jahren noch mit Erfolg die Produzentengalerie „20. Juni“ 
	(Ecke Douglas-/Akademiestraße). Und der gelernte Plakatmaler malt und zeic
	hnet. Ein Schauplatz seiner Sehnsucht ist die Inselwelt der Südsee. Die ha
	t er nie gesehen, aber seit Kindertagen ist er von Verfilmung der „Meutere
	i auf der Bounty“ begeistert. Die Flucht in eine Traumwelt ist aber Kriegl
	steins Sache nicht. Denn nicht nur das palmenbeschattete Paradies sieht er
	 bedroht. Auch die „Empörung und Wut über das waffengeile Kriegsgeheul uns
	erer Tage“ lassen ihn nicht schlafen.<br>Mit der Einstellung: „Ein Künstle
	r, der den Zauber der Welt plastisch herausarbeitet mit strahlend einfalle
	ndem Sonnenlicht und kühlem Schattenwurf, der muss auch Stellung nehmen un
	d seine Begabung einsetzen, um die drohende Apokalypse anzuzeigen“ bleibt 
	der Maler Krieglstein dem wirklichen Leben zugewandt - Licht und Schatten 
	inklusive.<br>Ausstellung bis 29.03.26<br>Beginn 17 Uhr
BEGIN:VALARM
ACTION:DISPLAY
DESCRIPTION:Martin Krieglstein
TRIGGER:-PT1H
END:VALARM
END:VEVENT
END:VCALENDAR
