BEGIN:VCALENDAR
VERSION:2.0
CALSCALE:GREGORIAN
PRODID:adamgibbons/ics
METHOD:PUBLISH
X-PUBLISHED-TTL:PT1H
BEGIN:VEVENT
UID:505@keepkarlsruheboring.org
SUMMARY:Martin Tingvall – When Light Returns [30.30 €]
DTSTAMP:20260423T085842Z
DTSTART:20251220T190000Z
DESCRIPTION:Solo-Piano-Tour 2025\n\nIn einer Welt\, die sich immer schnelle
	r dreht\, schafft Martin Tingvall mit\nseinem Soloprogramm When Light Retu
	rnseinen Ort der Ruhe und Besinnung. Seine\nKompositionen\, inspiriert von
	 der skandinavischen Natur seiner Heimat\, sind\nklar\, weit und voller fe
	iner Nuancen.\n\nDie Solotourneen in der Winterzeit sind für Martin Tingva
	ll und sein Publikum\ninzwischen fast zu einer Tradition geworden. Gerade 
	in dieser stilleren\nJahreszeit entfaltet seine Musik eine besondere Wirku
	ng: Sie entschleunigt\,\ninspiriert und lädt dazu ein\, den Blick nach inn
	en zu richten.\n\nZwischen leisen Klangflächen und kraftvollen Melodien en
	tstehen Momente\, die wie\nLichtstrahlen durch den Alltag brechen. Und neb
	en bekannten Stücken dürfen sich\ndie Zuhörerinnen und Zuhörer auch auf ne
	ue Werke freuen – Einblicke in sein\nkommendes Solo-Album\, die schon jetz
	t neugierig machen.\n\nMit When Light Returns lädt Martin Tingvall dazu ei
	n\, innezuhalten\, durchzuatmen\nund sich von der Kraft der Musik tragen z
	u lassen – ein Ruhepol im hektischen\nRhythmus unserer Zeit.\n\nTickets : 
	https://kulturzentrum-tempel.reservix.de/p/reservix/event/2450661\n[https:
	//kulturzentrum-tempel.reservix.de/p/reservix/event/2450661]
URL:https://keepkarlsruheboring.org/event/martin-tingvall-when-light-return
	s
GEO:49.0135;8.35882
LOCATION:Kulturzentrum Tempel - Kulturverein Tempel e.V. im Kulturzentrum T
	empel Hardtstraße 37 A D-76185 Karlsruhe
STATUS:CONFIRMED
CATEGORIES:Music,Piano Solo,Ticket
X-ALT-DESC;FMTTYPE=text/html:<p><strong>Solo-Piano-Tour 2025</strong></p><p
	>In einer Welt, die sich immer schneller dreht, schafft Martin Tingvall mi
	t seinem Soloprogramm When Light Returnseinen Ort der Ruhe und Besinnung. 
	Seine Kompositionen, inspiriert von der skandinavischen Natur seiner Heima
	t, sind klar, weit und voller feiner Nuancen.</p><p>Die Solotourneen in de
	r Winterzeit sind für Martin Tingvall und sein Publikum inzwischen fast zu
	 einer Tradition geworden. Gerade in dieser stilleren Jahreszeit entfaltet
	 seine Musik eine besondere Wirkung: Sie entschleunigt, inspiriert und läd
	t dazu ein, den Blick nach innen zu richten.</p><p>Zwischen leisen Klangfl
	ächen und kraftvollen Melodien entstehen Momente, die wie Lichtstrahlen du
	rch den Alltag brechen. Und neben bekannten Stücken dürfen sich die Zuhöre
	rinnen und Zuhörer auch auf neue Werke freuen – Einblicke in sein kommende
	s Solo-Album, die schon jetzt neugierig machen.</p><p>Mit When Light Retur
	ns lädt Martin Tingvall dazu ein, innezuhalten, durchzuatmen und sich von 
	der Kraft der Musik tragen zu lassen – ein Ruhepol im hektischen Rhythmus 
	unserer Zeit.</p><p>Tickets : <a href="https://kulturzentrum-tempel.reserv
	ix.de/p/reservix/event/2450661" target="_blank">https://kulturzentrum-temp
	el.reservix.de/p/reservix/event/2450661</a></p>
BEGIN:VALARM
ACTION:DISPLAY
DESCRIPTION:Martin Tingvall – When Light Returns [30.30 €]
TRIGGER:-PT1H
END:VALARM
END:VEVENT
END:VCALENDAR
