BEGIN:VCALENDAR
VERSION:2.0
CALSCALE:GREGORIAN
PRODID:adamgibbons/ics
METHOD:PUBLISH
X-PUBLISHED-TTL:PT1H
BEGIN:VEVENT
UID:482@keepkarlsruheboring.org
SUMMARY:Master Class with choreographer Noa Wertheim [20-35 €]
DTSTAMP:20260423T114856Z
DTSTART:20251104T183000Z
DTEND:20251104T200000Z
DESCRIPTION:Vertigo Dance Company\n\nAn introduction to the unique movement
	 language developed by choreographer and\nartistic director Noa Wertheim o
	ver the years with the Vertigo Dance Company. A\nhands on experience of da
	nce techniques as well as body & mind disciplines\nincorporating classical
	 ballet and Release standards with contact improvisation\nand Eastern mart
	ial arts such as Tai Chi and Chi Gong\, complemented by a glance\ntowards 
	the inspirational Jewish and spiritual philosophies.\n\nLevel: Advanced Ma
	sterclass\n\nTeilnahmegebühr: 20 bis 35 Euro je nach eigenen Ressourcen 
URL:https://keepkarlsruheboring.org/event/master-class-with-choreographer-n
	oa-wertheim
LOCATION:Badisches Staatstheater Karlsruhe - Hermann-Levi-Platz 1 76137 Kar
	lsruhe
STATUS:CONFIRMED
CATEGORIES:Dance,TANZ Karlsruhe 2025,Ticket,Workshop
X-ALT-DESC;FMTTYPE=text/html:<p><strong>Vertigo Dance Company</strong></p><
	p>An introduction to the unique movement language developed by choreograph
	er and artistic director Noa Wertheim over the years with the Vertigo Danc
	e Company. A hands on experience of dance techniques as well as body &amp;
	 mind disciplines incorporating classical ballet and Release standards wit
	h contact improvisation and Eastern martial arts such as Tai Chi and Chi G
	ong, complemented by a glance towards the inspirational Jewish and spiritu
	al philosophies.</p><p>Level: <strong>Advanced Masterclass</strong></p><p>
	Teilnahmegebühr: 20 bis 35 Euro je nach eigenen Ressourcen&nbsp;</p>
BEGIN:VALARM
ACTION:DISPLAY
DESCRIPTION:Master Class with choreographer Noa Wertheim [20-35 €]
TRIGGER:-PT1H
END:VALARM
END:VEVENT
END:VCALENDAR
