BEGIN:VCALENDAR
VERSION:2.0
CALSCALE:GREGORIAN
PRODID:adamgibbons/ics
METHOD:PUBLISH
X-PUBLISHED-TTL:PT1H
BEGIN:VEVENT
UID:137@keepkarlsruheboring.org
SUMMARY:Media art is here 2025
DTSTAMP:20260423T102403Z
DTSTART:20250814T170000Z
DTEND:20250914T215900Z
DESCRIPTION:Auch 2025 bringt die Ausstellung Media art is here Kunst dahin\
	, wo das Leben\nspielt: Auf Straßen\, Plätzen und in Gärten begegnen Besuc
	her*innen\nzukunftsweisende Medienkunstwerke\, die den öffentlichen Raum n
	eu denken und\nerlebbar machen – interaktiv\, inspirierend und kostenlos z
	ugänglich.\n\nGezeigt werden Werke von lokalen und internationalen Künstle
	r*innen\, die die\nGrenzen zwischen physischem und virtuellem Raum auslote
	n und den Einfluss\ndigitaler Medien auf Gesellschaft\, Identität und Nach
	haltigkeit thematisieren.\nDurch ihre Platzierung mitten im urbanen Raum e
	röffnen die künstlerischen\nArbeiten neue\, überraschende Perspektiven und
	 fördern den Austausch zwischen\nKunst\, Stadt und Gesellschaft.\n\nDie Au
	sstellung schafft dabei nicht nur ästhetische Erlebnisse\, sondern auch\nn
	eue Formen der Teilhabe: Viele Werke laden zur aktiven Beteiligung ein und
	\nmachen Medienkunst für ein breites Publikum direkt erlebbar. Die Präsent
	ation\nfindet parallel zum SCHLOSSLICHTSPIELE Light Festival\n[https://www
	.schlosslichtspiele.info/] statt und lädt dazu ein\, Karlsruhe durch\nMedi
	en- und Lichtkunst neu zu entdecken.\n\nMedia art is here wird realisiert 
	vom Kulturamt der Stadt Karlsruhe in enger\nKooperation mit dem ZKM | Zent
	rum für Kunst und Medien [https://zkm.de/de]. Teil\nder Eventreihe Kunst |
	 Sommer | Technik\n[https://www.200jahre.kit.edu/kunst-sommer-technik.php]
	 des KIT.\n\n🔗 Programm [https://www.cityofmediaarts.de/de/events/media-ar
	t-is-here-2025/].\n\n\n\n/-/-/\n\nMedia art is here returns in 2025\, once
	 again bringing art to where life\nhappens: on streets\, squares\, and in 
	gardens. Visitors encounter\nforward-thinking media artworks that rethink 
	and transform public\nspaces—interactive\, inspiring\, and freely accessib
	le.\n\nThe exhibition features works by both local and international artis
	ts who\nexplore the boundaries between physical and virtual space\, while 
	addressing the\nimpact of digital media on society\, identity\, and sustai
	nability. Placed\ndirectly within the urban environment\, the artworks ope
	n up new\, unexpected\nperspectives and foster dialogue between art\, the 
	city\, and society.\n\nThe exhibition not only offers aesthetic experience
	s but also creates new forms\nof participation: many works invite active i
	nvolvement and make media art\ndirectly accessible to a wide audience. Pre
	sented in parallel with the\nSCHLOSSLICHTSPIELE Light Festival [https://ww
	w.schlosslichtspiele.info/]\, the\nexhibition invites visitors to rediscov
	er Karlsruhe through media and light art.\n\nMedia art is here is realised
	 by the Department of Cultural Affairs of the City\nof Karlsruhe in close 
	cooperation with the ZKM | Center for Art and Media\n[https://zkm.de/en]. 
	The event is part of the Art | Summer | Technology series\norganized by KI
	T.\n\n🔗 Program [https://www.cityofmediaarts.de/en/events/media-art-is-her
	e-2025/]
URL:https://keepkarlsruheboring.org/event/media-art-is-here-2025
GEO:49.0013;8.3836
LOCATION:ZKM | Zentrum für Kunst und Medien Karlsruhe - Lorenzstr. 19\, D-7
	6135 Karlsruhe
STATUS:CONFIRMED
CATEGORIES:Exhibition,Media Art,Opening
X-ALT-DESC;FMTTYPE=text/html:<p><strong>Auch 2025 bringt die Ausstellung <e
	m>Media art is here</em> Kunst dahin, wo das Leben spielt: Auf Straßen, Pl
	ätzen und in Gärten begegnen Besucher*innen zukunftsweisende Medienkunstwe
	rke, die den öffentlichen Raum neu denken und erlebbar machen – interaktiv
	, inspirierend und kostenlos zugänglich.</strong></p><p>Gezeigt werden Wer
	ke von lokalen und internationalen Künstler*innen, die die Grenzen zwische
	n physischem und virtuellem Raum ausloten und den Einfluss digitaler Medie
	n auf Gesellschaft, Identität und Nachhaltigkeit thematisieren. Durch ihre
	 Platzierung mitten im urbanen Raum eröffnen die künstlerischen Arbeiten n
	eue, überraschende Perspektiven und fördern den Austausch zwischen Kunst, 
	Stadt und Gesellschaft.</p><p>Die Ausstellung schafft dabei nicht nur ästh
	etische Erlebnisse, sondern auch neue Formen der Teilhabe: Viele Werke lad
	en zur aktiven Beteiligung ein und machen Medienkunst für ein breites Publ
	ikum direkt erlebbar. Die Präsentation findet parallel zum <a href="https:
	//www.schlosslichtspiele.info/" target="_blank">SCHLOSSLICHTSPIELE Light F
	estival</a> statt und lädt dazu ein, Karlsruhe durch Medien- und Lichtkuns
	t neu zu entdecken.</p><p><em>Media art is here</em> wird realisiert vom K
	ulturamt der Stadt Karlsruhe in enger Kooperation mit dem <a href="https:/
	/zkm.de/de" target="_blank">ZKM | Zentrum für Kunst und Medien</a>. Teil d
	er Eventreihe <a href="https://www.200jahre.kit.edu/kunst-sommer-technik.p
	hp" target="_blank">Kunst | Sommer | Technik</a> des KIT.</p><p>🔗 <a href=
	"https://www.cityofmediaarts.de/de/events/media-art-is-here-2025/" target=
	"_blank">Programm</a>.</p><p></p><p>/-/-/</p><p><strong><em>Media art is h
	ere </em>returns in 2025, once again bringing art to where life happens: o
	n streets, squares, and in gardens. Visitors encounter forward-thinking me
	dia artworks that rethink and transform public spaces—interactive, inspiri
	ng, and freely accessible.</strong></p><p>The exhibition features works by
	 both local and international artists who explore the boundaries between p
	hysical and virtual space, while addressing the impact of digital media on
	 society, identity, and sustainability. Placed directly within the urban e
	nvironment, the artworks open up new, unexpected perspectives and foster d
	ialogue between art, the city, and society.</p><p>The exhibition not only 
	offers aesthetic experiences but also creates new forms of participation: 
	many works invite active involvement and make media art directly accessibl
	e to a wide audience. Presented in parallel with the <a href="https://www.
	schlosslichtspiele.info/" target="_blank">SCHLOSSLICHTSPIELE Light Festiva
	l</a>, the exhibition invites visitors to rediscover Karlsruhe through med
	ia and light art.</p><p><em>Media art is here</em> is realised by the Depa
	rtment of Cultural Affairs of the City of Karlsruhe in close cooperation w
	ith the <a href="https://zkm.de/en" target="_blank">ZKM | Center for Art a
	nd Media</a>. The event is part of the <em>Art | Summer | Technology</em> 
	series organized by KIT.</p><p>🔗 <a href="https://www.cityofmediaarts.de/e
	n/events/media-art-is-here-2025/" target="_blank">Program</a></p>
BEGIN:VALARM
ACTION:DISPLAY
DESCRIPTION:Media art is here 2025
TRIGGER:-PT1H
END:VALARM
END:VEVENT
END:VCALENDAR
