BEGIN:VCALENDAR
VERSION:2.0
CALSCALE:GREGORIAN
PRODID:adamgibbons/ics
METHOD:PUBLISH
X-PUBLISHED-TTL:PT1H
BEGIN:VEVENT
UID:1222@keepkarlsruheboring.org
SUMMARY:MIT KUNST GEGEN RASSISMUS – Austausch und Kunst-Workshop
DTSTAMP:20260423T104558Z
DTSTART:20260321T160000Z
DTEND:20260321T200000Z
DESCRIPTION:[↓↓ Deutsche Version unten ↓↓]\n\n\nPROJECT GOAL:\n\n“Art Again
	st Racism” is a sustainable project that uses art as a tool to raise\nawar
	eness of racism and discrimination while simultaneously emphasizing the\ni
	mportance of diversity and equality. It creates a space for collective act
	ion\ntowards change\, reflection\, and integration.\nThe project underscor
	es: “Regardless of origin or skin color\, we are all equal.”\n\n\nTARGET G
	ROUP:\n\nThe target group includes people who want to engage with the topi
	cs of racism\,\ndiscrimination\, and diversity. In particular\, people who
	 are affected by racism\nor discrimination and want to share their experie
	nces\, as well as those\ninterested in raising awareness and contributing 
	to the reduction of prejudice.\n\n\nEVENT PROCESS\n\nExchange and discussi
	on:\nPresentation of the project\, introductions\, and an introduction to 
	the topic of\nracism\, discrimination\, and diversity using guiding questi
	ons.\n* What are racism and discrimination? What experiences have you had 
	with them?\n* What does equality mean to you?\n* What makes us the same as
	 human beings\, and what makes us unique?\n* What significance do diversit
	y and differences have in society?\n\n\nWORKSHOP – CREATIVE PAINTING PROCE
	SS:\n\n\nParticipants work freely and purposefully with watercolors on can
	vas to\nartistically explore their thoughts.\nThe aim is to collectively d
	ismantle prejudices and reflect on experiences\nthrough art. Furthermore\,
	 the workshop aims to promote prevention\, highlight\nimpactful ideas on r
	acism and discrimination\, and strengthen awareness of the\nimportance of 
	diversity.\n\nPresentation of the artworks:\nAt the end of the workshop\, 
	participants have the opportunity to present their\nworks.\n\n\nEXHIBITION
	\n\n\nExhibition of the artworks being created in a public space to furthe
	r address\nthe topics of racism\, discrimination\, and diversity\, and to 
	promote dialogue.\nFrom March 23\, 2026\, at the IBZ (International Meetin
	g Center)\, Kaiserallee 12d\,\n76133 Karlsruhe\n\nPROJECT CONCLUSION:\nFro
	m March 28\, 2026 – Reflection and feedback through a closing event or onl
	ine\nsurvey\n\nMbagaan Nduur – Project Manager\n\n\nREGISTRATION REQUIRED\
	n\n\nEmail: mitkunstgegenrassismus@gmail.com [mitkunstgegenrassismus@gmail
	.com]\nInstagram: @mitkunstgegenrassismus\n\n/-/-/\n\n\nPROJEKTZIEL:\n\n\n
	„Mit Kunst gegen Rassismus“ ist ein nachhaltig wirkendes Projekt\, das Kun
	st als\nWerkzeug nutzt\, um auf die Themen Rassismus und Diskriminierung a
	ufmerksam zu\nmachen und gleichzeitig die Bedeutung von Vielfalt und Gleic
	hwertigkeit zu\nbetonen. Es schafft einen Raum\, um sich gemeinsam für Ver
	änderung\, Reflexion und\nIntegration einzusetzen.\nDas Projekt verdeutlic
	ht: „Unabhängig von Herkunft oder Hautfarbe sind wir alle\ngleichwertig.“\
	n\nZielgruppe:\nDie Zielgruppe umfasst Personen\, die sich mit den Themen 
	Rassismus\,\nDiskriminierung und Vielfalt auseinandersetzen möchten. Insbe
	sondere Menschen\,\ndie von Rassismus oder Diskriminierung betroffen sind 
	und ihre Erfahrungen\nteilen möchten\, sowie Interessierte\, die sich sens
	ibilisieren und zum Abbau von\nVorurteilen beitragen möchten.\n\n\nABLAUF 
	DER VERANSTALTUNG\n\nAustausch und Gesprächsrunde:\nVorstellung des Projek
	ts\, Vorstellungsrunde und Einführung in das Thema\nRassismus\, Diskrimini
	erung und Vielfalt anhand von Leitfragen.\n* Was sind Rassismus und Diskri
	minierung? Welche Erfahrungen haben Sie damit\ngemacht?\n* Was bedeutet fü
	r dich Gleichwertigkeit?\n* Was macht uns als Menschen gleich und was mach
	t uns einzigartig?\n* Welche Bedeutung haben Vielfalt und Unterschiede in 
	der Gesellschaft?\n\n\nWORKSHOP – KREATIVER MALPROZESS:\n\n\nDie Teilnehme
	nden arbeiten frei und zielorientiert mit Wasserfarben auf\nLeinwand\, um 
	sich künstlerisch mit ihren Gedanken auseinanderzusetzen.\nZiel ist es\, d
	urch Kunst gemeinsam Vorurteile abzubauen und Erfahrungen zu\nreflektieren
	. Zudem sollen Prävention gefördert\, eindrückliche Ideen zum Thema\nRassi
	smus und Diskriminierung sichtbar gemacht sowie das Bewusstsein für die\nB
	edeutung von Vielfalt gestärkt werden.\n\nVorstellung der Kunstwerke:\nAm 
	Ende des Workshops haben die Teilnehmenden die Möglichkeit\, ihre Werke zu
	\npräsentieren.\n\n\nAUSSTELLUNG\n\n\nAusstellung der entstehenden Kunstwe
	rke in einem öffentlichen Raum\, um das Thema\nRassismus\, Diskriminierung
	 und Vielfalt weiter zu thematisieren und Dialoge zu\nfördern.\nAb 23. Mär
	z 2026 im IBZ (Internationales Begegnungszentrum)\, Kaiserallee 12d\,\n761
	33 Karlsruhe\n\n\nABSCHLUSS DES PROJEKTS:\n\n\nAb 28. März 2026 – Reflexio
	n und Feedback durch eine Abschlussveranstaltung oder\nOnline-Umfrage\n\nM
	bagaan Nduur – Projektleiter\n\n\n\n\nANMELDUNG ERFORDERLICH\n\n\nE-Mail: 
	mitkunstgegenrassismus@gmail.com [mitkunstgegenrassismus@gmail.com]\nInsta
	gram: @mitkunstgegenrassismus
URL:https://keepkarlsruheboring.org/event/mit-kunst-gegen-rassismus-austaus
	ch-und-kunst-workshop
GEO:49.0113;8.37666
LOCATION:Internationales Begegnungszentrum - 12d\, Kaiserallee\, Weststadt 
	Mittlerer Teil\, Weststadt\, Karlsruhe\, Baden-Württemberg\, 76133\, Deuts
	chland
STATUS:CONFIRMED
CATEGORIES:Anti-Racism,Art,Free,Internationalen Wochen gegen Rassismus,Regi
	stration required,Workshop
X-ALT-DESC;FMTTYPE=text/html:<p>[↓↓ Deutsche Version unten ↓↓]</p><h2>Proje
	ct goal: </h2><p> “Art Against Racism” is a sustainable project that uses 
	art as a tool to raise awareness of racism and discrimination while simult
	aneously emphasizing the importance of diversity and equality. It creates 
	a space for collective action towards change, reflection, and integration.
	 <br> The project underscores: “Regardless of origin or skin color, we are
	 all equal.”</p><h2>Target group: </h2><p> The target group includes peopl
	e who want to engage with the topics of racism, discrimination, and divers
	ity. In particular, people who are affected by racism or discrimination an
	d want to share their experiences, as well as those interested in raising 
	awareness and contributing to the reduction of prejudice.</p><h2>EVENT PRO
	CESS </h2><p> Exchange and discussion: <br> Presentation of the project, i
	ntroductions, and an introduction to the topic of racism, discrimination, 
	and diversity using guiding questions. <br> * What are racism and discrimi
	nation? What experiences have you had with them? <br> * What does equality
	 mean to you? <br> * What makes us the same as human beings, and what make
	s us unique? <br> * What significance do diversity and differences have in
	 society?</p><h2>Workshop – Creative Painting Process: </h2><p><br> Partic
	ipants work freely and purposefully with watercolors on canvas to artistic
	ally explore their thoughts. <br> The aim is to collectively dismantle pre
	judices and reflect on experiences through art. Furthermore, the workshop 
	aims to promote prevention, highlight impactful ideas on racism and discri
	mination, and strengthen awareness of the importance of diversity.</p><p>P
	resentation of the artworks: <br> At the end of the workshop, participants
	 have the opportunity to present their works.</p><h2>EXHIBITION </h2><p><b
	r> Exhibition of the artworks being created in a public space to further a
	ddress the topics of racism, discrimination, and diversity, and to promote
	 dialogue. <br> From March 23, 2026, at the IBZ (International Meeting Cen
	ter), Kaiserallee 12d, 76133 Karlsruhe</p><p>PROJECT CONCLUSION: <br> From
	 March 28, 2026 – Reflection and feedback through a closing event or onlin
	e survey</p><p>Mbagaan Nduur – Project Manager</p><h2>REGISTRATION REQUIRE
	D </h2><p><br> Email: <a href="mailto:mitkunstgegenrassismus@gmail.com" ta
	rget="_blank">mitkunstgegenrassismus@gmail.com</a><br> Instagram: @mitkuns
	tgegenrassismus</p><p>/-/-/</p><h2>Projektziel:</h2><p><br>„Mit Kunst gege
	n Rassismus“ ist ein nachhaltig wirkendes Projekt, das Kunst als Werkzeug 
	nutzt, um auf die Themen Rassismus und Diskriminierung aufmerksam zu mache
	n und gleichzeitig die Bedeutung von Vielfalt und Gleichwertigkeit zu beto
	nen. Es schafft einen Raum, um sich gemeinsam für Veränderung, Reflexion u
	nd Integration einzusetzen.<br>Das Projekt verdeutlicht: „Unabhängig von H
	erkunft oder Hautfarbe sind wir alle gleichwertig.“</p><p>Zielgruppe:<br>D
	ie Zielgruppe umfasst Personen, die sich mit den Themen Rassismus, Diskrim
	inierung und Vielfalt auseinandersetzen möchten. Insbesondere Menschen, di
	e von Rassismus oder Diskriminierung betroffen sind und ihre Erfahrungen t
	eilen möchten, sowie Interessierte, die sich sensibilisieren und zum Abbau
	 von Vorurteilen beitragen möchten.</p><h2>ABLAUF DER VERANSTALTUNG</h2><p
	>Austausch und Gesprächsrunde:<br>Vorstellung des Projekts, Vorstellungsru
	nde und Einführung in das Thema Rassismus, Diskriminierung und Vielfalt an
	hand von Leitfragen.<br>* Was sind Rassismus und Diskriminierung? Welche E
	rfahrungen haben Sie damit gemacht?<br>* Was bedeutet für dich Gleichwerti
	gkeit?<br>* Was macht uns als Menschen gleich und was macht uns einzigarti
	g?<br>* Welche Bedeutung haben Vielfalt und Unterschiede in der Gesellscha
	ft?</p><h2>Workshop – kreativer Malprozess:</h2><p><br>Die Teilnehmenden a
	rbeiten frei und zielorientiert mit Wasserfarben auf Leinwand, um sich kün
	stlerisch mit ihren Gedanken auseinanderzusetzen.<br>Ziel ist es, durch Ku
	nst gemeinsam Vorurteile abzubauen und Erfahrungen zu reflektieren. Zudem 
	sollen Prävention gefördert, eindrückliche Ideen zum Thema Rassismus und D
	iskriminierung sichtbar gemacht sowie das Bewusstsein für die Bedeutung vo
	n Vielfalt gestärkt werden.</p><p>Vorstellung der Kunstwerke:<br>Am Ende d
	es Workshops haben die Teilnehmenden die Möglichkeit, ihre Werke zu präsen
	tieren.</p><h2>AUSSTELLUNG</h2><p><br>Ausstellung der entstehenden Kunstwe
	rke in einem öffentlichen Raum, um das Thema Rassismus, Diskriminierung un
	d Vielfalt weiter zu thematisieren und Dialoge zu fördern.<br>Ab 23. März 
	2026 im IBZ (Internationales Begegnungszentrum), Kaiserallee 12d, 76133 Ka
	rlsruhe</p><h2>ABSCHLUSS DES PROJEKTS:</h2><p><br>Ab 28. März 2026 – Refle
	xion und Feedback durch eine Abschlussveranstaltung oder Online-Umfrage</p
	><p>Mbagaan Nduur – Projektleiter</p><p></p><h2>ANMELDUNG ERFORDERLICH</h2
	><p><br>E-Mail: <a href="mailto:mitkunstgegenrassismus@gmail.com" target="
	_blank">mitkunstgegenrassismus@gmail.com</a><br>Instagram: @mitkunstgegenr
	assismus</p>
BEGIN:VALARM
ACTION:DISPLAY
DESCRIPTION:MIT KUNST GEGEN RASSISMUS – Austausch und Kunst-Workshop
TRIGGER:-PT1H
END:VALARM
END:VEVENT
END:VCALENDAR
