BEGIN:VCALENDAR
VERSION:2.0
CALSCALE:GREGORIAN
PRODID:adamgibbons/ics
METHOD:PUBLISH
X-PUBLISHED-TTL:PT1H
BEGIN:VEVENT
UID:151@keepkarlsruheboring.org
SUMMARY:Mit-Mach-Ausstellung | Imaginat | Chiharu Koda x JeongHo Park
DTSTAMP:20260423T105008Z
DTSTART:20250801T170000Z
DTEND:20250801T210000Z
DESCRIPTION:MIT-MACH-AUSSTELLUNG | IMAGINAT | CHIHARU KODA X JEONGHO PARK\n
	\n\n\nMitmachen:\n\nFreitag\, 01.08\, 19:00 - 23:00\n\nSamstag\, 02.08\, 1
	0:00 - 14:00\n\nIn der Mit-Mach-Ausstellung „Imaginat“ kannst du bemalte H
	olzstäbe\, bunte\nPapierformen oder Gummischläuche ganz nach deiner Vorste
	llung auf einem Tisch\narrangieren. Eine Künstliche Intelligenz KI erkennt
	\, was und wie du gelegt hast\,\nverwandelt es in einen digitalen Fluss un
	d projiziert es live an die Wand. So\nentsteht ein gemeinsames\, interakti
	ves Kunstwerk. Die Ausstellung zeigt\, wie\nVergangenheit und Zukunft von 
	Karlsruhe in Bildern zusammenkommen und wie\nanaloge Objekte und digitale 
	Technologien kreativ miteinander verschmelzen\nkönnen.\n\nMitmachen ist ko
	stenlos und ohne Anmeldung möglich.Empfohlenes Alter: 6–99\nJahre. Die Aus
	stellung ist offen gestaltet – man kann jederzeit einsteigen und\nso lange
	 mitmachen\, wie man möchte. Die Aufsichtspflicht für Kinder liegt bei\nde
	n Eltern.\n\nKonzept - Chiharu Koda und JeongHo Park\n\nAusstellung - und 
	Raumgestaltung - Chiharu Koda\n\nTechnische Unterstützung - Studio Fluffy\
	n\nFoto: © Chiharu Koda\, 2024 in Island\n\nStudio Hö ist ein neuer Raum f
	ür Medienkunst. Gefördert von der Hoepfner\nStiftung und der UNESCO Creati
	ve City of Media Arts Karlsruhe entwickelt die\nerste Stipendiatin\, Chiha
	ru Koda\, von März bis Dezember 2025 gemeinsam mit\nweiteren Künstler*inne
	n drei Projekte\, die im studio hö präsentiert werden.\nDiese Projekte bie
	ten Einblicke in aktuelle Positionen der Medienkunst –\nexperimentell\, ko
	llaborativ und vor Ort entwickelt.\n\nChiharu Koda ist Medienkünstlerin\, 
	die raumgreifende Installationen mit\npoetischer Tiefe gestaltet. Sie lebt
	 und arbeitet in Karlsruhe. Nach einem\nDesignstudium mit Schwerpunkt Kera
	mik an der Okayama Prefectural University\nstudierte sie Bildhauerei an de
	r Kunstakademie Karlsruhe\, wo sie ihre\nkünstlerische Praxis zunehmend in
	stallativ und technologisch erweiterte.\nZentrales Motiv ihrer Arbeit ist 
	die Beziehung zwischen Erinnerung und Raum.\nIhre Installationen verbinden
	 analoge Materialien mit elektronischen Komponenten\nund erweitern diese d
	urch algorithmisch gesteuerte Elemente\, die zusätzliche\nEbenen der Inter
	aktion ermöglichen.\n\n+++\n\nEine kleinere Version der Arbeit „Imaginat“ 
	wird auch vom 14.08. bis 14.09. im\nRahmen der Ausstellung Media Art is he
	re im studio hö gezeigt. Kostenlose\nFahrradführungen zur Ausstellung Medi
	a Art is here finden ebenfalls statt.
URL:https://keepkarlsruheboring.org/event/mit-mach-ausstellung-or-imaginat-
	or-chiharu-koda-x-jeongho-park
GEO:49.0089;8.41586
LOCATION:Studio Hö - 3\, Kaiserstraße\, Innenstadt-Ost Südwestlicher Teil\,
	 Innenstadt-Ost\, Karlsruhe\, Baden-Württemberg\, 76131\, Deutschland
STATUS:CONFIRMED
CATEGORIES:Art,Media Art,Opening
X-ALT-DESC;FMTTYPE=text/html:<h1>Mit-Mach-Ausstellung | Imaginat | Chiharu 
	Koda x JeongHo Park</h1><p></p><p><strong>Mitmachen:</strong></p><p><stron
	g>Freitag, 01.08, 19:00 - 23:00</strong></p><p><strong>Samstag, 02.08, 10:
	00 - 14:00</strong></p><p>In der Mit-Mach-Ausstellung „Imaginat“ kannst du
	 bemalte Holzstäbe, bunte Papierformen oder Gummischläuche ganz nach deine
	r Vorstellung auf einem Tisch arrangieren. Eine Künstliche Intelligenz KI 
	erkennt, was und wie du gelegt hast, verwandelt es in einen digitalen Flus
	s und projiziert es live an die Wand. So entsteht ein gemeinsames, interak
	tives Kunstwerk. Die Ausstellung zeigt, wie Vergangenheit und Zukunft von 
	Karlsruhe in Bildern zusammenkommen und wie analoge Objekte und digitale T
	echnologien kreativ miteinander verschmelzen können.</p><p>Mitmachen ist k
	ostenlos und ohne Anmeldung möglich.Empfohlenes Alter: 6–99 Jahre. Die Aus
	stellung ist offen gestaltet – man kann jederzeit einsteigen und so lange 
	mitmachen, wie man möchte. Die Aufsichtspflicht für Kinder liegt bei den E
	ltern.</p><p>Konzept - Chiharu Koda und JeongHo Park</p><p>Ausstellung - u
	nd Raumgestaltung - Chiharu Koda</p><p>Technische Unterstützung - Studio F
	luffy</p><p>Foto: © Chiharu Koda, 2024 in Island</p><p><strong>Studio Hö <
	/strong>ist ein neuer Raum für Medienkunst. Gefördert von der Hoepfner Sti
	ftung und der UNESCO Creative City of Media Arts Karlsruhe entwickelt die 
	erste Stipendiatin, Chiharu Koda, von März bis Dezember 2025 gemeinsam mit
	 weiteren Künstler*innen drei Projekte, die im studio hö präsentiert werde
	n. Diese Projekte bieten Einblicke in aktuelle Positionen der Medienkunst 
	– experimentell, kollaborativ und vor Ort entwickelt.</p><p><strong>Chihar
	u Koda </strong>ist Medienkünstlerin, die raumgreifende Installationen mit
	 poetischer Tiefe gestaltet. Sie lebt und arbeitet in Karlsruhe. Nach eine
	m Designstudium mit Schwerpunkt Keramik an der Okayama Prefectural Univers
	ity studierte sie Bildhauerei an der Kunstakademie Karlsruhe, wo sie ihre 
	künstlerische Praxis zunehmend installativ und technologisch erweiterte. Z
	entrales Motiv ihrer Arbeit ist die Beziehung zwischen Erinnerung und Raum
	. Ihre Installationen verbinden analoge Materialien mit elektronischen Kom
	ponenten und erweitern diese durch algorithmisch gesteuerte Elemente, die 
	zusätzliche Ebenen der Interaktion ermöglichen.</p><p>+++</p><p>Eine klein
	ere Version der Arbeit „Imaginat“ wird auch vom 14.08. bis 14.09. im Rahme
	n der Ausstellung Media Art is here im studio hö gezeigt. Kostenlose Fahrr
	adführungen zur Ausstellung Media Art is here finden ebenfalls statt.</p>
BEGIN:VALARM
ACTION:DISPLAY
DESCRIPTION:Mit-Mach-Ausstellung | Imaginat | Chiharu Koda x JeongHo Park
TRIGGER:-PT1H
END:VALARM
END:VEVENT
END:VCALENDAR
