BEGIN:VCALENDAR
VERSION:2.0
CALSCALE:GREGORIAN
PRODID:adamgibbons/ics
METHOD:PUBLISH
X-PUBLISHED-TTL:PT1H
BEGIN:VEVENT
UID:546@keepkarlsruheboring.org
SUMMARY:Mittwochstreff: Neonlicht-Malerei gegen Winter-Blues
DTSTAMP:20260423T104737Z
DTSTART:20251119T140000Z
DTEND:20251119T160000Z
DESCRIPTION:Dieses Mal wird’s leuchtend! Beim Mittwochstreff tauchen wir ei
	n in die Welt des\nSchwarzlichts: Farben beginnen zu glühen\, Muster erwac
	hen im Dunkeln und\nMaterialien zeigen plötzlich ein ganz neues Gesicht. W
	ir experimentieren\,\nprobieren aus und lassen uns von fluoreszierenden Ef
	fekten inspirieren – ganz\nohne Plan\, aber mit viel Neugier und Spaß am E
	ntdecken.\n\nWie immer: Tee gibt’s genug\, Gespräche sowieso.\n\nNeugierig
	 geworden? Dann kommt einfach vorbei – wir freuen uns auf euch!\n\nBeim Mi
	ttwochstreff laden wir euch einmal im Monat herzlich zum Teetrinken\,\nAus
	tauschen und Ausprobieren ein. In entspannter Atmosphäre treffen wir tolle
	\nLeute\, lassen den Alltag hinter uns und entdecken gemeinsam neue kreati
	ve Ideen.\nOhne Druck\, ohne Zwang – einfach mitmachen oder zuschauen\, wi
	e es gerade passt.\n\nBitte meldet euch im Foyer an der Infotheke an! Hier
	 bekommt ihr ein Bändchen\,\num kostenfrei teilzunehmen.\n\nBildcredits: ©
	 ZKM | Zentrum für Kunst und Medien
URL:https://keepkarlsruheboring.org/event/mittwochstreff-neonlicht-malerei-
	gegen-winter-blues
GEO:49.0013;8.3836
LOCATION:ZKM | Zentrum für Kunst und Medien Karlsruhe - Lorenzstr. 19\, D-7
	6135 Karlsruhe
STATUS:CONFIRMED
CATEGORIES:Art,Workshop
X-ALT-DESC;FMTTYPE=text/html:<p>Dieses Mal wird’s leuchtend! Beim Mittwochs
	treff tauchen wir ein in die Welt des Schwarzlichts: Farben beginnen zu gl
	ühen, Muster erwachen im Dunkeln und Materialien zeigen plötzlich ein ganz
	 neues Gesicht. Wir experimentieren, probieren aus und lassen uns von fluo
	reszierenden Effekten inspirieren – ganz ohne Plan, aber mit viel Neugier 
	und Spaß am Entdecken.</p><p>Wie immer: Tee gibt’s genug, Gespräche sowies
	o.</p><p>Neugierig geworden? Dann kommt einfach vorbei – wir freuen uns au
	f euch!</p><p>Beim Mittwochstreff laden wir euch einmal im Monat herzlich 
	zum Teetrinken, Austauschen und Ausprobieren ein. In entspannter Atmosphär
	e treffen wir tolle Leute, lassen den Alltag hinter uns und entdecken geme
	insam neue kreative Ideen. Ohne Druck, ohne Zwang – einfach mitmachen oder
	 zuschauen, wie es gerade passt.</p><p>Bitte meldet euch im Foyer an der I
	nfotheke an! Hier bekommt ihr ein Bändchen, um kostenfrei teilzunehmen.</p
	><p>Bildcredits: © ZKM | Zentrum für Kunst und Medien</p>
BEGIN:VALARM
ACTION:DISPLAY
DESCRIPTION:Mittwochstreff: Neonlicht-Malerei gegen Winter-Blues
TRIGGER:-PT1H
END:VALARM
END:VEVENT
END:VCALENDAR
