BEGIN:VCALENDAR
VERSION:2.0
CALSCALE:GREGORIAN
PRODID:adamgibbons/ics
METHOD:PUBLISH
X-PUBLISHED-TTL:PT1H
BEGIN:VEVENT
UID:1302@keepkarlsruheboring.org
SUMMARY:Modern Dance Frühlingskurs für Anfänger & Mittelstufe ab 25. März
DTSTAMP:20260423T104916Z
DTSTART:20260325T163000Z
DTEND:20260325T173000Z
DESCRIPTION:Für alle\, die Lust haben\, Modern Dance zu tanzen und einsteig
	en möchten\, biete\nich einen Kurs an\, der sich für Anfänger und die Mitt
	elstufe eignet.\n\nWas ist Modern Dance? Der moderne Tanz\, auch als Conte
	mporary Dance bekannt\, ist\neine faszinierende Form künstlerischen Ausdru
	cks\, die sich von traditionellen\nTanzstilen abhebt und eine einzigartige
	 Synthese aus verschiedenen\nBewegungsformen darstellt. Die Bewegungen im 
	modernen Tanz sind oft fließend\,\norganisch und abstrakt. TänzerInnen nut
	zen den gesamten Körper\, einschließlich\nunkonventioneller Bewegungen wie
	 Bodenarbeit\, improvisierten Schritten und\nunregelmäßigen Formen. Diese 
	Freiheit ermöglicht es zu tanzen\, ohne auf\ntraditionelle Ballettposition
	en oder -techniken beschränkt zu sein. Ein weiteres\ncharakteristisches Me
	rkmal des modernen Tanzes ist die enge Verbindung zur\nMusik\, oft wird mi
	t zeitgenössischer Musik gearbeitet.\n\nKursinhalte: In meinem Kurs erwart
	et dich ein umfassendes Training mit modernem\nWarm-up (Pliés\, Tendues\, 
	Swings\, Floorwork etc.)\, Muskelkräftigung\, Stretching\nund Diagonalen. 
	Mit Begeisterung\, Geduld und Hingabe arbeiten wir an der Technik\nund ber
	eiten den Körper optimal auf die abschließende Choreografie vor. Mein\nZie
	l ist es\, Freude am Tanzen zu erleben\, loszulassen und gleichzeitig Neue
	s zu\nlernen!\n\nKurszeiten und -ort:\n\n * Mittwochskurs:\n   Wann: 17:30
	 Uhr bis 18:30 Uhr\n   Wo: Tanzando\, Douglasstr. 24/26\, 76133 Karlsruhe\
	n   Termine: 25. März\, 01. April\, 08. April\, 15. April\, 22. April\, 29
	. April\, 06.\n   Mai\, 13. Mai\, 20. Mai\, 10. Juni\, 17. Juni\n\nHinweis
	: Kein Kurs in den Pfingstferien.\n\nTeilnahmeinformationen: Die Kurse sin
	d als Block buchbar und es besteht keine\nVertragsbindung. Es werden keine
	 Anmeldegebühren berechnet. Interessierte können\ngerne eine Probestunde z
	um Ausprobieren einzeln buchen. Die Teilnehmerzahl ist\nbegrenzt. Ein Quer
	einstieg ist möglich\, wenn noch Plätze frei sind.\n\nKontakt: Für weitere
	 Informationen und Anmeldung stehe ich gerne zur Verfügung.\nSchreib mir e
	infach per E-Mail an tanzen(at)danielamax.de\n[http://danielamax.de] . Ich
	 freue mich auf deine Nachricht!
URL:https://keepkarlsruheboring.org/event/modern-dance-fruhlingskurs-fur-an
	fanger-and-mittelstufe-ab-25-marz-1
GEO:49.0094;8.39322
LOCATION:Tanzando - Douglasstr. 24/26\, 76133 Karlsruhe
STATUS:CONFIRMED
CATEGORIES:Contemporarydance,Dance,Kurs,Kursblock,ModernDance,TanzenInKarls
	ruhe
X-ALT-DESC;FMTTYPE=text/html:<p>Für alle, die Lust haben, Modern Dance zu t
	anzen und einsteigen möchten, biete ich einen Kurs an, der sich für Anfäng
	er und die Mittelstufe eignet.</p><p><strong>Was ist Modern Dance? </stron
	g>Der moderne Tanz, auch als Contemporary Dance bekannt, ist eine faszinie
	rende Form künstlerischen Ausdrucks, die sich von traditionellen Tanzstile
	n abhebt und eine einzigartige Synthese aus verschiedenen Bewegungsformen 
	darstellt. Die Bewegungen im modernen Tanz sind oft fließend, organisch un
	d abstrakt. TänzerInnen nutzen den gesamten Körper, einschließlich unkonve
	ntioneller Bewegungen wie Bodenarbeit, improvisierten Schritten und unrege
	lmäßigen Formen. Diese Freiheit ermöglicht es zu tanzen, ohne auf traditio
	nelle Ballettpositionen oder -techniken beschränkt zu sein. Ein weiteres c
	harakteristisches Merkmal des modernen Tanzes ist die enge Verbindung zur 
	Musik, oft wird mit zeitgenössischer Musik gearbeitet.</p><p><strong>Kursi
	nhalte: </strong>In meinem Kurs erwartet dich ein umfassendes Training mit
	 modernem Warm-up (Pliés, Tendues, Swings, Floorwork etc.), Muskelkräftigu
	ng, Stretching und Diagonalen. Mit Begeisterung, Geduld und Hingabe arbeit
	en wir an der Technik und bereiten den Körper optimal auf die abschließend
	e Choreografie vor. Mein Ziel ist es, Freude am Tanzen zu erleben, loszula
	ssen und gleichzeitig Neues zu lernen!</p><p><strong>Kurszeiten und -ort:<
	/strong></p><ul><li><p><strong>Mittwochskurs:</strong><br><em>Wann: </em>1
	7:30 Uhr bis 18:30 Uhr<br><em>Wo: </em>Tanzando, Douglasstr. 24/26, 76133 
	Karlsruhe<br><em>Termine: </em>25. März, 01. April, 08. April, 15. April, 
	22. April, 29. April, 06. Mai, 13. Mai, 20. Mai, 10. Juni, 17. Juni</p></l
	i></ul><p><strong>Hinweis: </strong>Kein Kurs in den Pfingstferien.</p><p>
	<strong>Teilnahmeinformationen: </strong>Die Kurse sind als Block buchbar 
	und es besteht keine Vertragsbindung. Es werden keine Anmeldegebühren bere
	chnet. Interessierte können gerne eine Probestunde zum Ausprobieren einzel
	n buchen. Die Teilnehmerzahl ist begrenzt.  Ein Quereinstieg ist möglich, 
	wenn noch Plätze frei sind.</p><p><strong>Kontakt: </strong>Für weitere In
	formationen und Anmeldung stehe ich gerne zur Verfügung. Schreib mir einfa
	ch per E-Mail an&nbsp;tanzen(at)<a href="http://danielamax.de" target="_bl
	ank">danielamax.de</a>&nbsp;. Ich freue mich auf deine Nachricht!</p>
BEGIN:VALARM
ACTION:DISPLAY
DESCRIPTION:Modern Dance Frühlingskurs für Anfänger & Mittelstufe ab 25. Mä
	rz
TRIGGER:-PT1H
END:VALARM
END:VEVENT
END:VCALENDAR
