BEGIN:VCALENDAR
VERSION:2.0
CALSCALE:GREGORIAN
PRODID:adamgibbons/ics
METHOD:PUBLISH
X-PUBLISHED-TTL:PT1H
BEGIN:VEVENT
UID:878@keepkarlsruheboring.org
SUMMARY:Mohamed Amjahid liest aus "Alles nur Einzelfälle?" [9 €]
DTSTAMP:20260423T104857Z
DTSTART:20260317T190000Z
DTEND:20260317T210000Z
DESCRIPTION:[ ↓↓ Deutsche Version unten ↓↓]\n\nInteractive presentation: Br
	ing your topics and questions!\n\nRacist and anti-Semitic police chats\, a
	buse of power\, racial profiling\,\nfar-reaching right-wing extremist netw
	orks\, deadly police violence – according\nto interior ministries and secu
	rity authorities\, these are all just isolated\nincidents. But based on re
	presentative studies\, years of investigative research\,\nand personal exp
	eriences\, Mohamed Amjahid reveals how deeply the police problem\nis roote
	d in Germany's security architecture.\n\nFrom the systematic cover-up of a
	buse of power to NSU 2.0: This book shakes the\nfundamental trust in the i
	nstitution of the police and calls for an honest\ndebate about the police 
	problem.\n\nMohamed Amjahid\, born in Frankfurt am Main in 1988\, is a fre
	elance journalist\nand author. He writes for publications including ZEITma
	gazin\, Der Spiegel\, and\nWDR. Amjahid has been awarded the Alexander Rho
	mberg Prize\, the Stern Prize\, and\nthe German Audiobook Prize. His books
	 "Unter Weißen" (Among White People) and\n"Der weiße Fleck" (The White Spo
	t) have garnered considerable attention. He\nlives in Berlin.\n\n/-/-/\n\n
	Interaktiver Vortrag: Bringt eure Themen und Fragen mit!\n\nRassistische u
	nd antisemitische Polizei-Chats\, Machtmissbrauch im Amt\, Racial\nProfili
	ng\, weit verzweigte rechtsextreme Netzwerke\, tödliche Polizeigewalt –\nl
	aut Innenministerien und Sicherheitsbehörden alles nur Einzelfälle. Doch\n
	basierend auf repräsentativen Studien\, langjährigen investigativen Recher
	chen\nund persönlichen Erlebnissen deckt Mohamed Amjahid auf\, wie tief da
	s\nPolizeiproblem in Deutschlands Sicherheitsarchitektur verwurzelt ist.\n
	\nVon der systematischen Vertuschung von Machtmissbrauch bis hin zum NSU 2
	.0:\nDieses Buch erschüttert das Grundvertrauen in die Institution Polizei
	 und\nfordert eine ehrliche Debatte über das Polizeiproblem.\n\nMohamed Am
	jahid\, 1988 in Frankfurt a. M. geboren\, ist freier Journalist und\nBucha
	utor. Er schreibt unter anderem für das ZEITmagazin\, den Spiegel und den\
	nWDR. Amjahid wurde mit dem Alexander-Rhomberg-Preis\, dem Stern-Preis und
	 dem\ndeutschen Hörbuchpreis ausgezeichnet. Für seine Bücher »Unter Weißen
	« und\n»Der weiße Fleck« hat Amjahid viel Aufmerksamkeit bekommen. Er lebt
	 in Berlin.
URL:https://keepkarlsruheboring.org/event/mohamed-amjahid-liest-aus-alles-n
	ur-einzelfalle
GEO:48.989;8.37185
LOCATION:P8 - Schauenburgstraße 5\, 76135 Karlsruhe
STATUS:CONFIRMED
CATEGORIES:Antisemitismus,Internationalen Wochen gegen Rassismus,Rassismus,
	Ticket
X-ALT-DESC;FMTTYPE=text/html:<p>[ ↓↓ Deutsche Version unten ↓↓]</p><p>Inter
	active presentation: Bring your topics and questions!</p><p>Racist and ant
	i-Semitic police chats, abuse of power, racial profiling, far-reaching rig
	ht-wing extremist networks, deadly police violence – according to interior
	 ministries and security authorities, these are all just isolated incident
	s. But based on representative studies, years of investigative research, a
	nd personal experiences, Mohamed Amjahid reveals how deeply the police pro
	blem is rooted in Germany's security architecture.</p><p>From the systemat
	ic cover-up of abuse of power to NSU 2.0: This book shakes the fundamental
	 trust in the institution of the police and calls for an honest debate abo
	ut the police problem.</p><p>Mohamed Amjahid, born in Frankfurt am Main in
	 1988, is a freelance journalist and author. He writes for publications in
	cluding ZEITmagazin, Der Spiegel, and WDR. Amjahid has been awarded the Al
	exander Rhomberg Prize, the Stern Prize, and the German Audiobook Prize. H
	is books "Unter Weißen" (Among White People) and "Der weiße Fleck" (The Wh
	ite Spot) have garnered considerable attention. He lives in Berlin.</p><p>
	/-/-/</p><p>Interaktiver Vortrag: Bringt eure Themen und Fragen mit!</p><p
	>Rassistische und antisemitische Polizei-Chats, Machtmissbrauch im Amt, Ra
	cial Profiling, weit verzweigte rechtsextreme Netzwerke, tödliche Polizeig
	ewalt – laut Innenministerien und Sicherheitsbehörden alles nur Einzelfäll
	e. Doch basierend auf repräsentativen Studien, langjährigen investigativen
	 Recherchen und persönlichen Erlebnissen deckt Mohamed Amjahid auf, wie ti
	ef das Polizeiproblem in Deutschlands Sicherheitsarchitektur verwurzelt is
	t.</p><p>Von der systematischen Vertuschung von Machtmissbrauch bis hin zu
	m NSU 2.0: Dieses Buch erschüttert das Grundvertrauen in die Institution P
	olizei und fordert eine ehrliche Debatte über das Polizeiproblem.</p><p>Mo
	hamed Amjahid, 1988 in Frankfurt a. M. geboren, ist freier Journalist und 
	Buchautor. Er schreibt unter anderem für das ZEITmagazin, den Spiegel und 
	den WDR. Amjahid wurde mit dem Alexander-Rhomberg-Preis, dem Stern-Preis u
	nd dem deutschen Hörbuchpreis ausgezeichnet. Für seine Bücher »Unter Weiße
	n« und »Der weiße Fleck« hat Amjahid viel Aufmerksamkeit bekommen. Er lebt
	 in Berlin.</p>
BEGIN:VALARM
ACTION:DISPLAY
DESCRIPTION:Mohamed Amjahid liest aus "Alles nur Einzelfälle?" [9 €]
TRIGGER:-PT1H
END:VALARM
END:VEVENT
END:VCALENDAR
