BEGIN:VCALENDAR
VERSION:2.0
CALSCALE:GREGORIAN
PRODID:adamgibbons/ics
METHOD:PUBLISH
X-PUBLISHED-TTL:PT1H
BEGIN:VEVENT
UID:1116@keepkarlsruheboring.org
SUMMARY:Monitoring mit GitHub Actions
DTSTAMP:20260423T085343Z
DTSTART:20260227T180000Z
DTEND:20260227T190000Z
DESCRIPTION:GitMon statt DevOps! Der "super polyglotte" "Master Deployer" T
	M stellt euch\neine etwas andere Art des (serverless) Monitorings vor\, di
	e kostenlos eine\nStatus Seite und Issues bereitstellt.\n\nMehr zu unserem
	 Open Sessions Format findet ihr hier:\nhttps://entropia.de/Open_Sessions:
	Agenda\n[https://entropia.de/Open_Sessions:Agenda]
URL:https://keepkarlsruheboring.org/event/monitoring-mit-github-actions
GEO:49.0063;8.40722
LOCATION:Entropia - Gewerbehof Steinstraße 23 76133 Karlsruhe
STATUS:CONFIRMED
CATEGORIES:Talk,Technology
X-ALT-DESC;FMTTYPE=text/html:<p>GitMon statt DevOps! Der "super polyglotte"
	 "Master Deployer" TM stellt euch eine etwas andere Art des (serverless) M
	onitorings vor, die kostenlos eine Status Seite und Issues bereitstellt.</
	p><p>Mehr zu unserem Open Sessions Format findet ihr hier: <a href="https:
	//entropia.de/Open_Sessions:Agenda" target="_blank">https://entropia.de/Op
	en_Sessions:Agenda</a></p>
BEGIN:VALARM
ACTION:DISPLAY
DESCRIPTION:Monitoring mit GitHub Actions
TRIGGER:-PT1H
END:VALARM
END:VEVENT
END:VCALENDAR
