BEGIN:VCALENDAR
VERSION:2.0
CALSCALE:GREGORIAN
PRODID:adamgibbons/ics
METHOD:PUBLISH
X-PUBLISHED-TTL:PT1H
BEGIN:VEVENT
UID:939@keepkarlsruheboring.org
SUMMARY:Monkeys On Mars -A unique sound journey with Monkey3 & Mars Red Sky
	-
DTSTAMP:20260423T104857Z
DTSTART:20260425T180000Z
DTEND:20260425T200000Z
DESCRIPTION:Doomstar Bookings & 3C & P8² present: MONKEYS ON MARS [MARS RED
	 SKY & MONKEY3]\nMONKEYS ON MARS fuses two outer-space heavy psychedelic p
	rojects. French trio\nMARS RED SKY’s kraut-infused sophisticated atmospher
	es carried by melodic vocals\nand complex heavier-than-heavy rhythms meet 
	Swiss mind-blowing outfit MONKEY3’s\nprogressive breaks\, mesmerizing groo
	ves and colossal riffs. Don’t forget this\nshared sci-fi passion of theirs
	 and you will get a full interstellar trip!\nSelf-titled debut EP arrives 
	on October 17th 2025 via Mrs Red Sound. On stage\,\nthree bands will be pe
	rforming: Monkey3\, Mars Red Sky and Monkeys On Mars. What\nto expect? A M
	ars Red Sky show featuring Monkey3\, followed by a Monkey3 show\nfeaturing
	 Mars Red Sky\, followed by the Monkeys On Mars show. Mars Red Sky and\nMo
	nkey3 will be kicking off the night randomly as Monkeys on Mars will alway
	s be\nclosing. No break. Monkeys On Mars links Instagram: Video “Seasonal 
	Pyres”: Mars\nRed Sky links Facebook: Instagram: Bandcamp: Video “Slow Att
	ack”: Monkey3 links\nFacebook: Instagram Bandcamp: Video live at Hellfest 
	2025:
URL:https://keepkarlsruheboring.org/event/monkeys-on-mars-a-unique-sound-jo
	urney-with-monkey3-and-mars-red-sky-
GEO:48.989;8.37185
LOCATION:P8 - Schauenburgstraße 5\, 76135 Karlsruhe
STATUS:CONFIRMED
CATEGORIES:karlsrunruhe,test
X-ALT-DESC;FMTTYPE=text/html:Doomstar Bookings & 3C & P8² present:<br>MONK
	EYS ON MARS [MARS RED SKY & MONKEY3]<br>MONKEYS ON MARS fuses two outer-sp
	ace heavy psychedelic projects. French trio MARS RED SKY’s kraut-infused s
	ophisticated atmospheres carried by melodic vocals and complex heavier-tha
	n-heavy rhythms meet Swiss mind-blowing outfit MONKEY3’s progressive break
	s, mesmerizing grooves and colossal riffs. Don’t forget this shared sci-fi
	 passion of theirs and you will get a full interstellar trip! Self-titled 
	debut EP arrives on October 17th 2025 via Mrs Red Sound.<br>On stage, thr
	ee bands will be performing: Monkey3, Mars Red Sky and Monkeys On Mars. Wh
	at to expect? A Mars Red Sky show featuring Monkey3, followed by a Monkey3
	 show featuring Mars Red Sky, followed by the Monkeys On Mars show. Mars R
	ed Sky and Monkey3 will be kicking off the night randomly as Monkeys on Ma
	rs will always be closing. No break.<br>Monkeys On Mars links<br>Instagra
	m: <br>Video “Seasonal Pyres”: <br>Mars Red Sky links<br>Facebook: <br>
	Instagram: <br>Bandcamp: <br>Video “Slow Attack”: <br>Monkey3 links<br>
	Facebook: <br>Instagram <br>Bandcamp: <br>Video live at Hellfest 2025: 
BEGIN:VALARM
ACTION:DISPLAY
DESCRIPTION:Monkeys On Mars -A unique sound journey with Monkey3 & Mars Red
	 Sky-
TRIGGER:-PT1H
END:VALARM
END:VEVENT
END:VCALENDAR
