BEGIN:VCALENDAR
VERSION:2.0
CALSCALE:GREGORIAN
PRODID:adamgibbons/ics
METHOD:PUBLISH
X-PUBLISHED-TTL:PT1H
BEGIN:VEVENT
UID:129@keepkarlsruheboring.org
SUMMARY:Musik für den Korallenglanz
DTSTAMP:20260423T102544Z
DTSTART:20250719T150000Z
DESCRIPTION:Benefizveranstaltung
URL:https://keepkarlsruheboring.org/event/musik-fur-den-korallenglanz
GEO:49.0156;8.37079
LOCATION:Devrientstr. 6 - 6\, Devrientstraße\, Weststadt Mittlerer Teil\, W
	eststadt\, Karlsruhe\, Baden-Württemberg\, 76185\, Deutschland
STATUS:CONFIRMED
CATEGORIES:Ecology,Music
X-ALT-DESC;FMTTYPE=text/html:<p>Benefizveranstaltung</p>
BEGIN:VALARM
ACTION:DISPLAY
DESCRIPTION:Musik für den Korallenglanz
TRIGGER:-PT1H
END:VALARM
END:VEVENT
END:VCALENDAR
