BEGIN:VCALENDAR
VERSION:2.0
CALSCALE:GREGORIAN
PRODID:adamgibbons/ics
METHOD:PUBLISH
X-PUBLISHED-TTL:PT1H
BEGIN:VEVENT
UID:419@keepkarlsruheboring.org
SUMMARY:Nein zur Bezahlkarte Karlsruhe - Offenes Plenum
DTSTAMP:20260423T104833Z
DTSTART:20251008T170000Z
DTEND:20251008T190000Z
DESCRIPTION:WIR BRAUCHEN UNTERSTÜTZUNG ‼️ KOMMT ZUM OFFENEN PLENUM ✅\n\nVor 
	knapp einem halben Jahr wurde auch in Karlsruhe die sogenannte Bezahlkarte
	\nfür Geflüchtete eingeführt. Sie schränkt die Menschen in ihrem ohnehin s
	ehr\nknappen finanziellen Spielraum massiv ein. Besonders gravierend ist\,
	 dass weder\nÜberweisungen noch Bargeldabhebungen über 50 € pro Monat mögl
	ich sind.\n\nWie in vielen anderen Städten in Deutschland haben auch wir i
	n Karlsruhe eine\n"Nein zur Bezahlkarte" Gruppe gegründet. Wir unterstütze
	n die Geflohenen dabei\,\netwas mehr Freiheit über ihr ohnehin schon wenig
	es Geld zu erhalten. Das Prinzip\nist\, dass Geflüchtete mit ihrer Bezahlk
	arte Supermarktgutscheine kaufen\, die wir\ndann gegen Bargeld eintauschen
	. Der Bedarf ist groß.\n\nUm mehr zu erreichen\, brauchen wir jedoch dring
	end Unterstützung. Hier einige\nBeispiele\, wie sich Menschen einbringen k
	önnen:\n🗓️ Tauschtermine organisieren und gemeinsam durchführen\n💬 Geflücht
	ete informieren und einladen\n🎨 Flyer gestalten und Mails bearbeiten\n📢 Ku
	ndgebungen planen um politischen Druck aufzubauen\n🤝 Räume und Läden suche
	n\, die unsere Arbeit unterstützen können\n💡und natürlich auch eigene Idee
	n einbringen\n\nAlle Menschen haben Fähigkeiten mit denen sie uns unterstü
	tzen können. Deshalb\nladen wir euch herzlich zu unserem offenen Plenum am
	 🗓️ 08. Oktober um 🕕 18\nUhr ein. Das Treffen findet im „Roten Stern“ in de
	r Steinstraße 23 statt. Dort\nwird es leckeres veganes Essen\, Getränke un
	d die Möglichkeit geben\, unsere\nArbeit besser kennenzulernen.\n\nWir fre
	uen uns sehr darauf\, mit euch ins Gespräch zu kommen\, gemeinsam zu\nschn
	abulieren und natürlich zu plenieren.
URL:https://keepkarlsruheboring.org/event/nein-zur-bezahlkarte-karlsruhe-of
	fenes-plenum
GEO:49.0063;8.40722
LOCATION:Gewerbehof - Gewerbehof Steinstraße 23 76133 Karlsruhe
STATUS:CONFIRMED
CATEGORIES:Gastronomie,International Solidarity,Nein zur Bezahlkarte,Plenun
X-ALT-DESC;FMTTYPE=text/html:<p>WIR BRAUCHEN UNTERSTÜTZUNG ‼️ KOMMT ZUM OFFE
	NEN PLENUM ✅</p><p>Vor knapp einem halben Jahr wurde auch in Karlsruhe die
	 sogenannte Bezahlkarte für Geflüchtete eingeführt. Sie schränkt die Mensc
	hen in ihrem ohnehin sehr knappen finanziellen Spielraum massiv ein. Beson
	ders gravierend ist, dass weder Überweisungen noch Bargeldabhebungen über 
	50 € pro Monat möglich sind.</p><p>Wie in vielen anderen Städten in Deutsc
	hland haben auch wir in Karlsruhe eine "Nein zur Bezahlkarte" Gruppe gegrü
	ndet. Wir unterstützen die Geflohenen dabei, etwas mehr Freiheit über ihr 
	ohnehin schon weniges Geld zu erhalten. Das Prinzip ist, dass Geflüchtete 
	mit ihrer Bezahlkarte Supermarktgutscheine kaufen, die wir dann gegen Barg
	eld eintauschen. Der Bedarf ist groß.</p><p>Um mehr zu erreichen, brauchen
	 wir jedoch dringend Unterstützung. Hier einige Beispiele, wie sich Mensch
	en einbringen können:<br>🗓️ Tauschtermine organisieren und gemeinsam durchf
	ühren<br>💬 Geflüchtete informieren und einladen<br>🎨 Flyer gestalten und M
	ails bearbeiten<br>📢 Kundgebungen planen um politischen Druck aufzubauen<b
	r>🤝 Räume und Läden suchen, die unsere Arbeit unterstützen können<br>💡und 
	natürlich auch eigene Ideen einbringen</p><p>Alle Menschen haben Fähigkeit
	en mit denen sie uns unterstützen können. Deshalb laden wir euch herzlich 
	zu unserem offenen Plenum am 🗓️ 08. Oktober um 🕕 18 Uhr ein. Das Treffen fi
	ndet im „Roten Stern“ in der Steinstraße 23 statt. Dort wird es leckeres v
	eganes Essen, Getränke und die Möglichkeit geben, unsere Arbeit besser ken
	nenzulernen.</p><p>Wir freuen uns sehr darauf, mit euch ins Gespräch zu ko
	mmen, gemeinsam zu schnabulieren und natürlich zu plenieren.</p>
BEGIN:VALARM
ACTION:DISPLAY
DESCRIPTION:Nein zur Bezahlkarte Karlsruhe - Offenes Plenum
TRIGGER:-PT1H
END:VALARM
END:VEVENT
END:VCALENDAR
