BEGIN:VCALENDAR
VERSION:2.0
CALSCALE:GREGORIAN
PRODID:adamgibbons/ics
METHOD:PUBLISH
X-PUBLISHED-TTL:PT1H
BEGIN:VEVENT
UID:1123@keepkarlsruheboring.org
SUMMARY:neversix
DTSTAMP:20260423T143419Z
DTSTART:20260612T180000Z
DESCRIPTION:Karlsruhes funkiest Karlsgroove | EP Release Konzert\n\nDie Som
	mer in Karlsruhe werden seit mehreren Jahren immer heißer\, höchste Zeit\n
	also\, dass die Musikszene mitzieht!\n\nGerade jetzt\, zu Beginn der jährl
	ichen Warmperiode\, ergreifen neversix\n[https://neversix.de/] die Initiat
	ive\, um mit der Veröffentlichung ihrer ersten\nEP die Gemüter und Gelenke
	 auf Betriebstemperatur zu bringen. Für eventuell\nauftretende Kernschmelz
	e wird keine Haftung übernommen. Die wichtigste Zutat\nfür's Gelingen: Pub
	likum. Die zweitwichtigste: Groove! Für ersteres sorgt ihr\,\nzweiteres ha
	t die Band im Gepäck.\n\nNeben den Stücken von der neuen EP gibt es nämlic
	h eine gescheite Portion fetter\nFunk-Fusion Arrangements aus einer handve
	rlesenen Auswahl an Cover. Wer also\nsich selbst für den Sommer in Schwung
	 bringen will kommt vorbei und betätigt das\nTanzbein und mindestes die Na
	ckenmuskulatur!
URL:https://keepkarlsruheboring.org/event/neversix
GEO:49.0135;8.35882
LOCATION:Kulturzentrum Tempel - Kulturverein Tempel e.V. im Kulturzentrum T
	empel Hardtstraße 37 A D-76185 Karlsruhe
STATUS:CONFIRMED
CATEGORIES:Music
X-ALT-DESC;FMTTYPE=text/html:<p><strong>Karlsruhes funkiest Karlsgroove | E
	P Release Konzert</strong></p><p>Die Sommer in Karlsruhe werden seit mehre
	ren Jahren immer heißer, höchste Zeit also, dass die Musikszene mitzieht!<
	/p><p>Gerade jetzt, zu Beginn der jährlichen Warmperiode, ergreifen <a hre
	f="https://neversix.de/" target="_blank"><strong>neversix</strong></a><str
	ong> </strong>die Initiative, um mit der Veröffentlichung ihrer ersten EP 
	die Gemüter und Gelenke auf Betriebstemperatur zu bringen. Für eventuell a
	uftretende Kernschmelze wird keine Haftung übernommen. Die wichtigste Zuta
	t für's Gelingen: Publikum. Die zweitwichtigste: Groove! Für ersteres sorg
	t ihr, zweiteres hat die Band im Gepäck.</p><p>Neben den Stücken von der n
	euen EP gibt es nämlich eine gescheite Portion fetter Funk-Fusion Arrangem
	ents aus einer handverlesenen Auswahl an Cover. Wer also sich selbst für d
	en Sommer in Schwung bringen will kommt vorbei und betätigt das Tanzbein u
	nd mindestes die Nackenmuskulatur!</p>
BEGIN:VALARM
ACTION:DISPLAY
DESCRIPTION:neversix
TRIGGER:-PT1H
END:VALARM
END:VEVENT
END:VCALENDAR
