BEGIN:VCALENDAR
VERSION:2.0
CALSCALE:GREGORIAN
PRODID:adamgibbons/ics
METHOD:PUBLISH
X-PUBLISHED-TTL:PT1H
BEGIN:VEVENT
UID:1079@keepkarlsruheboring.org
SUMMARY:New Bands Festival
DTSTAMP:20260423T102551Z
DTSTART:20260605T163000Z
DESCRIPTION:Das Nachwuchsfestival in der Region vom Popnetz Karlsruhe\n\nSc
	hon seit 40 Jahren gibt es in Karlsruhe das Nachwuchsfestival für Rock- un
	d\nPopbands\, veranstaltet von jubez\, Substage\, P8² und Tempel als Mitgl
	ieder des\nPopnetz Karlsruhe [http://popnetz.substage.de/].\n\nDie Popnetz
	region reicht etwas über den Stadt- und Landkreis Karlsruhe hinaus\nund es
	 können junge Bands/Acts aus der ganzen Region teilnehmen. Genaue Infos\nz
	ur Teilnahme findet ihr HIER [http://popnetz.substage.de/hallo-welt/].\n\n
	Bei jeder Vorrunde sind sechs junge und neue Bands/Acts auf der Bühne. Ein
	e\nFachjury und das Publikum entscheiden gemeinsam\, welche Band\, welcher
	 Act es in\ndie nächste Runde oder gar ins Finale schafft. Dabei geht es a
	ber nicht nur ums\nGewinnen oder den Wettbewerb\, sondern vor allem um gut
	e Musik und großartige\njunge Bandszene in unserer Region.\n\nTickets nur 
	an der Abendkasse! Die Eintrittskarte ist auch euer Stimmzettel für\nden P
	ublikumspreis.\n\nEinlass 18:30 Uhr\nBeginn 19:00 Uhr
URL:https://keepkarlsruheboring.org/event/new-bands-festival
GEO:49.0135;8.35882
LOCATION:Kulturzentrum Tempel - Kulturverein Tempel e.V. im Kulturzentrum T
	empel Hardtstraße 37 A D-76185 Karlsruhe
STATUS:CONFIRMED
CATEGORIES:bands rock,Music
X-ALT-DESC;FMTTYPE=text/html:<p><strong>Das Nachwuchsfestival in der Region
	 vom Popnetz Karlsruhe</strong></p><p>Schon seit 40 Jahren gibt es in Karl
	sruhe das Nachwuchsfestival für Rock- und Popbands, veranstaltet von <stro
	ng>jubez</strong>, <strong>Substage, P8²</strong>&nbsp;und <strong>Tempel<
	/strong> als Mitglieder des <a href="http://popnetz.substage.de/" target="
	_blank"><strong>Popnetz Karlsruhe</strong></a>.</p><p>Die Popnetzregion re
	icht etwas über den Stadt- und Landkreis Karlsruhe hinaus und es können ju
	nge Bands/Acts aus der ganzen Region teilnehmen. Genaue Infos zur Teilnahm
	e findet ihr <a href="http://popnetz.substage.de/hallo-welt/" target="_bla
	nk"><strong>HIER</strong></a>.</p><p>Bei jeder Vorrunde sind sechs junge u
	nd neue Bands/Acts auf der Bühne. Eine Fachjury und das Publikum entscheid
	en gemeinsam, welche Band, welcher Act es in die nächste Runde oder gar in
	s Finale schafft. Dabei geht es aber nicht nur ums Gewinnen oder den Wettb
	ewerb, sondern vor allem um gute Musik und großartige junge Bandszene in u
	nserer Region.</p><p><strong>Tickets nur an der Abendkasse! </strong>Die E
	intrittskarte ist auch euer Stimmzettel für den Publikumspreis.</p><p>Einl
	ass 18:30 Uhr<br><strong>Beginn 19:00 Uhr</strong></p>
BEGIN:VALARM
ACTION:DISPLAY
DESCRIPTION:New Bands Festival
TRIGGER:-PT1H
END:VALARM
END:VEVENT
END:VCALENDAR
